{"text_format":"1","workbook":"xlsx","n_sheets":9,"sheets":["Übersicht","01_THG-Bilanz","02_Prozess-Technologie Matrix","03_Nutzwertanalyse","04_Wirtschaftlichkeit","Ergebnisse","THG-Grafik","Nebenrechnungen","Technologie Berechnung"],"not_rendered":{"charts":14,"images":11,"macros":1,"external_links":0,"defined_names":1,"comments":3,"pivot_tables":0},"unopened":[],"bounds":{"document_bytes":16777216,"sheet_cells":100000,"rows_first":2000,"rows_last":500,"rows_between":2000,"halvings":0,"cell_chars":16384,"cell_head_chars":4096},"cells_cut":0,"cells_raw":0,"read":"whole","date_system":"1900"}

{"sheet":"Übersicht","index":0,"n_rows":32,"n_cols":6,"rows_kept":32,"cut":false,"hidden":false,"merged":[[31,1,33,16],[25,1,28,3],[14,5,14,16],[15,5,15,16],[16,5,16,16],[17,5,17,16],[18,5,18,16],[14,1,14,3],[15,1,15,3],[16,1,16,3],[17,1,17,3],[18,1,18,3]]}
[]
[]
[]
[]
[]
[]
[]
[]
[]
[]
[]
[null,"Letze Aktualisierung",null,"2021-09-15"]
[]
[null,"Übersicht:"]
[null,"1. THG Bilanz",null,null,null,"Zunächst wird der IST-Stand analysiert und eine Treibhausgas (THG) Bilanz nach dem international anerkannten GHG Protocol durchgeführt."]
[null,"2. Prozess-Technologie-Matrix",null,null,null,"Auswahl der eigenen Prozesse und Temperaturen im Betrieb. Ermittlung möglicher Technologien zur Wärme und Kältebereitstellung."]
[null,"3. Nutzwertanalyse",null,null,null,"Vergleich möglicher Technologien und unterstützte Entscheidungsfindung durch individuelle Gewichtungskriterien"]
[null,"4. Wirtschaftlichkeitsanalyse",null,null,null,"Bewertung der Wirtschaftlichkeit ausgewählter Technologien mit der verbauten Referenz"]
[null,"Ergebnisse",null,null,null,"Zusammenfassung aller Ergebnisse"]
[]
[null,"Hinweise:"]
[null,"Ausfüll und Auswahlfelder sind farblich ",null,null,null,"gekennzeichnet"]
[null,"Die Gliederungspunkte im Header können angeklickt werden und leiten direkt zu den entsprechenden Seiten"]
[]
[]
[null,"Gefördert durch den Verband Deutscher Wirtschaftsingenieure e.V. im Rahmen des VWI Fokusthema 2021"]
[]
[]
[]
[]
[]
[null,"Haftungsausschluss: Der Autor übernimmt keinerlei Gewähr für die Aktualität, Korrektheit, Vollständigkeit oder Qualität der bereitgestellten Informationen. Haftungsansprüche gegen den Autor, welche sich auf Schäden materieller oder ideeller Art beziehen, die durch die Nutzung oder Nichtnutzung der dargebotenen Informationen bzw. durch die Nutzung fehlerhafter und unvollständiger Informationen verursacht wurden, sind grundsätzlich ausgeschlossen."]

{"sheet":"01_THG-Bilanz","index":1,"n_rows":67,"n_cols":12,"rows_kept":67,"cut":false,"hidden":false,"merged":[[39,7,39,9],[42,1,42,9],[61,1,61,9],[40,1,41,2],[19,1,28,1],[64,1,64,2],[52,1,52,2],[53,1,53,2],[62,1,62,2],[59,1,59,2],[60,1,60,2],[63,1,63,2],[56,1,56,2],[58,1,58,2],[55,1,55,2],[57,1,57,2],[54,1,54,2],[16,7,16,8],[16,5,16,6],[16,3,16,4],[49,1,49,2],[51,1,51,2],[48,1,48,2],[16,1,16,2],[43,1,43,2],[44,1,44,2],[46,1,46,2],[45,1,45,2],[47,1,47,2],[50,1,50,2],[17,1,18,1],[17,2,18,2],[29,1,31,1]]}
[]
[]
[]
[]
[]
[]
[]
[]
[]
[]
[]
[]
[null,"1. Treibhausgas (THG) Bilanz nach dem GHG Protokoll"]
[]
[null,"Verwendete Emissionsfaktoren",null,null,"IPCC AR5*","Die Verwendung der IPCC AR5 Faktoren wird nach GHG Protokoll empfohlen"]
[]
[null,"letztes abgeschlossenes Jahr:",null,2017,null,{"$f":"D17-1","v":2016},null,{"$f":"F17-1","v":2015}]
[null,"Klassifikation","Energieträger","Energiebedarf","Emissionen","Energiebedarf","Emissionen","Energiebedarf","Emissionen"]
[null,null,null,"kWh/a","tCO2e /a","kWh/a","tCO2e /a","kWh/a","tCO2e /a"]
[null,"Scope 1","Erdgas",{"$f":"3100000*0.5*PI()","v":4869468.6130641792},{"$f":"IFERROR(IF(VLOOKUP($C20,$B$44:$J$61,9,FALSE)<>\"\",(VLOOKUP($C20,$B$44:$J$61,9,FALSE)/1000)*D20,IF(VLOOKUP($C20,$B$44:$J$61,8,FALSE)<>\"\",(VLOOKUP($C20,$B$44:$J$61,8,FALSE)/1000)*D20,(VLOOKUP($C20,$B$44:$J$61,7,FALSE)/1000)*D20)),\"\")","v":978.76319122590007},null,{"$f":"IFERROR(IF(VLOOKUP($C20,$B$44:$J$61,9,FALSE)<>\"\",(VLOOKUP($C20,$B$44:$J$61,9,FALSE)/1000)*F20,IF(VLOOKUP($C20,$B$44:$J$61,8,FALSE)<>\"\",(VLOOKUP($C20,$B$44:$J$61,8,FALSE)/1000)*F20,(VLOOKUP($C20,$B$44:$J$61,7,FALSE)/1000)*F20)),\"\")","v":0},null,{"$f":"IFERROR(IF(VLOOKUP($C20,$B$44:$J$61,9,FALSE)<>\"\",(VLOOKUP($C20,$B$44:$J$61,9,FALSE)/1000)*H20,IF(VLOOKUP($C20,$B$44:$J$61,8,FALSE)<>\"\",(VLOOKUP($C20,$B$44:$J$61,8,FALSE)/1000)*H20,(VLOOKUP($C20,$B$44:$J$61,7,FALSE)/1000)*H20)),\"\")","v":0}]
[null,null,null,null,{"$f":"IFERROR(IF(VLOOKUP($C21,$B$44:$J$61,9,FALSE)<>\"\",(VLOOKUP($C21,$B$44:$J$61,9,FALSE)/1000)*D21,IF(VLOOKUP($C21,$B$44:$J$61,8,FALSE)<>\"\",(VLOOKUP($C21,$B$44:$J$61,8,FALSE)/1000)*D21,(VLOOKUP($C21,$B$44:$J$61,7,FALSE)/1000)*D21)),\"\")","v":""},null,{"$f":"IFERROR(IF(VLOOKUP($C21,$B$44:$J$61,9,FALSE)<>\"\",(VLOOKUP($C21,$B$44:$J$61,9,FALSE)/1000)*F21,IF(VLOOKUP($C21,$B$44:$J$61,8,FALSE)<>\"\",(VLOOKUP($C21,$B$44:$J$61,8,FALSE)/1000)*F21,(VLOOKUP($C21,$B$44:$J$61,7,FALSE)/1000)*F21)),\"\")","v":""},null,{"$f":"IFERROR(IF(VLOOKUP($C21,$B$44:$J$61,9,FALSE)<>\"\",(VLOOKUP($C21,$B$44:$J$61,9,FALSE)/1000)*H21,IF(VLOOKUP($C21,$B$44:$J$61,8,FALSE)<>\"\",(VLOOKUP($C21,$B$44:$J$61,8,FALSE)/1000)*H21,(VLOOKUP($C21,$B$44:$J$61,7,FALSE)/1000)*H21)),\"\")","v":""}]
[null,null,null,null,"",null,"",null,""]
[null,null,null,null,"",null,"",null,""]
[null,null,null,null,"",null,"",null,""]
[null,null,null,null,"",null,"",null,""]
[null,null,null,null,"",null,"",null,""]
[null,null,null,null,"",null,"",null,""]
[null,null,null,null,"",null,"",null,""]
[null,null,null,null,"",null,"",null,""]
[null,"Scope 2","Strommix (DE)",{"$f":"5232000*0.5*PI()","v":8218406.3817908987},{"$f":"IFERROR(IF(VLOOKUP($C30,$B$63:$J$65,9,FALSE)<>\"\",(VLOOKUP($C30,$B$63:$J$65,9,FALSE)/1000)*D30,IF(VLOOKUP($C30,$B$63:$J$65,8,FALSE)<>\"\",(VLOOKUP($C30,$B$63:$J$65,8,FALSE)/1000)*D30,(VLOOKUP($C30,$B$63:$J$65,7,FALSE)/1000)*D30)),\"\")","v":3007.936735735469},null,{"$f":"IFERROR(IF(VLOOKUP($C30,$B$63:$J$65,9,FALSE)<>\"\",(VLOOKUP($C30,$B$63:$J$65,9,FALSE)/1000)*F30,IF(VLOOKUP($C30,$B$63:$J$65,8,FALSE)<>\"\",(VLOOKUP($C30,$B$63:$J$65,8,FALSE)/1000)*F30,(VLOOKUP($C30,$B$63:$J$65,7,FALSE)/1000)*F30)),\"\")","v":0},null,{"$f":"IFERROR(IF(VLOOKUP($C30,$B$63:$J$65,9,FALSE)<>\"\",(VLOOKUP($C30,$B$63:$J$65,9,FALSE)/1000)*H30,IF(VLOOKUP($C30,$B$63:$J$65,8,FALSE)<>\"\",(VLOOKUP($C30,$B$63:$J$65,8,FALSE)/1000)*H30,(VLOOKUP($C30,$B$63:$J$65,7,FALSE)/1000)*H30)),\"\")","v":0}]
[null,null,null,null,{"$f":"IFERROR(IF(VLOOKUP($C31,$B$63:$J$65,9,FALSE)<>\"\",(VLOOKUP($C31,$B$63:$J$65,9,FALSE)/1000)*D31,IF(VLOOKUP($C31,$B$63:$J$65,8,FALSE)<>\"\",(VLOOKUP($C31,$B$63:$J$65,8,FALSE)/1000)*D31,(VLOOKUP($C31,$B$63:$J$65,7,FALSE)/1000)*D31)),\"\")","v":""},null,{"$f":"IFERROR(IF(VLOOKUP($C31,$B$63:$J$65,9,FALSE)<>\"\",(VLOOKUP($C31,$B$63:$J$65,9,FALSE)/1000)*F31,IF(VLOOKUP($C31,$B$63:$J$65,8,FALSE)<>\"\",(VLOOKUP($C31,$B$63:$J$65,8,FALSE)/1000)*F31,(VLOOKUP($C31,$B$63:$J$65,7,FALSE)/1000)*F31)),\"\")","v":""},null,{"$f":"IFERROR(IF(VLOOKUP($C31,$B$63:$J$65,9,FALSE)<>\"\",(VLOOKUP($C31,$B$63:$J$65,9,FALSE)/1000)*H31,IF(VLOOKUP($C31,$B$63:$J$65,8,FALSE)<>\"\",(VLOOKUP($C31,$B$63:$J$65,8,FALSE)/1000)*H31,(VLOOKUP($C31,$B$63:$J$65,7,FALSE)/1000)*H31)),\"\")","v":""}]
[null,null,null,null,"",null,"",null,"",null,null,{"$f":"0.5*PI()","v":1.5707963267948966}]
[null,null,"Summe Scope 1",{"$f":"SUM(D20:D29)","v":4869468.6130641792},{"$f":"SUM(E20:E29)","v":978.76319122590007},0,0,0,0]
[null,null,"Summe Scope 2",{"$f":"SUM(D30:D32)","v":8218406.3817908987},{"$f":"SUM(E30:E32)","v":3007.936735735469},0,0,0,0]
[null,null,"Gesamt",{"$f":"SUM(D33:D34)","v":13087874.994855078},{"$f":"SUM(E33:E34)","v":3986.6999269613689},0,0,0,0]
[]
[]
[]
[]
[null,"Emissionsfaktoren der wichtigsten Treibhausgase",null,null,null,null,null,"CO2-Äquivalente"]
[null,"Energieträger",null,"CO2","CH4","N2O","Biogener CO2","IPCC AR5","LfU /UBA","Bafa "]
[null,null,null,"kgCO2/kWh","gCH4/kWh","gN2O/kWh","kgCO2/kWh","kgCO2e/kWh","kgCO2e/kWh","kgCO2e/kWh"]
[null,"Scope 1"]
[null,"Antrazit Kohle",null,0.3538049659390361,3.7533557964407341E-2,5.4594266130047042E-3,0,0.35630265361448576,0.35299999999999998]
[null,"Steinkohle",null,0.31828457153817424,3.7533557964407341E-2,5.4594266130047042E-3,0,0.32078225921362391,0.33500000000000002,0.33500000000000002]
[null,"Steinkohlekoks",null,0.3878581394376529,3.7533557964407341E-2,5.4594266130047042E-3,0,0.39035582711310263,0.378]
[null,"Braunkohle",null,0.33343448038926227,3.7533557964407341E-2,5.4594266130047042E-3,0,0.33593216806471199,0.40699999999999997,0.38300000000000001]
[null,"Torf",null,0,0.10918853226009408,1.4330994859137348E-2,0.38161392024902879,0.38846891278998286]
[null,"Heizöl leicht",null,0.24884748930402067,1.023642489938382E-2,2.0472849798767638E-3,0,0.24967663972087079,0.26600000000000001,0.26600000000000001]
[null,"Heizöl schwer",null,0.25625183664790829,1.023642489938382E-2,2.0472849798767638E-3,0,0.2570809870647584,0.28100000000000003,0.28799999999999998]
[null,"Erdgas",null,0.18104823505376849,3.4121416331279399E-3,3.4121416331279401E-4,0,0.18123419677277397,0.20200000000000001,0.20100000000000001]
[null,"Flüssiggas",null,0.20971022477204318,1.023642489938382E-2,2.0472849798767638E-3,0,0.21053937518889329,0.23400000000000001,0.23899999999999999]
[null,"Ottokraftstoff",null,0.23194378401225763,1.0282929148834997E-5,2.1398002853067042E-6,0,0.23279875310403125,0.26300000000000001,0.26400000000000001]
[null,"Diesel",null,0.26972050509853651,2.9719448407037562E-7,5.9438896814075123E-7,0,0.26988633962064779,0.26600000000000001,0.26600000000000001]
[null,"Biogas",null,0,1.0918853226009408E-2,2.1496492288706022E-3,0.17767021483697182,0.17854559977295079,7.0999999999999994E-2,0.152]
[null,"Holz und Holzreste",null,0,2.4567419758521166E-2,1.2283709879260583E-2,0.32005888518740078,0.32400195605864335,1.6E-2,2.7E-2]
[null,"Klärgas & Deponiegas",null,0,1.0918853226009408E-2,2.1496492288706022E-3,0.17767021483697182,0.17854559977295079,0]
[null,"Feste Siedlungsabfälle",null,0.30948124612470418,0.10918853226009408,1.4330994859137348E-2,0,0.31633623866565819,0.28799999999999998]
[null,"Landwirtschaftliche Nebenerzeugnisse",null,0,0.10918853226009408,1.4330994859137348E-2,0.40321277678672868,0.41006776932768269]
[null,"Biokraftstoffe",null,0,3.753355796440734E-3,3.7533557964407338E-4,0.27826015018158351,0.27846470807248952,8.3000000000000004E-2,4.2999999999999997E-2]
[null,"Bagasse (Reststoffe Zuckerrohr)",null,0,6.4830691029430856E-3,1.4330994859137348E-3,0.32585952596371826,0.32642082326236782]
[null,"Scope 2"]
[null,"Strommix (DE)",null,0.72869000000000006,0,0,0,0.72869000000000006,0.41599999999999998,0.36599999999999999]
[null,"Erneuerbarer Strom",null,0,0,0,0,0,0,0]
[null,"Nah-/Fernwärme",null,0.22632735452537625,4.2651770414099253E-6,4.2651770414099252E-7,0,0.22655980667413306,null,0.28000000000000003]
[null,"* Werte aus dem 5. Assessment Report des Weltklimarates IPCC nach GHG Protokoll"]
[null,"** https://lfu.brandenburg.de/cms/media.php/lbm1.a.3310.de/emissionsfaktoren_co2_2017.pdf"]

{"sheet":"02_Prozess-Technologie Matrix","index":2,"n_rows":64,"n_cols":55,"rows_kept":64,"cut":false,"hidden":false,"merged":[[55,2,55,5],[63,0,63,1],[63,2,63,5],[62,0,62,1],[62,2,62,5],[56,1,58,1],[54,0,54,1],[61,0,61,1],[61,2,61,5],[54,2,54,5],[22,50,22,54],[56,0,60,0],[23,2,24,2],[23,4,24,4],[23,9,23,37],[21,2,22,7],[21,9,22,37],[23,5,24,5],[23,7,24,7],[22,39,22,49],[23,6,24,6],[55,0,55,1],[25,0,52,0],[53,2,53,5],[21,39,21,54],[23,3,24,3],[41,1,43,1],[44,1,48,1],[38,1,40,1],[49,1,52,1],[23,1,24,1],[53,0,53,1],[25,1,35,1],[36,1,37,1]]}
[null,null,null,null,null,null,null,null," "]
[null,null,null,null,null,null,null,null," "]
[null,null,null,null,null,null,null,null," "]
[null,null,null,null,null,null,null,null," "]
[null,null,null,null,null,null,null,null," "]
[null,null,null,null,null,null,null,null," "]
[null,null,null,null,null,null,null,null," "]
[null,null,null,null,null,null,null,null," "]
[null,null,null,null,null,null,null,null,"  "]
[null,null,null,null,null,null,null,null," "]
[null,null,null,null,null,null,null,null," "]
[null,null,null,null,null,null,null,null," "]
[null,"2. Prozess-Technologie-Matrix",null,null,null,null,null,null," "]
[null,null,null,null,null,null,null,null," "]
[null,"Hinweis:",null,null,null,null,null,null," "]
[null,"Teilbereiche können zur Verbesserung der Übersichtlichkeit über das (-) Symbol aus und (+) eingeblendet werden!",null,null,null,null,null,null," ",null,null,null,null,null,null,null,null,null,null,null,null,null,null,null,null,null,null,null,null,null,null,null,null,null,null,null,null,null,null,"Legende"]
[null,"Schritt 1: Auswählen der eigenen thermischen Prozesse oder Branche über die Filterfunktion (Pfeil nach unten) (ggf. Definition weiterer Prozesse); Prozessbeschreibungen anschließend ausblenden (-)",null,null,null,null,null,null,"  ",null,null,null,null,null,null,null,null,null,null,null,null,null,null,null,null,null,null,null,null,null,null,null,null,null,null,null,null,null,null,null,"Höchsttemperatur mit Technologie möglich"]
[null,"Schritt 2: Ablesen des erforderlichen Temperaturbereichs der eigenen Wärme- und Kältebedarfe; Temperaturbereic anschließend ausblenden (-)",null,null,null,null,null,null," ",null,null,null,null,null,null,null,null,null,null,null,null,null,null,null,null,null,null,null,null,null,null,null,null,null,null,null,null,null,null,null,"Mindesttemperatur mit Technologie möglich"]
[null,"Schritt 3: Ablesen der in Frage kommenden Technologien, die für eine Wärmeversorgung (rot) und Kälteversorgung (blau) genutzt werden können",null,null,null,null,null,null," ","Legende",null,null,null,null,null,null,null,null,null,null,null,null,null,null,null,null,null,null,null,null,null,null,null,null,null,null,null,null,null,null,"Tiefstemperatur mit Technologie möglich"]
[null,null,null,null,null,null,null,null,"  ",null,"Temperaturbereich des ausgewählten Prozesses",null,null,null,null,null,null,null,null,null,null,null,null,null,null,null,null,null,null,null,null,null,null,null,null,null,null,null,null,null,"Prozesse sind nicht mit der Technologie kompatibel"]
[null,null,null,null,null,null,null,null," "]
[null,null,"Schritt 1: Thermische Prozesse auswählen",null,null,null,null,null," ","Schritt 2: Temperaturbereich ablesen",null,null,null,null,null,null,null,null,null,null,null,null,null,null,null,null,null,null,null,null,null,null,null,null,null,null,null,null,null,"Schritt 3: Technologien ablesen"]
[null,null,null,null,null,null,null,null," ",null,null,null,null,null,null,null,null,null,null,null,null,null,null,null,null,null,null,null,null,null,null,null,null,null,null,null,null,null,null,"Wärmeerzeugung",null,null,null,null,null,null,null,null,null,null,"Kälteerzeugung"]
[null,"Prozessklasse","Prozesse","Prozessbeschreibung","Branchen","Dampf notwendig (X)","Min [°C]","Max [°C]"," ","Temperaturbereiche\n",null,null,null,null,null,null,null,null,null,null,null,null,null,null,null,null,null,null,null,null,null,null,null,null,null,null,null,null,null,"Wärmepumpe (Sole, Wasser, Luft)","Hochtemperatur Wärmepumpe","Höchstemperatur-Wärmepume","Solarthermie Flachkollektor","Solarthermie Vakuumröhrenkollektor","Konzentrierende Solarthermie","Biogas BW Kessel","Holzpellet-Kessel","Holzhackschnitzel-Kessel","Elektrokessel","Elektrodenkessel","Absorptionskälteanlagen (LiBr)","Absorptionskälteanlagen (Ammoniak)","Vakuum-Absorptionskälteanlagen (Ammoniak)","Adsorptionskälteanlage","Kompressionskälte "]
[null,null,null,null,null,null,null,null," ",-40,-30,-20,-10,0,10,20,30,40,50,60,70,80,90,100,120,130,140,150,160,170,180,190,200,210,220,230,240,250,null,80,120,160,80,120,400,500,500,500,160,240,5,-33,-60,-60,-33]
["Erwärmen","Erhitzen","Kochen","Garen von Lebensmitteln in flüssigem Wasser beim Siedepunkt","10.13; 10.32; 11.05; 11.07; 10.82; 10.73",null,70,160,"  "]
[null,null,"Vakuumkochen","Garen von Lebensmitteln unter Vakuumatmosphäre zum Erhalt von Aromen und Reduzieren von Oxidation","10.39;",null,65,80,"  "]
[null,null,"Braten","Trockenes Garen bei hoher Temperatur zur Bildung von Aromastoffen (Maillard-Reaktion)","10.13;",null,100,200,"  "]
[null,null,"Rösten","Trockenes und fettloses Erhitzen von pflanzlichen Lebensmitteln für Aromabildung und Feuchtigkeitsentzug","10.82;",null,130,300," "]
[null,null,"Backen","Garen von Backwaren im Backofen in trockener Heißluft oder Schwaden","10.71; 10.82",null,150,250," "]
[null,null,"Räuchern","Konservieren und Aromatisieren von Räuchergut durch Verschwelen eines Räuchermaterials","10.13;",null,50,85," "]
[null,null,"Blanchieren","Kurzzeitige Erhitzung von Lebensmitteln in siedendem Wasser oder Wasserdampf","10.39;",null,75,110," "]
[null,null,"Frittieren","Garen von Lebensmitteln in Fett bei hohen Temperaturen","10.13;",null,140,180," "]
[null,null,"Schmelzen","Phasenübergang von fest nach flüssig durch Wärmezufuhr","10.41; 10.42",null,30,60," "]
[null,null,"Wärmebehandeln","Inaktivierung von Mikroorganismen","10.51; 10.52",null,40,95," "]
[null,null,"Dämpfen","Garen von Lebensmitteln in Dampf und Anhebung der Produktfeuchtigkeit und Temperatur","10.61; 10.62","X",100,120," "]
[null,"Trocknen ","Trocknen ","Austreiben von Wasser aus den zu trocknenden Produkten (z.B. Walzentrocknung, Sprühtrocknung,…)","alle",null,10,145," "]
[null,null,"Sprühtrocknen","Trocknen eines Produktes durch zersteuben in einem Heißgasstrom","10.51; 10.52",null,95,250," "]
[null,"Struktur bilden & umwandeln","Eindampfen","Trennen eines Stoffes von seinem Lösungsmittel (z.B. Wasser)","10.39; 10.41; 10.42; 10.51; 10.52; 10.82","X",45,120," "]
[null,null,"Gären","Wärmebehandlung von Lebensmitteln zur Veränderung von Konsistenz, Geschmack oder Verdaulichkeit","10.71; 10.72; 11.01","X",20,32," "]
[null,null,"Hydrieren / Fetthärten","Verfestigung von Ölen und Fetten durch einbringen von Wasserstoff an die Doppelbindungen der Fettsäuren","10.41; 10.42","X",120,180," "]
[null,"Konservieren","Pasteurisieren","Haltbarmachung von Lebensmitteln durch Erwärmen auf 70 bis 100 °C","10.13; 10.32; 11.05; 11.07; 10.39; 10.51; 10.52; 10.73; 11.01",null,70,95," "]
[null,null,"UHT-Erhitzen","Konservierung von Lebensmittel durch kurzzeitige Erhitzen und anschließendes kühlen","10.51; 10.52",null,135,150," "]
[null,null,"Sterilisieren","Entfernen von Mikroorganismen und Viren durch Erhitzen über eine definierte Dauer","10.13; 10.51; 10.52",null,117,160," "]
[null,"Trennen","Destillieren","Thermisches Trennverfahren durch Verdampfen von Stoffgemischen mit unterschiedlichen Siedepunkten","11.01;",null,80,100," "]
[null,null,"Rektifizieren","Thermisches Trennnverfahren durch mehrfache Destillation mit Dampf und Flüssigkeit im Gegenstrom","11.01;","X",80,100," "]
[null,null,"Entkeimen","Entfernen von Mikroorganismen im Keimstadium","11.06;",null,60,160," "]
[null,null,"Exthrahieren","Trennen von Stoffgemischen mittels Extraktionsmittel (z.B. überkritisches CO2)","10.41; 10.42",null,10,97," "]
[null,null,"Baktofugieren","Entfernen von Mikroorganismen aus Rohmilch durch Zentrifugieren und erhitzen der abgetrennten Stoffe","10.51; 10.52",null,57,68," "]
[null,"Reinigen","Reinigen","Reinigen von Rohrleitungen, Anlagen, Produktionsräumen oder Tanks","alle",null,20,80," "]
[null,null,"Waschen","Reinigen von Behältnissen (z.B. Flaschen, Kisten,…)","alle",null,60,80,"  "]
[null,null,"Spülen",null,"alle",null,60,80," "]
[null,null,"CIP-Reinigung",null,"alle",null,60,80," "]
["Eigener Heizprozess 1",null,null,null,null,null,null,null," "]
["Eigener Heizprozess 2",null,null,null,null,null,null,null," "]
["Eigener Heizprozess 3",null,null,null,null,null,null,null," "]
["Kühlen","Kühlen","Kühlen",null,"alle",null,0,15," "]
[null,null,"Gefrieren",null,"10.39; 10.51; 10.52; 10.73",null,-20,0," "]
[null,null,"Tiefkühlen",null,"10.13; 10.71; 10.72",null,-45,-20," "]
[null,"Konservieren","Schockgefrieren",null,"10.71; 10.72",null,-40,-30," "]
[null,"Trocknen ","Gefriertrocknen",null,"10.13; 10.82",null,-20,-10," "]
["Eigener Kühlprozess 1",null,null,null,null,null,null,null," "]
["Eigener Kühlprozess 2",null,null,null,null,null,null,null," "]
["Eigener Kühlprozess 3",null,null,null,null,null,null,null," "]

{"sheet":"03_Nutzwertanalyse","index":3,"n_rows":64,"n_cols":13,"rows_kept":64,"cut":false,"hidden":false,"merged":[[35,7,35,9],[35,10,35,12],[27,1,27,3],[35,4,35,6],[20,6,20,8],[28,6,28,12],[29,6,29,7],[43,10,43,12],[21,6,21,7],[22,6,22,7],[21,1,21,2],[21,3,21,4],[28,1,28,3],[29,1,29,3],[30,1,30,3],[31,1,31,3],[30,6,30,7],[31,6,31,7],[32,6,32,7],[23,1,23,3],[36,10,36,12],[36,7,36,9],[39,7,39,9],[36,1,36,3],[57,4,57,6],[56,4,56,6],[40,1,40,3],[49,1,49,3],[52,1,52,3],[40,4,40,6],[49,4,49,6],[52,4,52,6],[36,4,36,6],[37,4,37,6],[38,4,38,6],[46,4,46,6],[44,4,44,6],[43,4,43,6],[46,1,46,3],[44,1,44,3],[43,1,43,3],[40,7,40,9],[46,7,46,9],[37,10,37,12],[38,10,38,12],[42,1,42,3],[39,1,39,3],[37,7,37,9],[38,7,38,9],[42,4,42,6],[37,1,37,3],[39,4,39,6],[38,1,38,3],[42,7,42,9],[47,10,47,12],[54,7,54,9],[47,7,47,9],[56,10,56,12],[48,7,48,9],[43,7,43,9],[44,7,44,9],[20,1,20,4],[22,1,22,3],[34,1,34,12],[24,1,24,3],[25,1,25,3],[25,6,25,7],[24,6,24,7],[20,9,20,12],[23,6,23,7],[46,10,46,12],[48,10,48,12],[50,10,50,12],[50,7,50,9],[44,10,44,12],[40,10,40,12],[39,10,39,12],[42,10,42,12],[26,1,26,3],[26,6,26,7],[57,10,57,12],[52,10,52,12],[58,10,58,12],[50,4,50,6],[57,7,57,9],[58,1,58,3],[58,4,58,6],[47,4,47,6],[54,4,54,6],[58,7,58,9],[48,4,48,6],[54,1,54,3],[50,1,50,3],[48,1,48,3],[57,1,57,3],[47,1,47,3],[56,1,56,3],[56,7,56,9],[52,7,52,9],[49,7,49,9],[49,10,49,12],[54,10,54,12]]}
[]
[]
[]
[]
[]
[]
[]
[]
[]
[]
[]
[]
[null,"3. Nutzwertanalyse"]
[]
[null,"Hinweis:"]
[null,"Ziel: Auswahl der ökologisch und wirtschaftlich sinnvollsten Technologie"]
[null,"Schritt 1 & 2: Eingeben der idividuellen Daten des eigenen Betriebs"]
[null,"Schritt 3: Festlegen der Gewichtungsfaktoren über Schieberegler"]
[null,"Ergebnis sind die drei am besten geeigneten Technologien für den Anwendungsfall"]
[]
[null,"Schritt 1: Kriterien & Eckdaten des Prozesses",null,null,null,null,"Schritt 2: Energiebezugspreise",null,null,"Individuelle Eingabe von Preisen"]
[null,"Prozessart",null,null,null,null,{"$f":"'Technologie Berechnung'!M3","v":"Ökostrompreis [€/MWh]"},null,{"$f":"'Technologie Berechnung'!N3","v":210},null,null,null,167]
[null,"Benötigte Temperatur [°C]",null,null,120,null,{"$f":"'Technologie Berechnung'!M4","v":"Wärmepreis [€/MWh]"},null,{"$f":"'Technologie Berechnung'!N4","v":70},null,null,null,38.9]
[null,"Benötigte Leistung [kW]",null,null,4000," ",{"$f":"'Technologie Berechnung'!M5","v":"Biomethanpreis [€/MWh]"},null,{"$f":"'Technologie Berechnung'!N5","v":65},null,null,null,55]
[null,"Benötigte Nutzenergiemenge (Wärme/Kälte)*",null,null,615,null,{"$f":"'Technologie Berechnung'!M6","v":"Holzpelletpreis [€/MWh]"},null,{"$f":"'Technologie Berechnung'!N6","v":53.163211057947905},null,null,null,50]
[null,"Kalkulatorische Kapitalkosten [%]",null,null,0.05,null,{"$f":"'Technologie Berechnung'!M7","v":"Holzhackschnitzel [€/MWh]"},null,{"$f":"'Technologie Berechnung'!N7","v":25},null,null,null,35]
[null,"Wird oder soll Öko-Strom bezogen werden?",null,null,null,null,{"$f":"'Technologie Berechnung'!M8","v":"Erdgaspreis Industrie  [€/MWh]"},null,{"$f":"'Technologie Berechnung'!N8","v":25.3},null,null,null,50]
[null,"Nutzbare Flächen im Gebäude vorhanden?"]
[null,"Nutzbare Dachflächen vorhanden?",null,null,null,null,"Schritt 3: Gewichtung von Entscheidungsparametern"]
[null,"Nutzbare Freiflächen vorhanden?",null,null,null,null,"Investitionssumme",null,"Vernachlässigbar",null,null,null,"sehr wichtig"]
[null,"Marktreife der Technologie ist zwingend?",null,null,null,null,"Betriebskosten",null,"Vernachlässigbar",null,null,null,"sehr wichtig"]
[null,"Abwärme zur Kälteerzeugung vorhanden?",null,null,null,null,"Platzbedarf",null,"Vernachlässigbar",null,null,null,"sehr wichtig"]
[null,"* Es wird unterstellt, dass der Prozess in gänze ersetzt wird. Eine anteilige Ersetzung ist jedoch ebenfalls möglich ",null,null,null,null,"CO2-Emissionen",null,"Vernachlässigbar",null,null,null,"sehr wichtig"]
[]
[null,{"$f":"IF(E37=\"\",\"Keine passende Technologie gefunden, bitte überprüfen die die eingegebenen Kriterien\",\"Ergebnis: Nachstehend finden Sie die drei Technologien mit der größten Übereinstimmung mit Ihren Angaben.\")","v":"Ergebnis: Nachstehend finden Sie die drei Technologien mit der größten Übereinstimmung mit Ihren Angaben."}]
[null,null,null,null,1,null,null,2,null,null,3]
[null,"Technologie",null,null,{"$f":"IF(LARGE('Technologie Berechnung'!$D$86:$V$86,'03_Nutzwertanalyse'!E$36)=0,\"\",HLOOKUP(LARGE('Technologie Berechnung'!$D$86:$V$86,'03_Nutzwertanalyse'!E$36),'Technologie Berechnung'!$D$86:$V$110,4,FALSE))","v":"Holzhackschnitzelkessel"},null,null,{"$f":"IF(LARGE('Technologie Berechnung'!$D$86:$V$86,'03_Nutzwertanalyse'!H$36)=0,\"\",HLOOKUP(LARGE('Technologie Berechnung'!$D$86:$V$86,'03_Nutzwertanalyse'!H$36),'Technologie Berechnung'!$D$86:$V$110,4,FALSE))","v":"Vakuumröhrenkollektor"},null,null,{"$f":"IF(LARGE('Technologie Berechnung'!$D$86:$V$86,'03_Nutzwertanalyse'!K$36)=0,\"\",HLOOKUP(LARGE('Technologie Berechnung'!$D$86:$V$86,'03_Nutzwertanalyse'!K$36),'Technologie Berechnung'!$D$86:$V$110,4,FALSE))","v":"Holzpelletkessel"}]
[null,"Einsatzbereich ",null,null,{"$f":"IF(LARGE('Technologie Berechnung'!$D$86:$V$86,'03_Nutzwertanalyse'!E$36)=0,\"\",HLOOKUP(LARGE('Technologie Berechnung'!$D$86:$V$86,'03_Nutzwertanalyse'!E$36),'Technologie Berechnung'!$D$86:$V$110,5,FALSE))","v":"Wärme | 20°C bis 500°C"},null,null,{"$f":"IF(LARGE('Technologie Berechnung'!$D$86:$V$86,'03_Nutzwertanalyse'!H$36)=0,\"\",HLOOKUP(LARGE('Technologie Berechnung'!$D$86:$V$86,'03_Nutzwertanalyse'!H$36),'Technologie Berechnung'!$D$86:$V$110,5,FALSE))","v":"Wärme | 20°C bis 120°C"},null,null,{"$f":"IF(LARGE('Technologie Berechnung'!$D$86:$V$86,'03_Nutzwertanalyse'!K$36)=0,\"\",HLOOKUP(LARGE('Technologie Berechnung'!$D$86:$V$86,'03_Nutzwertanalyse'!K$36),'Technologie Berechnung'!$D$86:$V$110,5,FALSE))","v":"Wärme | 20°C bis 500°C"}]
[null,"Energiequelle",null,null,{"$f":"IF(LARGE('Technologie Berechnung'!$D$86:$V$86,'03_Nutzwertanalyse'!E$36)=0,\"\",HLOOKUP(LARGE('Technologie Berechnung'!$D$86:$V$86,'03_Nutzwertanalyse'!E$36),'Technologie Berechnung'!$D$86:$V$110,6,FALSE))","v":"Holzhackschnitzel"},null,null,{"$f":"IF(LARGE('Technologie Berechnung'!$D$86:$V$86,'03_Nutzwertanalyse'!H$36)=0,\"\",HLOOKUP(LARGE('Technologie Berechnung'!$D$86:$V$86,'03_Nutzwertanalyse'!H$36),'Technologie Berechnung'!$D$86:$V$110,6,FALSE))","v":"Solarstrahlung"},null,null,{"$f":"IF(LARGE('Technologie Berechnung'!$D$86:$V$86,'03_Nutzwertanalyse'!K$36)=0,\"\",HLOOKUP(LARGE('Technologie Berechnung'!$D$86:$V$86,'03_Nutzwertanalyse'!K$36),'Technologie Berechnung'!$D$86:$V$110,6,FALSE))","v":"Holzpellets"}]
[null,"Realisierbare Vollbenutzungsstunden",null,null,{"$f":"IF(LARGE('Technologie Berechnung'!$D$86:$V$86,'03_Nutzwertanalyse'!E$36)=0,\"\",HLOOKUP(LARGE('Technologie Berechnung'!$D$86:$V$86,'03_Nutzwertanalyse'!E$36),'Technologie Berechnung'!$D$86:$V$110,7,FALSE))","v":7500},null,null,{"$f":"IF(LARGE('Technologie Berechnung'!$D$86:$V$86,'03_Nutzwertanalyse'!H$36)=0,\"\",HLOOKUP(LARGE('Technologie Berechnung'!$D$86:$V$86,'03_Nutzwertanalyse'!H$36),'Technologie Berechnung'!$D$86:$V$110,7,FALSE))","v":1500},null,null,{"$f":"IF(LARGE('Technologie Berechnung'!$D$86:$V$86,'03_Nutzwertanalyse'!K$36)=0,\"\",HLOOKUP(LARGE('Technologie Berechnung'!$D$86:$V$86,'03_Nutzwertanalyse'!K$36),'Technologie Berechnung'!$D$86:$V$110,7,FALSE))","v":7500}]
[null,"Nutzungsdauer",null,null,{"$f":"IF(LARGE('Technologie Berechnung'!$D$86:$V$86,'03_Nutzwertanalyse'!E$36)=0,\"\",HLOOKUP(LARGE('Technologie Berechnung'!$D$86:$V$86,'03_Nutzwertanalyse'!E$36),'Technologie Berechnung'!$D$86:$V$110,8,FALSE))","v":"15 Jahre"},null,null,{"$f":"IF(LARGE('Technologie Berechnung'!$D$86:$V$86,'03_Nutzwertanalyse'!H$36)=0,\"\",HLOOKUP(LARGE('Technologie Berechnung'!$D$86:$V$86,'03_Nutzwertanalyse'!H$36),'Technologie Berechnung'!$D$86:$V$110,8,FALSE))","v":"18 Jahre"},null,null,{"$f":"IF(LARGE('Technologie Berechnung'!$D$86:$V$86,'03_Nutzwertanalyse'!K$36)=0,\"\",HLOOKUP(LARGE('Technologie Berechnung'!$D$86:$V$86,'03_Nutzwertanalyse'!K$36),'Technologie Berechnung'!$D$86:$V$110,8,FALSE))","v":"15 Jahre"}]
[]
[null,"Spez. Investiton",null,null,{"$f":"IF(LARGE('Technologie Berechnung'!$D$86:$V$86,'03_Nutzwertanalyse'!E$36)=0,\"\",HLOOKUP(LARGE('Technologie Berechnung'!$D$86:$V$86,'03_Nutzwertanalyse'!E$36),'Technologie Berechnung'!$D$86:$V$110,10,FALSE))","v":264},null,null,{"$f":"IF(LARGE('Technologie Berechnung'!$D$86:$V$86,'03_Nutzwertanalyse'!H$36)=0,\"\",HLOOKUP(LARGE('Technologie Berechnung'!$D$86:$V$86,'03_Nutzwertanalyse'!H$36),'Technologie Berechnung'!$D$86:$V$110,10,FALSE))","v":1384},null,null,{"$f":"IF(LARGE('Technologie Berechnung'!$D$86:$V$86,'03_Nutzwertanalyse'!K$36)=0,\"\",HLOOKUP(LARGE('Technologie Berechnung'!$D$86:$V$86,'03_Nutzwertanalyse'!K$36),'Technologie Berechnung'!$D$86:$V$110,10,FALSE))","v":305}]
[null,"Gesamtinvestition",null,null,{"$f":"IF(LARGE('Technologie Berechnung'!$D$86:$V$86,'03_Nutzwertanalyse'!E$36)=0,\"\",HLOOKUP(LARGE('Technologie Berechnung'!$D$86:$V$86,'03_Nutzwertanalyse'!E$36),'Technologie Berechnung'!$D$86:$V$110,11,FALSE))","v":1057830.7168757692},null,null,{"$f":"IF(LARGE('Technologie Berechnung'!$D$86:$V$86,'03_Nutzwertanalyse'!H$36)=0,\"\",HLOOKUP(LARGE('Technologie Berechnung'!$D$86:$V$86,'03_Nutzwertanalyse'!H$36),'Technologie Berechnung'!$D$86:$V$110,11,FALSE))","v":5534773.0415019905},null,null,{"$f":"IF(LARGE('Technologie Berechnung'!$D$86:$V$86,'03_Nutzwertanalyse'!K$36)=0,\"\",HLOOKUP(LARGE('Technologie Berechnung'!$D$86:$V$86,'03_Nutzwertanalyse'!K$36),'Technologie Berechnung'!$D$86:$V$110,11,FALSE))","v":1219800.6727231806}]
[null,"Genauigkeit",null,null,{"$f":"IF(LARGE('Technologie Berechnung'!$D$86:$V$86,'03_Nutzwertanalyse'!E$36)=0,\"\",HLOOKUP(LARGE('Technologie Berechnung'!$D$86:$V$86,'03_Nutzwertanalyse'!E$36),'Technologie Berechnung'!$D$86:$V$110,12,FALSE))","v":"2 - Aus einer Studie basierend auf umgesetzten Projekten"},null,null,{"$f":"IF(LARGE('Technologie Berechnung'!$D$86:$V$86,'03_Nutzwertanalyse'!H$36)=0,\"\",HLOOKUP(LARGE('Technologie Berechnung'!$D$86:$V$86,'03_Nutzwertanalyse'!H$36),'Technologie Berechnung'!$D$86:$V$110,12,FALSE))","v":"1 - Regression Umgesetzter Projekte"},null,null,{"$f":"IF(LARGE('Technologie Berechnung'!$D$86:$V$86,'03_Nutzwertanalyse'!K$36)=0,\"\",HLOOKUP(LARGE('Technologie Berechnung'!$D$86:$V$86,'03_Nutzwertanalyse'!K$36),'Technologie Berechnung'!$D$86:$V$110,12,FALSE))","v":"2 - Aus einer Studie basierend auf umgesetzten Projekten"}]
[]
[null,"Wirkungsgrad / COP",null,null,{"$f":"IF(LARGE('Technologie Berechnung'!$D$86:$V$86,'03_Nutzwertanalyse'!E$36)=0,\"\",HLOOKUP(LARGE('Technologie Berechnung'!$D$86:$V$86,'03_Nutzwertanalyse'!E$36),'Technologie Berechnung'!$D$86:$V$110,14,FALSE))","v":0.8},null,null,{"$f":"IF(LARGE('Technologie Berechnung'!$D$86:$V$86,'03_Nutzwertanalyse'!H$36)=0,\"\",HLOOKUP(LARGE('Technologie Berechnung'!$D$86:$V$86,'03_Nutzwertanalyse'!H$36),'Technologie Berechnung'!$D$86:$V$110,14,FALSE))","v":0.8},null,null,{"$f":"IF(LARGE('Technologie Berechnung'!$D$86:$V$86,'03_Nutzwertanalyse'!K$36)=0,\"\",HLOOKUP(LARGE('Technologie Berechnung'!$D$86:$V$86,'03_Nutzwertanalyse'!K$36),'Technologie Berechnung'!$D$86:$V$110,14,FALSE))","v":0.85}]
[null,"Endenergiebezug",null,null,{"$f":"IF(LARGE('Technologie Berechnung'!$D$86:$V$86,'03_Nutzwertanalyse'!E$36)=0,\"\",HLOOKUP(LARGE('Technologie Berechnung'!$D$86:$V$86,'03_Nutzwertanalyse'!E$36),'Technologie Berechnung'!$D$86:$V$110,15,FALSE))","v":768.8},null,null,{"$f":"IF(LARGE('Technologie Berechnung'!$D$86:$V$86,'03_Nutzwertanalyse'!H$36)=0,\"\",HLOOKUP(LARGE('Technologie Berechnung'!$D$86:$V$86,'03_Nutzwertanalyse'!H$36),'Technologie Berechnung'!$D$86:$V$110,15,FALSE))","v":0},null,null,{"$f":"IF(LARGE('Technologie Berechnung'!$D$86:$V$86,'03_Nutzwertanalyse'!K$36)=0,\"\",HLOOKUP(LARGE('Technologie Berechnung'!$D$86:$V$86,'03_Nutzwertanalyse'!K$36),'Technologie Berechnung'!$D$86:$V$110,15,FALSE))","v":723.5}]
[null,"Betriebs- und Wartungskosten",null,null,{"$f":"IF(LARGE('Technologie Berechnung'!$D$86:$V$86,'03_Nutzwertanalyse'!E$36)=0,\"\",HLOOKUP(LARGE('Technologie Berechnung'!$D$86:$V$86,'03_Nutzwertanalyse'!E$36),'Technologie Berechnung'!$D$86:$V$110,16,FALSE))","v":83689},null,null,{"$f":"IF(LARGE('Technologie Berechnung'!$D$86:$V$86,'03_Nutzwertanalyse'!H$36)=0,\"\",HLOOKUP(LARGE('Technologie Berechnung'!$D$86:$V$86,'03_Nutzwertanalyse'!H$36),'Technologie Berechnung'!$D$86:$V$110,16,FALSE))","v":83272},null,null,{"$f":"IF(LARGE('Technologie Berechnung'!$D$86:$V$86,'03_Nutzwertanalyse'!K$36)=0,\"\",HLOOKUP(LARGE('Technologie Berechnung'!$D$86:$V$86,'03_Nutzwertanalyse'!K$36),'Technologie Berechnung'!$D$86:$V$110,16,FALSE))","v":112403}]
[null,"Spez. Betriebskosten",null,null,{"$f":"IF(LARGE('Technologie Berechnung'!$D$86:$V$86,'03_Nutzwertanalyse'!E$36)=0,\"\",HLOOKUP(LARGE('Technologie Berechnung'!$D$86:$V$86,'03_Nutzwertanalyse'!E$36),'Technologie Berechnung'!$D$86:$V$110,17,FALSE))","v":13.608000000000001},null,null,{"$f":"IF(LARGE('Technologie Berechnung'!$D$86:$V$86,'03_Nutzwertanalyse'!H$36)=0,\"\",HLOOKUP(LARGE('Technologie Berechnung'!$D$86:$V$86,'03_Nutzwertanalyse'!H$36),'Technologie Berechnung'!$D$86:$V$110,17,FALSE))","v":13.54},null,null,{"$f":"IF(LARGE('Technologie Berechnung'!$D$86:$V$86,'03_Nutzwertanalyse'!K$36)=0,\"\",HLOOKUP(LARGE('Technologie Berechnung'!$D$86:$V$86,'03_Nutzwertanalyse'!K$36),'Technologie Berechnung'!$D$86:$V$110,17,FALSE))","v":18.277000000000001}]
[null,"Genauigkeit",null,null,{"$f":"IF(LARGE('Technologie Berechnung'!$D$86:$V$86,'03_Nutzwertanalyse'!E$36)=0,\"\",HLOOKUP(LARGE('Technologie Berechnung'!$D$86:$V$86,'03_Nutzwertanalyse'!E$36),'Technologie Berechnung'!$D$86:$V$110,18,FALSE))","v":"3 - Energiekosten zzgl. Mittelwerte aus VDI 2067"},null,null,{"$f":"IF(LARGE('Technologie Berechnung'!$D$86:$V$86,'03_Nutzwertanalyse'!H$36)=0,\"\",HLOOKUP(LARGE('Technologie Berechnung'!$D$86:$V$86,'03_Nutzwertanalyse'!H$36),'Technologie Berechnung'!$D$86:$V$110,18,FALSE))","v":"3 - Energiekosten zzgl. Mittelwerte aus VDI 2067"},null,null,{"$f":"IF(LARGE('Technologie Berechnung'!$D$86:$V$86,'03_Nutzwertanalyse'!K$36)=0,\"\",HLOOKUP(LARGE('Technologie Berechnung'!$D$86:$V$86,'03_Nutzwertanalyse'!K$36),'Technologie Berechnung'!$D$86:$V$110,18,FALSE))","v":"3 - Energiekosten zzgl. Mittelwerte aus VDI 2067"}]
[]
[null,"Wärmegestehungskosten",null,null,{"$f":"IF(LARGE('Technologie Berechnung'!$D$86:$V$86,'03_Nutzwertanalyse'!E$36)=0,\"\",HLOOKUP(LARGE('Technologie Berechnung'!$D$86:$V$86,'03_Nutzwertanalyse'!E$36),'Technologie Berechnung'!$D$86:$V$110,20,FALSE))","v":30.178999999999998},null,null,{"$f":"IF(LARGE('Technologie Berechnung'!$D$86:$V$86,'03_Nutzwertanalyse'!H$36)=0,\"\",HLOOKUP(LARGE('Technologie Berechnung'!$D$86:$V$86,'03_Nutzwertanalyse'!H$36),'Technologie Berechnung'!$D$86:$V$110,20,FALSE))","v":90.528999999999996},null,null,{"$f":"IF(LARGE('Technologie Berechnung'!$D$86:$V$86,'03_Nutzwertanalyse'!K$36)=0,\"\",HLOOKUP(LARGE('Technologie Berechnung'!$D$86:$V$86,'03_Nutzwertanalyse'!K$36),'Technologie Berechnung'!$D$86:$V$110,20,FALSE))","v":37.386000000000003}]
[]
[null,"CO2-Emission (CO2-Äq.)",null,null,{"$f":"IF(LARGE('Technologie Berechnung'!$D$86:$V$86,'03_Nutzwertanalyse'!E$36)=0,\"\",HLOOKUP(LARGE('Technologie Berechnung'!$D$86:$V$86,'03_Nutzwertanalyse'!E$36),'Technologie Berechnung'!$D$86:$V$110,22,FALSE))","v":20.756},null,null,{"$f":"IF(LARGE('Technologie Berechnung'!$D$86:$V$86,'03_Nutzwertanalyse'!H$36)=0,\"\",HLOOKUP(LARGE('Technologie Berechnung'!$D$86:$V$86,'03_Nutzwertanalyse'!H$36),'Technologie Berechnung'!$D$86:$V$110,22,FALSE))","v":0},null,null,{"$f":"IF(LARGE('Technologie Berechnung'!$D$86:$V$86,'03_Nutzwertanalyse'!K$36)=0,\"\",HLOOKUP(LARGE('Technologie Berechnung'!$D$86:$V$86,'03_Nutzwertanalyse'!K$36),'Technologie Berechnung'!$D$86:$V$110,22,FALSE))","v":19.535}]
[]
[null,"Platzbedarf",null,null,{"$f":"IF(LARGE('Technologie Berechnung'!$D$86:$V$86,'03_Nutzwertanalyse'!E$36)=0,\"\",HLOOKUP(LARGE('Technologie Berechnung'!$D$86:$V$86,'03_Nutzwertanalyse'!E$36),'Technologie Berechnung'!$D$86:$V$110,24,FALSE))","v":"18,5 m² | Kessel + Hachschnitzellager"},null,null,{"$f":"IF(LARGE('Technologie Berechnung'!$D$86:$V$86,'03_Nutzwertanalyse'!H$36)=0,\"\",HLOOKUP(LARGE('Technologie Berechnung'!$D$86:$V$86,'03_Nutzwertanalyse'!H$36),'Technologie Berechnung'!$D$86:$V$110,24,FALSE))","v":"5720 m² | Kolektoren"},null,null,{"$f":"IF(LARGE('Technologie Berechnung'!$D$86:$V$86,'03_Nutzwertanalyse'!K$36)=0,\"\",HLOOKUP(LARGE('Technologie Berechnung'!$D$86:$V$86,'03_Nutzwertanalyse'!K$36),'Technologie Berechnung'!$D$86:$V$110,24,FALSE))","v":"15,9 m² | Kessel + Pelletlager"}]
[null,"Flächenart",null,null,{"$f":"IF(LARGE('Technologie Berechnung'!$D$86:$V$86,'03_Nutzwertanalyse'!E$36)=0,\"\",HLOOKUP(LARGE('Technologie Berechnung'!$D$86:$V$86,'03_Nutzwertanalyse'!E$36),'Technologie Berechnung'!$D$86:$V$110,25,FALSE))","v":"Im Gebäude | Freifläche"},null,null,{"$f":"IF(LARGE('Technologie Berechnung'!$D$86:$V$86,'03_Nutzwertanalyse'!H$36)=0,\"\",HLOOKUP(LARGE('Technologie Berechnung'!$D$86:$V$86,'03_Nutzwertanalyse'!H$36),'Technologie Berechnung'!$D$86:$V$110,25,FALSE))","v":"Dachfläche | Freifläche"},null,null,{"$f":"IF(LARGE('Technologie Berechnung'!$D$86:$V$86,'03_Nutzwertanalyse'!K$36)=0,\"\",HLOOKUP(LARGE('Technologie Berechnung'!$D$86:$V$86,'03_Nutzwertanalyse'!K$36),'Technologie Berechnung'!$D$86:$V$110,25,FALSE))","v":"Im Gebäude | Freifläche"}]
[null,"Genauigkeit",null,null,{"$f":"IF(LARGE('Technologie Berechnung'!$D$86:$V$86,'03_Nutzwertanalyse'!E$36)=0,\"\",HLOOKUP(LARGE('Technologie Berechnung'!$D$86:$V$86,'03_Nutzwertanalyse'!E$36),'Technologie Berechnung'!$D$86:$V$111,26,FALSE))","v":"3 - Vergleich 20 Fuß Containerlösung zzgl. Wochenvorrat"},null,null,{"$f":"IF(LARGE('Technologie Berechnung'!$D$86:$V$86,'03_Nutzwertanalyse'!H$36)=0,\"\",HLOOKUP(LARGE('Technologie Berechnung'!$D$86:$V$86,'03_Nutzwertanalyse'!H$36),'Technologie Berechnung'!$D$86:$V$111,26,FALSE))","v":"1 - Spez. Flächenbedarf gemäß Erfahrungswerten"},null,null,{"$f":"IF(LARGE('Technologie Berechnung'!$D$86:$V$86,'03_Nutzwertanalyse'!K$36)=0,\"\",HLOOKUP(LARGE('Technologie Berechnung'!$D$86:$V$86,'03_Nutzwertanalyse'!K$36),'Technologie Berechnung'!$D$86:$V$111,26,FALSE))","v":"3 - Vergleich 20 Fuß Containerlösung zzgl. Wochenvorrat"}]
[]
[null,"Legende der Genauigkeitsklassen:"]
[null,"1) Erfahrungswerte & Berechnungen daraus"]
[null,"2) Werte aus einschlägigen Studien und Literatur"]
[null,"3) Richttwerte & Schätzungen"]

{"sheet":"04_Wirtschaftlichkeit","index":4,"n_rows":84,"n_cols":14,"rows_kept":84,"cut":false,"hidden":false,"merged":[[56,6,56,7],[55,6,55,7],[54,6,54,7],[52,6,52,7],[51,6,51,7],[49,6,49,7],[56,8,56,9],[55,8,55,9],[54,8,54,9],[52,8,52,9],[51,8,51,9],[53,1,53,11],[52,1,52,2],[56,1,56,2],[56,10,56,11],[55,10,55,11],[54,10,54,11],[52,10,52,11],[51,10,51,11],[56,4,56,5],[55,4,55,5],[54,4,54,5],[52,4,52,5],[51,4,51,5],[50,8,50,9],[49,8,49,9],[48,8,48,9],[46,1,46,11],[39,4,39,6],[40,4,40,6],[44,10,44,11],[44,8,44,9],[44,6,44,7],[45,6,45,11],[45,4,45,5],[43,10,43,11],[43,8,43,9],[43,6,43,7],[43,4,43,5],[50,4,50,5],[49,4,49,5],[48,4,48,5],[48,1,48,2],[50,10,50,11],[49,10,49,11],[48,10,48,11],[47,8,47,9],[47,10,47,11],[34,4,34,6],[55,1,55,2],[54,1,54,2],[51,1,51,2],[50,1,50,2],[49,1,49,2],[44,4,44,5],[50,6,50,7],[47,1,47,2],[47,4,47,5],[47,6,47,7],[48,6,48,7],[43,1,44,3],[39,13,39,15],[40,1,40,3],[40,7,40,9],[40,10,40,12],[40,13,40,15],[29,1,29,3],[29,7,29,9],[29,10,29,12],[29,13,29,15],[36,7,36,9],[31,7,31,9],[31,10,31,12],[35,1,35,3],[35,7,35,9],[32,13,32,15],[36,10,36,12],[36,4,36,6],[31,4,31,6],[39,10,39,12],[30,1,30,3],[29,4,29,6],[30,4,30,6],[33,1,33,3],[33,7,33,9],[31,1,31,3],[26,1,26,3],[26,7,26,9],[26,10,26,12],[26,13,26,15],[27,13,27,15],[31,13,31,15],[30,10,30,12],[28,10,28,12],[28,13,28,15],[30,13,30,15],[27,1,27,3],[27,7,27,9],[28,7,28,9],[28,4,28,6],[27,4,27,6],[27,10,27,12],[28,1,28,3],[22,7,22,9],[22,10,22,12],[22,13,22,15],[23,13,23,15],[24,4,24,6],[25,13,25,15],[24,7,24,9],[24,10,24,12],[24,13,24,15],[23,7,23,9],[23,10,23,12],[25,7,25,9],[25,10,25,12],[32,4,32,6],[33,4,33,6],[38,13,38,15],[37,13,37,15],[37,1,37,3],[37,7,37,9],[37,10,37,12],[38,7,38,9],[38,10,38,12],[38,1,38,3],[37,4,37,6],[38,4,38,6],[36,13,36,15],[36,1,36,3],[35,13,35,15],[34,13,34,15],[35,4,35,6],[33,10,33,12],[33,13,33,15],[34,1,34,3],[34,7,34,9],[32,10,32,12],[35,10,35,12],[34,10,34,12],[18,5,18,7],[15,5,15,7],[16,5,16,7],[17,5,17,7],[19,5,20,7],[14,1,14,7],[45,1,45,3],[22,4,22,6],[23,4,23,6],[32,1,32,3],[32,7,32,9],[30,7,30,9],[17,1,17,3],[16,1,16,3],[15,1,15,3],[19,1,20,4],[39,1,39,3],[39,7,39,9],[23,1,23,3],[24,1,24,3],[18,1,18,4],[25,4,25,6],[26,4,26,6],[25,1,25,3]]}
[]
[]
[]
[]
[]
[]
[]
[]
[]
[]
[]
[]
[null,"4. Wirtschaftlichkeitsanalyse"]
[]
[null,"Randbedingungen definieren"]
[null,"Kalkulatorische Kapitalkosten",null,null,"[%/a]",1.2500000000000001E-2]
[null,"Betrachtungsdauer",null,null,"[a]",20]
[null,"CO2 -Brepreisung",null,null,"[€/t]",25]
[null,"Referenzanlage (Derzeitige Technologie)",null,null,null,"Erdgas Dampferzeuger"]
[null,"Wird die Bestandsanlage weiter betrieben oder muss diese erneuert werden?",null,null,null,"Neu"]
[]
[]
[null,null,null,null,"Referenz",null,null,"Top 1",null,null,"Top 2",null,null,"Top 3"]
[null,"Technologie",null,null,{"$f":"F19","v":"Erdgas Dampferzeuger"},null,null,{"$f":"'03_Nutzwertanalyse'!E37","v":"Holzhackschnitzelkessel"},null,null,{"$f":"'03_Nutzwertanalyse'!H37","v":"Vakuumröhrenkollektor"},null,null,{"$f":"'03_Nutzwertanalyse'!K37","v":"Holzpelletkessel"}]
[null,"Einsatzbereich ",null,null,{"$f":"HLOOKUP($F$19,'Technologie Berechnung'!$D$89:$X$111,2,FALSE)","v":"Wärme | 20°C bis 250°C"},null,null,{"$f":"'03_Nutzwertanalyse'!E38","v":"Wärme | 20°C bis 500°C"},null,null,{"$f":"'03_Nutzwertanalyse'!H38","v":"Wärme | 20°C bis 120°C"},null,null,{"$f":"'03_Nutzwertanalyse'!K38","v":"Wärme | 20°C bis 500°C"}]
[null,"Energiequelle",null,null,{"$f":"HLOOKUP($F$19,'Technologie Berechnung'!$D$89:$X$111,3,FALSE)","v":"Erdgas"},null,null,{"$f":"'03_Nutzwertanalyse'!E39","v":"Holzhackschnitzel"},null,null,{"$f":"'03_Nutzwertanalyse'!H39","v":"Solarstrahlung"},null,null,{"$f":"'03_Nutzwertanalyse'!K39","v":"Holzpellets"}]
[null,"Realisierbare Vollbenutzungsstunden",null,null,{"$f":"HLOOKUP($F$19,'Technologie Berechnung'!$D$89:$X$111,4,FALSE)","v":8000},null,null,{"$f":"'03_Nutzwertanalyse'!E40","v":7500},null,null,{"$f":"'03_Nutzwertanalyse'!H40","v":1500},null,null,{"$f":"'03_Nutzwertanalyse'!K40","v":7500}]
[null,"Nutzungsdauer",null,null,{"$f":"HLOOKUP($F$19,'Technologie Berechnung'!$D$89:$X$111,5,FALSE)","v":"25 Jahre"},null,null,{"$f":"'03_Nutzwertanalyse'!E41","v":"15 Jahre"},null,null,{"$f":"'03_Nutzwertanalyse'!H41","v":"18 Jahre"},null,null,{"$f":"'03_Nutzwertanalyse'!K41","v":"15 Jahre"}]
[null,"Spez. Investiton",null,null,{"$f":"HLOOKUP($F$19,'Technologie Berechnung'!$D$89:$X$111,7,FALSE)","v":60},null,null,{"$f":"'03_Nutzwertanalyse'!E43","v":264},null,null,{"$f":"'03_Nutzwertanalyse'!H43","v":1384},null,null,{"$f":"'03_Nutzwertanalyse'!K43","v":305}]
[null,"Gesamtinvestition",null,null,{"$f":"HLOOKUP($F$19,'Technologie Berechnung'!$D$89:$X$111,8,FALSE)","v":239307.32359206342},null,null,{"$f":"'03_Nutzwertanalyse'!E44","v":1057830.7168757692},null,null,{"$f":"'03_Nutzwertanalyse'!H44","v":5534773.0415019905},null,null,{"$f":"'03_Nutzwertanalyse'!K44","v":1219800.6727231806}]
[null,"Genauigkeit",null,null,{"$f":"HLOOKUP($F$19,'Technologie Berechnung'!$D$89:$X$111,9,FALSE)","v":"2 - Aus einer Studie basierend auf umgesetzten Projekten"},null,null,{"$f":"'03_Nutzwertanalyse'!E45","v":"2 - Aus einer Studie basierend auf umgesetzten Projekten"},null,null,{"$f":"'03_Nutzwertanalyse'!H45","v":"1 - Regression Umgesetzter Projekte"},null,null,{"$f":"'03_Nutzwertanalyse'!K45","v":"2 - Aus einer Studie basierend auf umgesetzten Projekten"}]
[null,"Wirkungsgrad / COP",null,null,{"$f":"HLOOKUP($F$19,'Technologie Berechnung'!$D$89:$X$111,11,FALSE)","v":0.95},null,null,{"$f":"'03_Nutzwertanalyse'!E47","v":0.8},null,null,{"$f":"'03_Nutzwertanalyse'!H47","v":0.8},null,null,{"$f":"'03_Nutzwertanalyse'!K47","v":0.85}]
[null,"Endenergiebezug",null,null,{"$f":"HLOOKUP($F$19,'Technologie Berechnung'!$D$89:$X$111,12,FALSE)","v":647.4},null,null,{"$f":"'03_Nutzwertanalyse'!E48","v":768.8},null,null,{"$f":"'03_Nutzwertanalyse'!H48","v":0},null,null,{"$f":"'03_Nutzwertanalyse'!K48","v":723.5}]
[null,"Betriebs- und Wartungskosten",null,null,{"$f":"HLOOKUP($F$19,'Technologie Berechnung'!$D$89:$X$111,13,FALSE)","v":27558},null,null,{"$f":"'03_Nutzwertanalyse'!E49","v":83689},null,null,{"$f":"'03_Nutzwertanalyse'!H49","v":83272},null,null,{"$f":"'03_Nutzwertanalyse'!K49","v":112403}]
[null,"Spez. Betriebskosten",null,null,{"$f":"HLOOKUP($F$19,'Technologie Berechnung'!$D$89:$X$111,14,FALSE)","v":4.4809999999999999},null,null,{"$f":"'03_Nutzwertanalyse'!E50","v":13.608000000000001},null,null,{"$f":"'03_Nutzwertanalyse'!H50","v":13.54},null,null,{"$f":"'03_Nutzwertanalyse'!K50","v":18.277000000000001}]
[null,"Genauigkeit",null,null,{"$f":"HLOOKUP($F$19,'Technologie Berechnung'!$D$89:$X$111,15,FALSE)","v":"3 - Energiekosten zzgl. Mittelwerte aus VDI 2067"},null,null,{"$f":"'03_Nutzwertanalyse'!E51","v":"3 - Energiekosten zzgl. Mittelwerte aus VDI 2067"},null,null,{"$f":"'03_Nutzwertanalyse'!H51","v":"3 - Energiekosten zzgl. Mittelwerte aus VDI 2067"},null,null,{"$f":"'03_Nutzwertanalyse'!K51","v":"3 - Energiekosten zzgl. Mittelwerte aus VDI 2067"}]
[null,"Wärmegestehungskosten",null,null,{"$f":"HLOOKUP($F$19,'Technologie Berechnung'!$D$89:$X$111,17,FALSE)","v":7.242},null,null,{"$f":"'03_Nutzwertanalyse'!E53","v":30.178999999999998},null,null,{"$f":"'03_Nutzwertanalyse'!H53","v":90.528999999999996},null,null,{"$f":"'03_Nutzwertanalyse'!K53","v":37.386000000000003}]
[null,"CO2-Emission (CO2-Äq.)",null,null,{"$f":"HLOOKUP($F$19,'Technologie Berechnung'!$D$89:$X$111,19,FALSE)","v":130.12100000000001},null,null,{"$f":"'03_Nutzwertanalyse'!E55","v":20.756},null,null,{"$f":"'03_Nutzwertanalyse'!H55","v":0},null,null,{"$f":"'03_Nutzwertanalyse'!K55","v":19.535}]
[null,"Platzbedarf",null,null,{"$f":"HLOOKUP($F$19,'Technologie Berechnung'!$D$89:$X$111,21,FALSE)","v":"14,8 m² | Kessel"},null,null,{"$f":"'03_Nutzwertanalyse'!E57","v":"18,5 m² | Kessel + Hachschnitzellager"},null,null,{"$f":"'03_Nutzwertanalyse'!H57","v":"5720 m² | Kolektoren"},null,null,{"$f":"'03_Nutzwertanalyse'!K57","v":"15,9 m² | Kessel + Pelletlager"}]
[null,"Flächenart",null,null,{"$f":"HLOOKUP($F$19,'Technologie Berechnung'!$D$89:$X$111,22,FALSE)","v":"Im Gebäude | Freifläche"},null,null,{"$f":"'03_Nutzwertanalyse'!E58","v":"Im Gebäude | Freifläche"},null,null,{"$f":"'03_Nutzwertanalyse'!H58","v":"Dachfläche | Freifläche"},null,null,{"$f":"'03_Nutzwertanalyse'!K58","v":"Im Gebäude | Freifläche"}]
[null,"Genauigkeit",null,null,{"$f":"HLOOKUP($F$19,'Technologie Berechnung'!$D$89:$X$111,23,FALSE)","v":"3 - Vergleich mit 20 Fuß Containerlösung"},null,null,{"$f":"'03_Nutzwertanalyse'!E59","v":"3 - Vergleich 20 Fuß Containerlösung zzgl. Wochenvorrat"},null,null,{"$f":"'03_Nutzwertanalyse'!H59","v":"1 - Spez. Flächenbedarf gemäß Erfahrungswerten"},null,null,{"$f":"'03_Nutzwertanalyse'!K59","v":"3 - Vergleich 20 Fuß Containerlösung zzgl. Wochenvorrat"}]
[]
[]
[null,"Ergebnis der Wirtschaftlichkeitsrechnung",null,null,"Referenz",null,"Top 1",null,"Top 2",null,"Top 3"]
[null,null,null,null,{"$f":"F19","v":"Erdgas Dampferzeuger"},null,{"$f":"H24","v":"Holzhackschnitzelkessel"},null,{"$f":"K24","v":"Vakuumröhrenkollektor"},null,{"$f":"N24","v":"Holzpelletkessel"}]
[null,"Investitionsart",null,null,{"$f":"F20","v":"Neu"},null,"Neu"]
[null,"Wirtschaftlichkeitskennzahlen"]
[null,"CO2 Kosten",null,"[€/a]",{"$f":"E38*$F$18","v":3253.0250000000001},null,{"$f":"H38*$F$18","v":518.9},null,{"$f":"K38*$F$18","v":0},null,{"$f":"N38*$F$18","v":488.375}]
[null,"Investition",null,"[€]",{"$f":"IF(F20=\"Neu\",'04_Wirtschaftlichkeit'!E30,0)","v":239307.32359206342},null,{"$f":"'04_Wirtschaftlichkeit'!H30","v":1057830.7168757692},null,{"$f":"'04_Wirtschaftlichkeit'!K30","v":5534773.0415019905},null,{"$f":"'04_Wirtschaftlichkeit'!N30","v":1219800.6727231806}]
[null,"Betriebskosten",null,"[€/a]",{"$f":"'04_Wirtschaftlichkeit'!E34","v":27558},null,{"$f":"'04_Wirtschaftlichkeit'!H34","v":83689},null,{"$f":"'04_Wirtschaftlichkeit'!K34","v":83272},null,{"$f":"'04_Wirtschaftlichkeit'!N34","v":112403}]
[null,"Kapitalwert (NPV)*",null,"[€]",{"$f":"SUM(Nebenrechnungen!C22:AB22)","v":-781560.29298659193},null,{"$f":"SUM(Nebenrechnungen!C31:AB31)","v":-1758271.8769884335},null,{"$f":"SUM(Nebenrechnungen!C40:AB40)","v":-6218743.0016446328},null,{"$f":"SUM(Nebenrechnungen!C49:AB49)","v":-2425051.377189002}]
[null,"Dyn. Amortisationszeit",null,"[a]",{"$f":"IF(SUM(Nebenrechnungen!C24:AB24)=0,\"> \"&$F$17&\" a\",SUM(Nebenrechnungen!C24:AB24))","v":"> 20 a"},null,{"$f":"IF(SUM(Nebenrechnungen!C33:AB33)=0,\"> \"&$F$17&\" a\",SUM(Nebenrechnungen!C33:AB33))","v":"> 20 a"},null,{"$f":"IF(SUM(Nebenrechnungen!E42:AD42)=0,\"> \"&$F$17&\" a\",SUM(Nebenrechnungen!E42:AD42))","v":"> 20 a"},null,{"$f":"IF(SUM(Nebenrechnungen!G51:AF51)=0,\"> \"&$F$17&\" a\",SUM(Nebenrechnungen!G51:AF51))","v":"> 20 a"}]
[null,"Interner Zinsfuß",null,"[%]",null,null,{"$f":"IRR(Nebenrechnungen!C30:BA30)","v":{"$error":"#NUM!"}},null,{"$f":"IRR(Nebenrechnungen!C39:BA39)","v":{"$error":"#NUM!"}},null,{"$f":"IRR(Nebenrechnungen!C48:BA48)","v":{"$error":"#NUM!"}}]
[null,"Spez. Vermeidungs- & Gestehungskosten"]
[null,"Energiegestehungskosten",null,"[€/MWh]",{"$f":"IF(F20=\"Neu\",'04_Wirtschaftlichkeit'!E37*10,(_xlfn.XLOOKUP(F19,'Technologie Berechnung'!D11:X11,'Technologie Berechnung'!D48:X48)/_xlfn.XLOOKUP(F19,'Technologie Berechnung'!D11:X11,'Technologie Berechnung'!D67:X67)))","v":72.42},null,{"$f":"'04_Wirtschaftlichkeit'!H37*10","v":301.78999999999996},null,{"$f":"'04_Wirtschaftlichkeit'!K37*10","v":905.29},null,{"$f":"'04_Wirtschaftlichkeit'!N37*10","v":373.86}]
[null,"Emissions Einsparung",null,"[tCO2e]",0,null,{"$f":"('04_Wirtschaftlichkeit'!$E$38-'04_Wirtschaftlichkeit'!H38)*$F$17","v":2187.3000000000002},null,{"$f":"('04_Wirtschaftlichkeit'!$E$38-'04_Wirtschaftlichkeit'!K38)*$F$17","v":2602.42},null,{"$f":"('04_Wirtschaftlichkeit'!$E$38-'04_Wirtschaftlichkeit'!N38)*$F$17","v":2211.7200000000003}]
[null,"Emissionsvermeidungskosten",null,"[€/tCO2e]",0,null,{"$f":"(G51*-1)/G56","v":803.8549247878359},null,{"$f":"(I51*-1)/I56","v":2389.6000651872614},null,{"$f":"(K51*-1)/K56","v":1096.4549659039126}]
[null,"* Kapitalwerte von TOP 1-3 verglichen mit der Referenz (Die Kosten der Referenz werden durch die Investition eingespart und als Einnahmen vebucht)"]
[]
[]
[]
[]
[]
[]
[]
[]
[]
[]
[]
[]
[]
[]
[]
[]
[]
[]
[null,"Sensitivitätsanalyse des Kapitalwerts"]
[null,"Periode",-0.5,-0.4,-0.3,-0.2,-0.1,0,0.1,0.2,0.3,0.4,0.5]
[null,"Top 1"]
[null,"Investition",{"$f":"NPV($F$16,Nebenrechnungen!$C$58:$BA$58)","v":-1986090.678061374},{"$f":"NPV($F$16,Nebenrechnungen!$C$59:$BA$59)","v":-2090567.7859009565},{"$f":"NPV($F$16,Nebenrechnungen!$C$60:$BA$60)","v":-2195044.8937405385},{"$f":"NPV($F$16,Nebenrechnungen!$C$61:$BA$61)","v":-2299522.001580121},{"$f":"NPV($F$16,Nebenrechnungen!$C$62:$BA$62)","v":-2403999.109419703},{"$f":"NPV($F$16,Nebenrechnungen!$C$63:$BA$63)","v":-2508476.217259285},{"$f":"NPV($F$16,Nebenrechnungen!$C$64:$BA$64)","v":-2612953.3250988675},{"$f":"NPV($F$16,Nebenrechnungen!$C$65:$BA$65)","v":-2717430.4329384496},{"$f":"NPV($F$16,Nebenrechnungen!$C$66:$BA$66)","v":-2821907.5407780316},{"$f":"NPV($F$16,Nebenrechnungen!$C$67:$BA$67)","v":-2926384.6486176141},{"$f":"NPV($F$16,Nebenrechnungen!$C$68:$BA$68)","v":-3030861.7564571961}]
[null,"Zinssatz",{"$f":"NPV($F$16*(1+C78),Nebenrechnungen!$C$70:$BA$70)","v":-2619979.8816123041},{"$f":"NPV($F$16*(1+D78),Nebenrechnungen!$C$70:$BA$70)","v":-2596875.6212812769},{"$f":"NPV($F$16*(1+E78),Nebenrechnungen!$C$70:$BA$70)","v":-2574181.9513612106},{"$f":"NPV($F$16*(1+F78),Nebenrechnungen!$C$70:$BA$70)","v":-2551889.9371328452},{"$f":"NPV($F$16*(1+G78),Nebenrechnungen!$C$70:$BA$70)","v":-2529990.861098798},{"$f":"NPV($F$16*(1+H78),Nebenrechnungen!$C$70:$BA$70)","v":-2508476.217259285},{"$f":"NPV($F$16*(1+I78),Nebenrechnungen!$C$70:$BA$70)","v":-2487337.705548896},{"$f":"NPV($F$16*(1+J78),Nebenrechnungen!$C$70:$BA$70)","v":-2466567.2264296268},{"$f":"NPV($F$16*(1+K78),Nebenrechnungen!$C$70:$BA$70)","v":-2446156.875635515},{"$f":"NPV($F$16*(1+L78),Nebenrechnungen!$C$70:$BA$70)","v":-2426098.9390644194},{"$f":"NPV($F$16*(1+M78),Nebenrechnungen!$C$70:$BA$70)","v":-2406385.8878125055}]
[null,"CO2 Kosten",{"$f":"NPV($F$16,Nebenrechnungen!$C$72:$BA$72)","v":-2503966.4468187666},{"$f":"NPV($F$16,Nebenrechnungen!$C$73:$BA$73)","v":-2504868.4009068701},{"$f":"NPV($F$16,Nebenrechnungen!$C$74:$BA$74)","v":-2505770.3549949741},{"$f":"NPV($F$16,Nebenrechnungen!$C$75:$BA$75)","v":-2506672.3090830781},{"$f":"NPV($F$16,Nebenrechnungen!$C$76:$BA$76)","v":-2507574.263171182},{"$f":"NPV($F$16,Nebenrechnungen!$C$77:$BA$77)","v":-2508476.217259285},{"$f":"NPV($F$16,Nebenrechnungen!$C$78:$BA$78)","v":-2509378.1713473895},{"$f":"NPV($F$16,Nebenrechnungen!$C$79:$BA$79)","v":-2510280.1254354925},{"$f":"NPV($F$16,Nebenrechnungen!$C$80:$BA$80)","v":-2511182.0795235969},{"$f":"NPV($F$16,Nebenrechnungen!$C$81:$BA$81)","v":-2512084.0336116999},{"$f":"NPV($F$16,Nebenrechnungen!$C$82:$BA$82)","v":-2512985.9876998034}]
[null,"Betriebskosten",{"$f":"NPV($F$16,Nebenrechnungen!$C$84:$BA$84)","v":-1781133.4182680717},{"$f":"NPV($F$16,Nebenrechnungen!$C$85:$BA$85)","v":-1926601.9780663147},{"$f":"NPV($F$16,Nebenrechnungen!$C$86:$BA$86)","v":-2072070.5378645577},{"$f":"NPV($F$16,Nebenrechnungen!$C$87:$BA$87)","v":-2217539.0976627986},{"$f":"NPV($F$16,Nebenrechnungen!$C$88:$BA$88)","v":-2363007.6574610425},{"$f":"NPV($F$16,Nebenrechnungen!$C$89:$BA$89)","v":-2508476.217259285},{"$f":"NPV($F$16,Nebenrechnungen!$C$90:$BA$90)","v":-2653944.7770575285},{"$f":"NPV($F$16,Nebenrechnungen!$C$91:$BA$91)","v":-2799413.3368557706},{"$f":"NPV($F$16,Nebenrechnungen!$C$92:$BA$92)","v":-2944881.8966540135},{"$f":"NPV($F$16,Nebenrechnungen!$C$93:$BA$93)","v":-3090350.4564522561},{"$f":"NPV($F$16,Nebenrechnungen!$C$94:$BA$94)","v":-3235819.0162504991}]
[null,"Dauer",{"$f":"NPV($F$16,Nebenrechnungen!$C$97:$BA$97)","v":-1822022.5461306809},{"$f":"NPV($F$16,Nebenrechnungen!$C$99:$BA$99)","v":-1966218.5787462862},{"$f":"NPV($F$16,Nebenrechnungen!$C$101:$BA$101)","v":-2106876.193247105},{"$f":"NPV($F$16,Nebenrechnungen!$C$103:$BA$103)","v":-2244082.2186708576},{"$f":"NPV($F$16,Nebenrechnungen!$C$105:$BA$105)","v":-2377921.353362523},{"$f":"NPV($F$16,Nebenrechnungen!$C$107:$BA$107)","v":-2508476.217259285},{"$f":"NPV($F$16,Nebenrechnungen!$C$109:$BA$109)","v":-2635827.4028924629},{"$f":"NPV($F$16,Nebenrechnungen!$C$111:$BA$111)","v":-2760053.5251379036},{"$f":"NPV($F$16,Nebenrechnungen!$C$113:$BA$113)","v":-2881231.269745558},{"$f":"NPV($F$16,Nebenrechnungen!$C$115:$BA$115)","v":-2999435.4406781886},{"$f":"NPV($F$16,Nebenrechnungen!$C$117:$BA$117)","v":-3114739.0062884367}]

{"sheet":"Ergebnisse","index":5,"n_rows":60,"n_cols":17,"rows_kept":60,"cut":false,"hidden":false,"merged":[[14,1,14,5],[14,7,14,11],[13,1,13,16],[14,13,14,16],[28,13,28,16],[29,13,32,16],[33,13,35,16],[59,0,60,16],[37,1,37,16],[38,1,38,5],[38,7,38,11],[38,13,38,15]]}
[]
[]
[]
[]
[]
[]
[]
[]
[]
[]
[]
[]
[]
[null,"Ist Situation"]
[null,"Energiebedarf in kWh/a",null,null,null,null,null,"Emissionen in tCO2e/a",null,null,null,null,null,"Anteil Scope 1 und Scope 2 Emissionen"]
[]
[]
[]
[]
[]
[]
[]
[]
[]
[]
[]
[]
[]
[null,null,null,null,null,null,null,null,null,null,null,null,null,"Hinweise:"]
[null,null,null,null,null,null,null,null,null,null,null,null,null,"Klimaneutralität Scope 1\n- Keine Verbrennung von fossilen oder biogenen Brennstoffen\n- Nur 100 % erneuerbarer Strom, Solar- & Geothermie\n- (Sonst ist eine Kompensation der Restemissionen notwendig)"]
[]
[]
[]
[null,null,null,null,null,null,null,null,null,null,null,null,null,"Klimaneutralität Scope 2\n- Bezug von 100 % erneuerbarem Strom\n- Wärmebezug  bei 100 % erneuerbar (Strom, Solar, Geothermie)"]
[]
[]
[]
[null,"Bewertung der Maßnahmen zur Dekarbonisierung"]
[null,"Vergleich von Investition, Betriebs- und CO2 Kosten",null,null,null,null,null,"Einsparungen an Emissionen in t CO2e und die Vermeidungskosten",null,null,null,null,null,"Sensitivitätsanalyse für",null,null,{"$f":"'04_Wirtschaftlichkeit'!$B$79","v":"Top 1"}]
[]
[]
[]
[]
[]
[]
[]
[]
[]
[]
[]
[]
[]
[]
[]
[]
[]
[]
[null,null,null,null,null,null,null,"Hinweis: negative Vermeidungskosten entsprechen einem Erlös",null,null,null,null,null,"Hinweis: Auswahl der Technologie im Reiter \"Wirtschaflichkeitsanalyse\""]
[]
["Der Abschlussbericht zum Projekt kann auf der Website des SWK E² herunter geladen werden:\nhttps://www.hs-niederrhein.de/swk-e2/vwi-fokusthema-2021/"]

{"sheet":"THG-Grafik","index":6,"n_rows":2,"n_cols":15,"rows_kept":2,"cut":false,"hidden":false,"merged":[[1,4,1,8],[1,9,1,13],[1,14,1,18]]}
[]
[null,null,null,null,"Energiebedarf in kWh/a",null,null,null,null,"Emissionen in tCO2e/a",null,null,null,null,"Anteil Scope 1 und Scope 2 Emissionen"]

{"sheet":"Nebenrechnungen","index":7,"n_rows":146,"n_cols":53,"rows_kept":146,"cut":false,"hidden":false,"merged":[[121,9,121,13],[56,1,56,52],[68,1,68,52],[70,1,70,52],[82,1,82,52],[94,1,94,52],[2,3,2,4],[15,1,15,52],[24,1,24,52],[33,1,33,52],[42,1,42,52],[2,6,2,9]]}
[null,"Hilfstabellen und Nebenrechnungen"]
[]
[null,"Jahre",null,"Auswahl Sensitivität",null,null,"Anteile Emissionen"]
[null,2017,null,"Referenz",null,null,"Jahre",{"$f":"'01_THG-Bilanz'!D17","v":2017},{"$f":"'01_THG-Bilanz'!F17","v":2016},{"$f":"'01_THG-Bilanz'!H17","v":2015}]
[null,{"$f":"B4+1","v":2018},null,"Top 1",null,null,{"$f":"'01_THG-Bilanz'!C33","v":"Summe Scope 1"},{"$f":"'01_THG-Bilanz'!E33/'01_THG-Bilanz'!$E$35","v":0.24550711344154402},{"$f":"'01_THG-Bilanz'!G33/'01_THG-Bilanz'!$G$35","v":{"$error":"#DIV/0!"}},{"$f":"'01_THG-Bilanz'!I33/'01_THG-Bilanz'!$I$35","v":{"$error":"#DIV/0!"}}]
[null,{"$f":"B5+1","v":2019},null,"Top 2",null,null,{"$f":"'01_THG-Bilanz'!C34","v":"Summe Scope 2"},{"$f":"'01_THG-Bilanz'!E34/'01_THG-Bilanz'!$E$35","v":0.75449288655845603},{"$f":"'01_THG-Bilanz'!G34/'01_THG-Bilanz'!$G$35","v":{"$error":"#DIV/0!"}},{"$f":"'01_THG-Bilanz'!I34/'01_THG-Bilanz'!$I$35","v":{"$error":"#DIV/0!"}}]
[null,2020,null,"Top 3",null,null,"Gesamt",{"$f":"'01_THG-Bilanz'!E35/'01_THG-Bilanz'!$E$35","v":1},{"$f":"'01_THG-Bilanz'!G35/'01_THG-Bilanz'!$G$35","v":{"$error":"#DIV/0!"}},{"$f":"'01_THG-Bilanz'!I35/'01_THG-Bilanz'!$I$35","v":{"$error":"#DIV/0!"}}]
[null,2021]
[null,2022]
[null,2023]
[null,2024]
[]
[null,"Berechnungstabelle"]
[null,"Periode",0,1,2,3,4,5,6,7,8,9,10,11,12,13,14,15,16,17,18,19,20,21,22,23,24,25,26,27,28,29,30,31,32,33,34,35,36,37,38,39,40,41,42,43,44,45,46,47,48,49,50]
[null,"Betr.-Dauer",{"$f":"IF('04_Wirtschaftlichkeit'!$F$17>=Nebenrechnungen!C14,1,0)","v":1},{"$f":"IF('04_Wirtschaftlichkeit'!$F$17>=Nebenrechnungen!D14,1,0)","v":1},{"$f":"IF('04_Wirtschaftlichkeit'!$F$17>=Nebenrechnungen!E14,1,0)","v":1},{"$f":"IF('04_Wirtschaftlichkeit'!$F$17>=Nebenrechnungen!F14,1,0)","v":1},{"$f":"IF('04_Wirtschaftlichkeit'!$F$17>=Nebenrechnungen!G14,1,0)","v":1},{"$f":"IF('04_Wirtschaftlichkeit'!$F$17>=Nebenrechnungen!H14,1,0)","v":1},{"$f":"IF('04_Wirtschaftlichkeit'!$F$17>=Nebenrechnungen!I14,1,0)","v":1},{"$f":"IF('04_Wirtschaftlichkeit'!$F$17>=Nebenrechnungen!J14,1,0)","v":1},{"$f":"IF('04_Wirtschaftlichkeit'!$F$17>=Nebenrechnungen!K14,1,0)","v":1},{"$f":"IF('04_Wirtschaftlichkeit'!$F$17>=Nebenrechnungen!L14,1,0)","v":1},{"$f":"IF('04_Wirtschaftlichkeit'!$F$17>=Nebenrechnungen!M14,1,0)","v":1},{"$f":"IF('04_Wirtschaftlichkeit'!$F$17>=Nebenrechnungen!N14,1,0)","v":1},{"$f":"IF('04_Wirtschaftlichkeit'!$F$17>=Nebenrechnungen!O14,1,0)","v":1},{"$f":"IF('04_Wirtschaftlichkeit'!$F$17>=Nebenrechnungen!P14,1,0)","v":1},{"$f":"IF('04_Wirtschaftlichkeit'!$F$17>=Nebenrechnungen!Q14,1,0)","v":1},{"$f":"IF('04_Wirtschaftlichkeit'!$F$17>=Nebenrechnungen!R14,1,0)","v":1},{"$f":"IF('04_Wirtschaftlichkeit'!$F$17>=Nebenrechnungen!S14,1,0)","v":1},{"$f":"IF('04_Wirtschaftlichkeit'!$F$17>=Nebenrechnungen!T14,1,0)","v":1},{"$f":"IF('04_Wirtschaftlichkeit'!$F$17>=Nebenrechnungen!U14,1,0)","v":1},{"$f":"IF('04_Wirtschaftlichkeit'!$F$17>=Nebenrechnungen!V14,1,0)","v":1},{"$f":"IF('04_Wirtschaftlichkeit'!$F$17>=Nebenrechnungen!W14,1,0)","v":1},{"$f":"IF('04_Wirtschaftlichkeit'!$F$17>=Nebenrechnungen!X14,1,0)","v":0},{"$f":"IF('04_Wirtschaftlichkeit'!$F$17>=Nebenrechnungen!Y14,1,0)","v":0},{"$f":"IF('04_Wirtschaftlichkeit'!$F$17>=Nebenrechnungen!Z14,1,0)","v":0},{"$f":"IF('04_Wirtschaftlichkeit'!$F$17>=Nebenrechnungen!AA14,1,0)","v":0},{"$f":"IF('04_Wirtschaftlichkeit'!$F$17>=Nebenrechnungen!AB14,1,0)","v":0},{"$f":"IF('04_Wirtschaftlichkeit'!$F$17>=Nebenrechnungen!AC14,1,0)","v":0},{"$f":"IF('04_Wirtschaftlichkeit'!$F$17>=Nebenrechnungen!AD14,1,0)","v":0},{"$f":"IF('04_Wirtschaftlichkeit'!$F$17>=Nebenrechnungen!AE14,1,0)","v":0},{"$f":"IF('04_Wirtschaftlichkeit'!$F$17>=Nebenrechnungen!AF14,1,0)","v":0},{"$f":"IF('04_Wirtschaftlichkeit'!$F$17>=Nebenrechnungen!AG14,1,0)","v":0},{"$f":"IF('04_Wirtschaftlichkeit'!$F$17>=Nebenrechnungen!AH14,1,0)","v":0},{"$f":"IF('04_Wirtschaftlichkeit'!$F$17>=Nebenrechnungen!AI14,1,0)","v":0},{"$f":"IF('04_Wirtschaftlichkeit'!$F$17>=Nebenrechnungen!AJ14,1,0)","v":0},{"$f":"IF('04_Wirtschaftlichkeit'!$F$17>=Nebenrechnungen!AK14,1,0)","v":0},{"$f":"IF('04_Wirtschaftlichkeit'!$F$17>=Nebenrechnungen!AL14,1,0)","v":0},{"$f":"IF('04_Wirtschaftlichkeit'!$F$17>=Nebenrechnungen!AM14,1,0)","v":0},{"$f":"IF('04_Wirtschaftlichkeit'!$F$17>=Nebenrechnungen!AN14,1,0)","v":0},{"$f":"IF('04_Wirtschaftlichkeit'!$F$17>=Nebenrechnungen!AO14,1,0)","v":0},{"$f":"IF('04_Wirtschaftlichkeit'!$F$17>=Nebenrechnungen!AP14,1,0)","v":0},{"$f":"IF('04_Wirtschaftlichkeit'!$F$17>=Nebenrechnungen!AQ14,1,0)","v":0},{"$f":"IF('04_Wirtschaftlichkeit'!$F$17>=Nebenrechnungen!AR14,1,0)","v":0},{"$f":"IF('04_Wirtschaftlichkeit'!$F$17>=Nebenrechnungen!AS14,1,0)","v":0},{"$f":"IF('04_Wirtschaftlichkeit'!$F$17>=Nebenrechnungen!AT14,1,0)","v":0},{"$f":"IF('04_Wirtschaftlichkeit'!$F$17>=Nebenrechnungen!AU14,1,0)","v":0},{"$f":"IF('04_Wirtschaftlichkeit'!$F$17>=Nebenrechnungen!AV14,1,0)","v":0},{"$f":"IF('04_Wirtschaftlichkeit'!$F$17>=Nebenrechnungen!AW14,1,0)","v":0},{"$f":"IF('04_Wirtschaftlichkeit'!$F$17>=Nebenrechnungen!AX14,1,0)","v":0},{"$f":"IF('04_Wirtschaftlichkeit'!$F$17>=Nebenrechnungen!AY14,1,0)","v":0},{"$f":"IF('04_Wirtschaftlichkeit'!$F$17>=Nebenrechnungen!AZ14,1,0)","v":0},{"$f":"IF('04_Wirtschaftlichkeit'!$F$17>=Nebenrechnungen!BA14,1,0)","v":0}]
[null,"Referenz"]
[null,"Investition",{"$f":"'04_Wirtschaftlichkeit'!E49","v":239307.32359206342}]
[null,"Auszahlungen",null,{"$f":"'04_Wirtschaftlichkeit'!$E$50*D15","v":27558},{"$f":"'04_Wirtschaftlichkeit'!$E$50*E15","v":27558},{"$f":"'04_Wirtschaftlichkeit'!$E$50*F15","v":27558},{"$f":"'04_Wirtschaftlichkeit'!$E$50*G15","v":27558},{"$f":"'04_Wirtschaftlichkeit'!$E$50*H15","v":27558},{"$f":"'04_Wirtschaftlichkeit'!$E$50*I15","v":27558},{"$f":"'04_Wirtschaftlichkeit'!$E$50*J15","v":27558},{"$f":"'04_Wirtschaftlichkeit'!$E$50*K15","v":27558},{"$f":"'04_Wirtschaftlichkeit'!$E$50*L15","v":27558},{"$f":"'04_Wirtschaftlichkeit'!$E$50*M15","v":27558},{"$f":"'04_Wirtschaftlichkeit'!$E$50*N15","v":27558},{"$f":"'04_Wirtschaftlichkeit'!$E$50*O15","v":27558},{"$f":"'04_Wirtschaftlichkeit'!$E$50*P15","v":27558},{"$f":"'04_Wirtschaftlichkeit'!$E$50*Q15","v":27558},{"$f":"'04_Wirtschaftlichkeit'!$E$50*R15","v":27558},{"$f":"'04_Wirtschaftlichkeit'!$E$50*S15","v":27558},{"$f":"'04_Wirtschaftlichkeit'!$E$50*T15","v":27558},{"$f":"'04_Wirtschaftlichkeit'!$E$50*U15","v":27558},{"$f":"'04_Wirtschaftlichkeit'!$E$50*V15","v":27558},{"$f":"'04_Wirtschaftlichkeit'!$E$50*W15","v":27558},{"$f":"'04_Wirtschaftlichkeit'!$E$50*X15","v":0},{"$f":"'04_Wirtschaftlichkeit'!$E$50*Y15","v":0},{"$f":"'04_Wirtschaftlichkeit'!$E$50*Z15","v":0},{"$f":"'04_Wirtschaftlichkeit'!$E$50*AA15","v":0},{"$f":"'04_Wirtschaftlichkeit'!$E$50*AB15","v":0},{"$f":"'04_Wirtschaftlichkeit'!$E$50*AC15","v":0},{"$f":"'04_Wirtschaftlichkeit'!$E$50*AD15","v":0},{"$f":"'04_Wirtschaftlichkeit'!$E$50*AE15","v":0},{"$f":"'04_Wirtschaftlichkeit'!$E$50*AF15","v":0},{"$f":"'04_Wirtschaftlichkeit'!$E$50*AG15","v":0},{"$f":"'04_Wirtschaftlichkeit'!$E$50*AH15","v":0},{"$f":"'04_Wirtschaftlichkeit'!$E$50*AI15","v":0},{"$f":"'04_Wirtschaftlichkeit'!$E$50*AJ15","v":0},{"$f":"'04_Wirtschaftlichkeit'!$E$50*AK15","v":0},{"$f":"'04_Wirtschaftlichkeit'!$E$50*AL15","v":0},{"$f":"'04_Wirtschaftlichkeit'!$E$50*AM15","v":0},{"$f":"'04_Wirtschaftlichkeit'!$E$50*AN15","v":0},{"$f":"'04_Wirtschaftlichkeit'!$E$50*AO15","v":0},{"$f":"'04_Wirtschaftlichkeit'!$E$50*AP15","v":0},{"$f":"'04_Wirtschaftlichkeit'!$E$50*AQ15","v":0},{"$f":"'04_Wirtschaftlichkeit'!$E$50*AR15","v":0},{"$f":"'04_Wirtschaftlichkeit'!$E$50*AS15","v":0},{"$f":"'04_Wirtschaftlichkeit'!$E$50*AT15","v":0},{"$f":"'04_Wirtschaftlichkeit'!$E$50*AU15","v":0},{"$f":"'04_Wirtschaftlichkeit'!$E$50*AV15","v":0},{"$f":"'04_Wirtschaftlichkeit'!$E$50*AW15","v":0},{"$f":"'04_Wirtschaftlichkeit'!$E$50*AX15","v":0},{"$f":"'04_Wirtschaftlichkeit'!$E$50*AY15","v":0},{"$f":"'04_Wirtschaftlichkeit'!$E$50*AZ15","v":0},{"$f":"'04_Wirtschaftlichkeit'!$E$50*BA15","v":0}]
[null,"CO2 Kosten",null,{"$f":"'04_Wirtschaftlichkeit'!$E$38*'04_Wirtschaftlichkeit'!$F$18*D15","v":3253.0250000000001},{"$f":"'04_Wirtschaftlichkeit'!$E$38*'04_Wirtschaftlichkeit'!$F$18*E15","v":3253.0250000000001},{"$f":"'04_Wirtschaftlichkeit'!$E$38*'04_Wirtschaftlichkeit'!$F$18*F15","v":3253.0250000000001},{"$f":"'04_Wirtschaftlichkeit'!$E$38*'04_Wirtschaftlichkeit'!$F$18*G15","v":3253.0250000000001},{"$f":"'04_Wirtschaftlichkeit'!$E$38*'04_Wirtschaftlichkeit'!$F$18*H15","v":3253.0250000000001},{"$f":"'04_Wirtschaftlichkeit'!$E$38*'04_Wirtschaftlichkeit'!$F$18*I15","v":3253.0250000000001},{"$f":"'04_Wirtschaftlichkeit'!$E$38*'04_Wirtschaftlichkeit'!$F$18*J15","v":3253.0250000000001},{"$f":"'04_Wirtschaftlichkeit'!$E$38*'04_Wirtschaftlichkeit'!$F$18*K15","v":3253.0250000000001},{"$f":"'04_Wirtschaftlichkeit'!$E$38*'04_Wirtschaftlichkeit'!$F$18*L15","v":3253.0250000000001},{"$f":"'04_Wirtschaftlichkeit'!$E$38*'04_Wirtschaftlichkeit'!$F$18*M15","v":3253.0250000000001},{"$f":"'04_Wirtschaftlichkeit'!$E$38*'04_Wirtschaftlichkeit'!$F$18*N15","v":3253.0250000000001},{"$f":"'04_Wirtschaftlichkeit'!$E$38*'04_Wirtschaftlichkeit'!$F$18*O15","v":3253.0250000000001},{"$f":"'04_Wirtschaftlichkeit'!$E$38*'04_Wirtschaftlichkeit'!$F$18*P15","v":3253.0250000000001},{"$f":"'04_Wirtschaftlichkeit'!$E$38*'04_Wirtschaftlichkeit'!$F$18*Q15","v":3253.0250000000001},{"$f":"'04_Wirtschaftlichkeit'!$E$38*'04_Wirtschaftlichkeit'!$F$18*R15","v":3253.0250000000001},{"$f":"'04_Wirtschaftlichkeit'!$E$38*'04_Wirtschaftlichkeit'!$F$18*S15","v":3253.0250000000001},{"$f":"'04_Wirtschaftlichkeit'!$E$38*'04_Wirtschaftlichkeit'!$F$18*T15","v":3253.0250000000001},{"$f":"'04_Wirtschaftlichkeit'!$E$38*'04_Wirtschaftlichkeit'!$F$18*U15","v":3253.0250000000001},{"$f":"'04_Wirtschaftlichkeit'!$E$38*'04_Wirtschaftlichkeit'!$F$18*V15","v":3253.0250000000001},{"$f":"'04_Wirtschaftlichkeit'!$E$38*'04_Wirtschaftlichkeit'!$F$18*W15","v":3253.0250000000001},{"$f":"'04_Wirtschaftlichkeit'!$E$38*'04_Wirtschaftlichkeit'!$F$18*X15","v":0},{"$f":"'04_Wirtschaftlichkeit'!$E$38*'04_Wirtschaftlichkeit'!$F$18*Y15","v":0},{"$f":"'04_Wirtschaftlichkeit'!$E$38*'04_Wirtschaftlichkeit'!$F$18*Z15","v":0},{"$f":"'04_Wirtschaftlichkeit'!$E$38*'04_Wirtschaftlichkeit'!$F$18*AA15","v":0},{"$f":"'04_Wirtschaftlichkeit'!$E$38*'04_Wirtschaftlichkeit'!$F$18*AB15","v":0},{"$f":"'04_Wirtschaftlichkeit'!$E$38*'04_Wirtschaftlichkeit'!$F$18*AC15","v":0},{"$f":"'04_Wirtschaftlichkeit'!$E$38*'04_Wirtschaftlichkeit'!$F$18*AD15","v":0},{"$f":"'04_Wirtschaftlichkeit'!$E$38*'04_Wirtschaftlichkeit'!$F$18*AE15","v":0},{"$f":"'04_Wirtschaftlichkeit'!$E$38*'04_Wirtschaftlichkeit'!$F$18*AF15","v":0},{"$f":"'04_Wirtschaftlichkeit'!$E$38*'04_Wirtschaftlichkeit'!$F$18*AG15","v":0},{"$f":"'04_Wirtschaftlichkeit'!$E$38*'04_Wirtschaftlichkeit'!$F$18*AH15","v":0},{"$f":"'04_Wirtschaftlichkeit'!$E$38*'04_Wirtschaftlichkeit'!$F$18*AI15","v":0},{"$f":"'04_Wirtschaftlichkeit'!$E$38*'04_Wirtschaftlichkeit'!$F$18*AJ15","v":0},{"$f":"'04_Wirtschaftlichkeit'!$E$38*'04_Wirtschaftlichkeit'!$F$18*AK15","v":0},{"$f":"'04_Wirtschaftlichkeit'!$E$38*'04_Wirtschaftlichkeit'!$F$18*AL15","v":0},{"$f":"'04_Wirtschaftlichkeit'!$E$38*'04_Wirtschaftlichkeit'!$F$18*AM15","v":0},{"$f":"'04_Wirtschaftlichkeit'!$E$38*'04_Wirtschaftlichkeit'!$F$18*AN15","v":0},{"$f":"'04_Wirtschaftlichkeit'!$E$38*'04_Wirtschaftlichkeit'!$F$18*AO15","v":0},{"$f":"'04_Wirtschaftlichkeit'!$E$38*'04_Wirtschaftlichkeit'!$F$18*AP15","v":0},{"$f":"'04_Wirtschaftlichkeit'!$E$38*'04_Wirtschaftlichkeit'!$F$18*AQ15","v":0},{"$f":"'04_Wirtschaftlichkeit'!$E$38*'04_Wirtschaftlichkeit'!$F$18*AR15","v":0},{"$f":"'04_Wirtschaftlichkeit'!$E$38*'04_Wirtschaftlichkeit'!$F$18*AS15","v":0},{"$f":"'04_Wirtschaftlichkeit'!$E$38*'04_Wirtschaftlichkeit'!$F$18*AT15","v":0},{"$f":"'04_Wirtschaftlichkeit'!$E$38*'04_Wirtschaftlichkeit'!$F$18*AU15","v":0},{"$f":"'04_Wirtschaftlichkeit'!$E$38*'04_Wirtschaftlichkeit'!$F$18*AV15","v":0},{"$f":"'04_Wirtschaftlichkeit'!$E$38*'04_Wirtschaftlichkeit'!$F$18*AW15","v":0},{"$f":"'04_Wirtschaftlichkeit'!$E$38*'04_Wirtschaftlichkeit'!$F$18*AX15","v":0},{"$f":"'04_Wirtschaftlichkeit'!$E$38*'04_Wirtschaftlichkeit'!$F$18*AY15","v":0},{"$f":"'04_Wirtschaftlichkeit'!$E$38*'04_Wirtschaftlichkeit'!$F$18*AZ15","v":0},{"$f":"'04_Wirtschaftlichkeit'!$E$38*'04_Wirtschaftlichkeit'!$F$18*BA15","v":0}]
[null,"Einzahlungen",null,0,0,0,0,0,0,0,0,0,0,0,0,0,0,0,0,0,0,0,0,0,0,0,0,0,0,0,0,0,0,0,0,0,0,0,0,0,0,0,0,0,0,0,0,0,0,0,0,0,0]
[null,"Saldo je Periode",{"$f":"((C20-SUM(C17:C19))*C$15)","v":-239307.32359206342},-30811.025000000001,-30811.025000000001,-30811.025000000001,-30811.025000000001,-30811.025000000001,-30811.025000000001,-30811.025000000001,-30811.025000000001,-30811.025000000001,-30811.025000000001,-30811.025000000001,-30811.025000000001,-30811.025000000001,-30811.025000000001,-30811.025000000001,-30811.025000000001,-30811.025000000001,-30811.025000000001,-30811.025000000001,-30811.025000000001,0,0,0,0,0,0,0,0,0,0,0,{"$f":"((AI20-SUM(AI17:AI19))*AI$15)","v":0},0,0,0,0,0,0,0,0,0,0,0,0,0,0,0,0,0,0]
[null,"Periodenbarwert",{"$f":"((C20-SUM(C17:C19))*C$15)*(1+'04_Wirtschaftlichkeit'!$F$16)^-C$14","v":-239307.32359206342},{"$f":"((D20-SUM(D17:D19))*D$15)*(1+'04_Wirtschaftlichkeit'!$F$16)^-D$14","v":-30430.641975308645},{"$f":"((E20-SUM(E17:E19))*E$15)*(1+'04_Wirtschaftlichkeit'!$F$16)^-E$14","v":-30054.955037341872},{"$f":"((F20-SUM(F17:F19))*F$15)*(1+'04_Wirtschaftlichkeit'!$F$16)^-F$14","v":-29683.906209720368},{"$f":"((G20-SUM(G17:G19))*G$15)*(1+'04_Wirtschaftlichkeit'!$F$16)^-G$14","v":-29317.438231822587},{"$f":"((H20-SUM(H17:H19))*H$15)*(1+'04_Wirtschaftlichkeit'!$F$16)^-H$14","v":-28955.494549948235},{"$f":"((I20-SUM(I17:I19))*I$15)*(1+'04_Wirtschaftlichkeit'!$F$16)^-I$14","v":-28598.019308590847},{"$f":"((J20-SUM(J17:J19))*J$15)*(1+'04_Wirtschaftlichkeit'!$F$16)^-J$14","v":-28244.957341818128},{"$f":"((K20-SUM(K17:K19))*K$15)*(1+'04_Wirtschaftlichkeit'!$F$16)^-K$14","v":-27896.254164758637},{"$f":"((L20-SUM(L17:L19))*L$15)*(1+'04_Wirtschaftlichkeit'!$F$16)^-L$14","v":-27551.855965193718},{"$f":"((M20-SUM(M17:M19))*M$15)*(1+'04_Wirtschaftlichkeit'!$F$16)^-M$14","v":-27211.709595253051},{"$f":"((N20-SUM(N17:N19))*N$15)*(1+'04_Wirtschaftlichkeit'!$F$16)^-N$14","v":-26875.762563212898},{"$f":"((O20-SUM(O17:O19))*O$15)*(1+'04_Wirtschaftlichkeit'!$F$16)^-O$14","v":-26543.963025395449},{"$f":"((P20-SUM(P17:P19))*P$15)*(1+'04_Wirtschaftlichkeit'!$F$16)^-P$14","v":-26216.259778168351},{"$f":"((Q20-SUM(Q17:Q19))*Q$15)*(1+'04_Wirtschaftlichkeit'!$F$16)^-Q$14","v":-25892.602250042812},{"$f":"((R20-SUM(R17:R19))*R$15)*(1+'04_Wirtschaftlichkeit'!$F$16)^-R$14","v":-25572.94049386945},{"$f":"((S20-SUM(S17:S19))*S$15)*(1+'04_Wirtschaftlichkeit'!$F$16)^-S$14","v":-25257.225179130317},{"$f":"((T20-SUM(T17:T19))*T$15)*(1+'04_Wirtschaftlichkeit'!$F$16)^-T$14","v":-24945.40758432624},{"$f":"((U20-SUM(U17:U19))*U$15)*(1+'04_Wirtschaftlichkeit'!$F$16)^-U$14","v":-24637.439589458008},{"$f":"((V20-SUM(V17:V19))*V$15)*(1+'04_Wirtschaftlichkeit'!$F$16)^-V$14","v":-24333.273668600508},{"$f":"((W20-SUM(W17:W19))*W$15)*(1+'04_Wirtschaftlichkeit'!$F$16)^-W$14","v":-24032.862882568403},{"$f":"((X20-SUM(X17:X19))*X$15)*(1+'04_Wirtschaftlichkeit'!$F$16)^-X$14","v":0},{"$f":"((Y20-SUM(Y17:Y19))*Y$15)*(1+'04_Wirtschaftlichkeit'!$F$16)^-Y$14","v":0},{"$f":"((Z20-SUM(Z17:Z19))*Z$15)*(1+'04_Wirtschaftlichkeit'!$F$16)^-Z$14","v":0},{"$f":"((AA20-SUM(AA17:AA19))*AA$15)*(1+'04_Wirtschaftlichkeit'!$F$16)^-AA$14","v":0},{"$f":"((AB20-SUM(AB17:AB19))*AB$15)*(1+'04_Wirtschaftlichkeit'!$F$16)^-AB$14","v":0},{"$f":"((AC20-SUM(AC17:AC19))*AC$15)*(1+'04_Wirtschaftlichkeit'!$F$16)^-AC$14","v":0},{"$f":"((AD20-SUM(AD17:AD19))*AD$15)*(1+'04_Wirtschaftlichkeit'!$F$16)^-AD$14","v":0},{"$f":"((AE20-SUM(AE17:AE19))*AE$15)*(1+'04_Wirtschaftlichkeit'!$F$16)^-AE$14","v":0},{"$f":"((AF20-SUM(AF17:AF19))*AF$15)*(1+'04_Wirtschaftlichkeit'!$F$16)^-AF$14","v":0},{"$f":"((AG20-SUM(AG17:AG19))*AG$15)*(1+'04_Wirtschaftlichkeit'!$F$16)^-AG$14","v":0},{"$f":"((AH20-SUM(AH17:AH19))*AH$15)*(1+'04_Wirtschaftlichkeit'!$F$16)^-AH$14","v":0},{"$f":"((AI20-SUM(AI17:AI19))*AI$15)*(1+'04_Wirtschaftlichkeit'!$F$16)^-AI$14","v":0},{"$f":"((AJ20-SUM(AJ17:AJ19))*AJ$15)*(1+'04_Wirtschaftlichkeit'!$F$16)^-AJ$14","v":0},{"$f":"((AK20-SUM(AK17:AK19))*AK$15)*(1+'04_Wirtschaftlichkeit'!$F$16)^-AK$14","v":0},{"$f":"((AL20-SUM(AL17:AL19))*AL$15)*(1+'04_Wirtschaftlichkeit'!$F$16)^-AL$14","v":0},{"$f":"((AM20-SUM(AM17:AM19))*AM$15)*(1+'04_Wirtschaftlichkeit'!$F$16)^-AM$14","v":0},{"$f":"((AN20-SUM(AN17:AN19))*AN$15)*(1+'04_Wirtschaftlichkeit'!$F$16)^-AN$14","v":0},{"$f":"((AO20-SUM(AO17:AO19))*AO$15)*(1+'04_Wirtschaftlichkeit'!$F$16)^-AO$14","v":0},{"$f":"((AP20-SUM(AP17:AP19))*AP$15)*(1+'04_Wirtschaftlichkeit'!$F$16)^-AP$14","v":0},{"$f":"((AQ20-SUM(AQ17:AQ19))*AQ$15)*(1+'04_Wirtschaftlichkeit'!$F$16)^-AQ$14","v":0},{"$f":"((AR20-SUM(AR17:AR19))*AR$15)*(1+'04_Wirtschaftlichkeit'!$F$16)^-AR$14","v":0},{"$f":"((AS20-SUM(AS17:AS19))*AS$15)*(1+'04_Wirtschaftlichkeit'!$F$16)^-AS$14","v":0},{"$f":"((AT20-SUM(AT17:AT19))*AT$15)*(1+'04_Wirtschaftlichkeit'!$F$16)^-AT$14","v":0},{"$f":"((AU20-SUM(AU17:AU19))*AU$15)*(1+'04_Wirtschaftlichkeit'!$F$16)^-AU$14","v":0},{"$f":"((AV20-SUM(AV17:AV19))*AV$15)*(1+'04_Wirtschaftlichkeit'!$F$16)^-AV$14","v":0},{"$f":"((AW20-SUM(AW17:AW19))*AW$15)*(1+'04_Wirtschaftlichkeit'!$F$16)^-AW$14","v":0},{"$f":"((AX20-SUM(AX17:AX19))*AX$15)*(1+'04_Wirtschaftlichkeit'!$F$16)^-AX$14","v":0},{"$f":"((AY20-SUM(AY17:AY19))*AY$15)*(1+'04_Wirtschaftlichkeit'!$F$16)^-AY$14","v":0},{"$f":"((AZ20-SUM(AZ17:AZ19))*AZ$15)*(1+'04_Wirtschaftlichkeit'!$F$16)^-AZ$14","v":0},{"$f":"((BA20-SUM(BA17:BA19))*BA$15)*(1+'04_Wirtschaftlichkeit'!$F$16)^-BA$14","v":0}]
[null,"KW je Periode",{"$f":"SUM($C$22:C22)*C$15","v":-239307.32359206342},{"$f":"SUM($C$22:D22)*D$15","v":-269737.96556737204},{"$f":"SUM($C$22:E22)*E$15","v":-299792.9206047139},{"$f":"SUM($C$22:F22)*F$15","v":-329476.82681443426},{"$f":"SUM($C$22:G22)*G$15","v":-358794.26504625683},{"$f":"SUM($C$22:H22)*H$15","v":-387749.75959620508},{"$f":"SUM($C$22:I22)*I$15","v":-416347.77890479594},{"$f":"SUM($C$22:J22)*J$15","v":-444592.73624661408},{"$f":"SUM($C$22:K22)*K$15","v":-472488.99041137274},{"$f":"SUM($C$22:L22)*L$15","v":-500040.84637656645},{"$f":"SUM($C$22:M22)*M$15","v":-527252.55597181944},{"$f":"SUM($C$22:N22)*N$15","v":-554128.31853503233},{"$f":"SUM($C$22:O22)*O$15","v":-580672.28156042774},{"$f":"SUM($C$22:P22)*P$15","v":-606888.54133859614},{"$f":"SUM($C$22:Q22)*Q$15","v":-632781.14358863898},{"$f":"SUM($C$22:R22)*R$15","v":-658354.08408250846},{"$f":"SUM($C$22:S22)*S$15","v":-683611.30926163879},{"$f":"SUM($C$22:T22)*T$15","v":-708556.71684596501},{"$f":"SUM($C$22:U22)*U$15","v":-733194.15643542306},{"$f":"SUM($C$22:V22)*V$15","v":-757527.43010402354},{"$f":"SUM($C$22:W22)*W$15","v":-781560.29298659193},{"$f":"SUM($C$22:X22)*X$15","v":0},{"$f":"SUM($C$22:Y22)*Y$15","v":0},{"$f":"SUM($C$22:Z22)*Z$15","v":0},{"$f":"SUM($C$22:AA22)*AA$15","v":0},{"$f":"SUM($C$22:AB22)*AB$15","v":0},{"$f":"SUM($C$22:AC22)*AC$15","v":0},{"$f":"SUM($C$22:AD22)*AD$15","v":0},{"$f":"SUM($C$22:AE22)*AE$15","v":0},{"$f":"SUM($C$22:AF22)*AF$15","v":0},{"$f":"SUM($C$22:AG22)*AG$15","v":0},{"$f":"SUM($C$22:AH22)*AH$15","v":0},{"$f":"SUM($C$22:AI22)*AI$15","v":0},{"$f":"SUM($C$22:AJ22)*AJ$15","v":0},{"$f":"SUM($C$22:AK22)*AK$15","v":0},{"$f":"SUM($C$22:AL22)*AL$15","v":0},{"$f":"SUM($C$22:AM22)*AM$15","v":0},{"$f":"SUM($C$22:AN22)*AN$15","v":0},{"$f":"SUM($C$22:AO22)*AO$15","v":0},{"$f":"SUM($C$22:AP22)*AP$15","v":0},{"$f":"SUM($C$22:AQ22)*AQ$15","v":0},{"$f":"SUM($C$22:AR22)*AR$15","v":0},{"$f":"SUM($C$22:AS22)*AS$15","v":0},{"$f":"SUM($C$22:AT22)*AT$15","v":0},{"$f":"SUM($C$22:AU22)*AU$15","v":0},{"$f":"SUM($C$22:AV22)*AV$15","v":0},{"$f":"SUM($C$22:AW22)*AW$15","v":0},{"$f":"SUM($C$22:AX22)*AX$15","v":0},{"$f":"SUM($C$22:AY22)*AY$15","v":0},{"$f":"SUM($C$22:AZ22)*AZ$15","v":0},{"$f":"SUM($C$22:BA22)*BA$15","v":0}]
[null,"Amortisation",{"$f":"IF(AND(C23<0,D23>0),C$14+C23/(C23-D23),0)","v":0},{"$f":"IF(AND(D23<0,E23>0),D14+D23/(D23-E23),0)","v":0},0,0,0,0,0,0,0,0,0,0,0,0,0,0,0,0,0,0,0,0,0,0,0,0,0,0,0,0,0,0,0,{"$f":"IF(AND(AJ23<0,AK23>0),AJ14+AJ23/(AJ23-AK23),0)","v":0},0,0,0,0,0,0,0,0,0,0,0,0,0,0,0,0,0]
[null,"Top 1"]
[null,"Investition",{"$f":"'04_Wirtschaftlichkeit'!G49","v":1057830.7168757692}]
[null,"Auszahlungen",null,{"$f":"'04_Wirtschaftlichkeit'!$G$50*D15","v":83689},{"$f":"'04_Wirtschaftlichkeit'!$G$50*E15","v":83689},{"$f":"'04_Wirtschaftlichkeit'!$G$50*F15","v":83689},{"$f":"'04_Wirtschaftlichkeit'!$G$50*G15","v":83689},{"$f":"'04_Wirtschaftlichkeit'!$G$50*H15","v":83689},{"$f":"'04_Wirtschaftlichkeit'!$G$50*I15","v":83689},{"$f":"'04_Wirtschaftlichkeit'!$G$50*J15","v":83689},{"$f":"'04_Wirtschaftlichkeit'!$G$50*K15","v":83689},{"$f":"'04_Wirtschaftlichkeit'!$G$50*L15","v":83689},{"$f":"'04_Wirtschaftlichkeit'!$G$50*M15","v":83689},{"$f":"'04_Wirtschaftlichkeit'!$G$50*N15","v":83689},{"$f":"'04_Wirtschaftlichkeit'!$G$50*O15","v":83689},{"$f":"'04_Wirtschaftlichkeit'!$G$50*P15","v":83689},{"$f":"'04_Wirtschaftlichkeit'!$G$50*Q15","v":83689},{"$f":"'04_Wirtschaftlichkeit'!$G$50*R15","v":83689},{"$f":"'04_Wirtschaftlichkeit'!$G$50*S15","v":83689},{"$f":"'04_Wirtschaftlichkeit'!$G$50*T15","v":83689},{"$f":"'04_Wirtschaftlichkeit'!$G$50*U15","v":83689},{"$f":"'04_Wirtschaftlichkeit'!$G$50*V15","v":83689},{"$f":"'04_Wirtschaftlichkeit'!$G$50*W15","v":83689},{"$f":"'04_Wirtschaftlichkeit'!$G$50*X15","v":0},{"$f":"'04_Wirtschaftlichkeit'!$G$50*Y15","v":0},{"$f":"'04_Wirtschaftlichkeit'!$G$50*Z15","v":0},{"$f":"'04_Wirtschaftlichkeit'!$G$50*AA15","v":0},{"$f":"'04_Wirtschaftlichkeit'!$G$50*AB15","v":0},{"$f":"'04_Wirtschaftlichkeit'!$G$50*AC15","v":0},{"$f":"'04_Wirtschaftlichkeit'!$G$50*AD15","v":0},{"$f":"'04_Wirtschaftlichkeit'!$G$50*AE15","v":0},{"$f":"'04_Wirtschaftlichkeit'!$G$50*AF15","v":0},{"$f":"'04_Wirtschaftlichkeit'!$G$50*AG15","v":0},{"$f":"'04_Wirtschaftlichkeit'!$G$50*AH15","v":0},{"$f":"'04_Wirtschaftlichkeit'!$G$50*AI15","v":0},{"$f":"'04_Wirtschaftlichkeit'!$G$50*AJ15","v":0},{"$f":"'04_Wirtschaftlichkeit'!$G$50*AK15","v":0},{"$f":"'04_Wirtschaftlichkeit'!$G$50*AL15","v":0},{"$f":"'04_Wirtschaftlichkeit'!$G$50*AM15","v":0},{"$f":"'04_Wirtschaftlichkeit'!$G$50*AN15","v":0},{"$f":"'04_Wirtschaftlichkeit'!$G$50*AO15","v":0},{"$f":"'04_Wirtschaftlichkeit'!$G$50*AP15","v":0},{"$f":"'04_Wirtschaftlichkeit'!$G$50*AQ15","v":0},{"$f":"'04_Wirtschaftlichkeit'!$G$50*AR15","v":0},{"$f":"'04_Wirtschaftlichkeit'!$G$50*AS15","v":0},{"$f":"'04_Wirtschaftlichkeit'!$G$50*AT15","v":0},{"$f":"'04_Wirtschaftlichkeit'!$G$50*AU15","v":0},{"$f":"'04_Wirtschaftlichkeit'!$G$50*AV15","v":0},{"$f":"'04_Wirtschaftlichkeit'!$G$50*AW15","v":0},{"$f":"'04_Wirtschaftlichkeit'!$G$50*AX15","v":0},{"$f":"'04_Wirtschaftlichkeit'!$G$50*AY15","v":0},{"$f":"'04_Wirtschaftlichkeit'!$G$50*AZ15","v":0},{"$f":"'04_Wirtschaftlichkeit'!$G$50*BA15","v":0}]
[null,"CO2 Kosten",null,{"$f":"'04_Wirtschaftlichkeit'!$H$38*'04_Wirtschaftlichkeit'!$F$18*Nebenrechnungen!D15","v":518.9},{"$f":"'04_Wirtschaftlichkeit'!$H$38*'04_Wirtschaftlichkeit'!$F$18*Nebenrechnungen!E15","v":518.9},{"$f":"'04_Wirtschaftlichkeit'!$H$38*'04_Wirtschaftlichkeit'!$F$18*Nebenrechnungen!F15","v":518.9},{"$f":"'04_Wirtschaftlichkeit'!$H$38*'04_Wirtschaftlichkeit'!$F$18*Nebenrechnungen!G15","v":518.9},{"$f":"'04_Wirtschaftlichkeit'!$H$38*'04_Wirtschaftlichkeit'!$F$18*Nebenrechnungen!H15","v":518.9},{"$f":"'04_Wirtschaftlichkeit'!$H$38*'04_Wirtschaftlichkeit'!$F$18*Nebenrechnungen!I15","v":518.9},{"$f":"'04_Wirtschaftlichkeit'!$H$38*'04_Wirtschaftlichkeit'!$F$18*Nebenrechnungen!J15","v":518.9},{"$f":"'04_Wirtschaftlichkeit'!$H$38*'04_Wirtschaftlichkeit'!$F$18*Nebenrechnungen!K15","v":518.9},{"$f":"'04_Wirtschaftlichkeit'!$H$38*'04_Wirtschaftlichkeit'!$F$18*Nebenrechnungen!L15","v":518.9},{"$f":"'04_Wirtschaftlichkeit'!$H$38*'04_Wirtschaftlichkeit'!$F$18*Nebenrechnungen!M15","v":518.9},{"$f":"'04_Wirtschaftlichkeit'!$H$38*'04_Wirtschaftlichkeit'!$F$18*Nebenrechnungen!N15","v":518.9},{"$f":"'04_Wirtschaftlichkeit'!$H$38*'04_Wirtschaftlichkeit'!$F$18*Nebenrechnungen!O15","v":518.9},{"$f":"'04_Wirtschaftlichkeit'!$H$38*'04_Wirtschaftlichkeit'!$F$18*Nebenrechnungen!P15","v":518.9},{"$f":"'04_Wirtschaftlichkeit'!$H$38*'04_Wirtschaftlichkeit'!$F$18*Nebenrechnungen!Q15","v":518.9},{"$f":"'04_Wirtschaftlichkeit'!$H$38*'04_Wirtschaftlichkeit'!$F$18*Nebenrechnungen!R15","v":518.9},{"$f":"'04_Wirtschaftlichkeit'!$H$38*'04_Wirtschaftlichkeit'!$F$18*Nebenrechnungen!S15","v":518.9},{"$f":"'04_Wirtschaftlichkeit'!$H$38*'04_Wirtschaftlichkeit'!$F$18*Nebenrechnungen!T15","v":518.9},{"$f":"'04_Wirtschaftlichkeit'!$H$38*'04_Wirtschaftlichkeit'!$F$18*Nebenrechnungen!U15","v":518.9},{"$f":"'04_Wirtschaftlichkeit'!$H$38*'04_Wirtschaftlichkeit'!$F$18*Nebenrechnungen!V15","v":518.9},{"$f":"'04_Wirtschaftlichkeit'!$H$38*'04_Wirtschaftlichkeit'!$F$18*Nebenrechnungen!W15","v":518.9},{"$f":"'04_Wirtschaftlichkeit'!$H$38*'04_Wirtschaftlichkeit'!$F$18*Nebenrechnungen!X15","v":0},{"$f":"'04_Wirtschaftlichkeit'!$H$38*'04_Wirtschaftlichkeit'!$F$18*Nebenrechnungen!Y15","v":0},{"$f":"'04_Wirtschaftlichkeit'!$H$38*'04_Wirtschaftlichkeit'!$F$18*Nebenrechnungen!Z15","v":0},{"$f":"'04_Wirtschaftlichkeit'!$H$38*'04_Wirtschaftlichkeit'!$F$18*Nebenrechnungen!AA15","v":0},{"$f":"'04_Wirtschaftlichkeit'!$H$38*'04_Wirtschaftlichkeit'!$F$18*Nebenrechnungen!AB15","v":0},{"$f":"'04_Wirtschaftlichkeit'!$H$38*'04_Wirtschaftlichkeit'!$F$18*Nebenrechnungen!AC15","v":0},{"$f":"'04_Wirtschaftlichkeit'!$H$38*'04_Wirtschaftlichkeit'!$F$18*Nebenrechnungen!AD15","v":0},{"$f":"'04_Wirtschaftlichkeit'!$H$38*'04_Wirtschaftlichkeit'!$F$18*Nebenrechnungen!AE15","v":0},{"$f":"'04_Wirtschaftlichkeit'!$H$38*'04_Wirtschaftlichkeit'!$F$18*Nebenrechnungen!AF15","v":0},{"$f":"'04_Wirtschaftlichkeit'!$H$38*'04_Wirtschaftlichkeit'!$F$18*Nebenrechnungen!AG15","v":0},{"$f":"'04_Wirtschaftlichkeit'!$H$38*'04_Wirtschaftlichkeit'!$F$18*Nebenrechnungen!AH15","v":0},{"$f":"'04_Wirtschaftlichkeit'!$H$38*'04_Wirtschaftlichkeit'!$F$18*Nebenrechnungen!AI15","v":0},{"$f":"'04_Wirtschaftlichkeit'!$H$38*'04_Wirtschaftlichkeit'!$F$18*Nebenrechnungen!AJ15","v":0},{"$f":"'04_Wirtschaftlichkeit'!$H$38*'04_Wirtschaftlichkeit'!$F$18*Nebenrechnungen!AK15","v":0},{"$f":"'04_Wirtschaftlichkeit'!$H$38*'04_Wirtschaftlichkeit'!$F$18*Nebenrechnungen!AL15","v":0},{"$f":"'04_Wirtschaftlichkeit'!$H$38*'04_Wirtschaftlichkeit'!$F$18*Nebenrechnungen!AM15","v":0},{"$f":"'04_Wirtschaftlichkeit'!$H$38*'04_Wirtschaftlichkeit'!$F$18*Nebenrechnungen!AN15","v":0},{"$f":"'04_Wirtschaftlichkeit'!$H$38*'04_Wirtschaftlichkeit'!$F$18*Nebenrechnungen!AO15","v":0},{"$f":"'04_Wirtschaftlichkeit'!$H$38*'04_Wirtschaftlichkeit'!$F$18*Nebenrechnungen!AP15","v":0},{"$f":"'04_Wirtschaftlichkeit'!$H$38*'04_Wirtschaftlichkeit'!$F$18*Nebenrechnungen!AQ15","v":0},{"$f":"'04_Wirtschaftlichkeit'!$H$38*'04_Wirtschaftlichkeit'!$F$18*Nebenrechnungen!AR15","v":0},{"$f":"'04_Wirtschaftlichkeit'!$H$38*'04_Wirtschaftlichkeit'!$F$18*Nebenrechnungen!AS15","v":0},{"$f":"'04_Wirtschaftlichkeit'!$H$38*'04_Wirtschaftlichkeit'!$F$18*Nebenrechnungen!AT15","v":0},{"$f":"'04_Wirtschaftlichkeit'!$H$38*'04_Wirtschaftlichkeit'!$F$18*Nebenrechnungen!AU15","v":0},{"$f":"'04_Wirtschaftlichkeit'!$H$38*'04_Wirtschaftlichkeit'!$F$18*Nebenrechnungen!AV15","v":0},{"$f":"'04_Wirtschaftlichkeit'!$H$38*'04_Wirtschaftlichkeit'!$F$18*Nebenrechnungen!AW15","v":0},{"$f":"'04_Wirtschaftlichkeit'!$H$38*'04_Wirtschaftlichkeit'!$F$18*Nebenrechnungen!AX15","v":0},{"$f":"'04_Wirtschaftlichkeit'!$H$38*'04_Wirtschaftlichkeit'!$F$18*Nebenrechnungen!AY15","v":0},{"$f":"'04_Wirtschaftlichkeit'!$H$38*'04_Wirtschaftlichkeit'!$F$18*Nebenrechnungen!AZ15","v":0},{"$f":"'04_Wirtschaftlichkeit'!$H$38*'04_Wirtschaftlichkeit'!$F$18*Nebenrechnungen!BA15","v":0}]
[null,"Einzahlungen",{"$f":"-C$21","v":239307.32359206342},30811.025000000001,30811.025000000001,30811.025000000001,30811.025000000001,30811.025000000001,30811.025000000001,30811.025000000001,30811.025000000001,30811.025000000001,30811.025000000001,30811.025000000001,30811.025000000001,30811.025000000001,30811.025000000001,30811.025000000001,30811.025000000001,30811.025000000001,30811.025000000001,30811.025000000001,30811.025000000001,0,0,0,0,0,0,0,0,0,0,0,{"$f":"-AI$21","v":0},0,0,0,0,0,0,0,0,0,0,0,0,0,0,0,0,0,0]
[null,"Saldo je Periode",{"$f":"((C29-SUM(C26:C28))*C$15)","v":-818523.39328370581},-53396.874999999993,-53396.874999999993,-53396.874999999993,-53396.874999999993,-53396.874999999993,-53396.874999999993,-53396.874999999993,-53396.874999999993,-53396.874999999993,-53396.874999999993,-53396.874999999993,-53396.874999999993,-53396.874999999993,-53396.874999999993,-53396.874999999993,-53396.874999999993,-53396.874999999993,-53396.874999999993,-53396.874999999993,-53396.874999999993,0,0,0,0,0,0,0,0,0,0,0,{"$f":"((AI29-SUM(AI26:AI28))*AI$15)","v":0},0,0,0,0,0,0,0,0,0,0,0,0,0,0,0,0,0,0]
[null,"Periodenbarwert",{"$f":"((C29-SUM(C26:C28))*C$15)*(1+'04_Wirtschaftlichkeit'!$F$16)^-C$14","v":-818523.39328370581},{"$f":"((D29-SUM(D26:D28))*D$15)*(1+'04_Wirtschaftlichkeit'!$F$16)^-D$14","v":-52737.654320987647},{"$f":"((E29-SUM(E26:E28))*E$15)*(1+'04_Wirtschaftlichkeit'!$F$16)^-E$14","v":-52086.572168876693},{"$f":"((F29-SUM(F26:F28))*F$15)*(1+'04_Wirtschaftlichkeit'!$F$16)^-F$14","v":-51443.528068026368},{"$f":"((G29-SUM(G26:G28))*G$15)*(1+'04_Wirtschaftlichkeit'!$F$16)^-G$14","v":-50808.422783235917},{"$f":"((H29-SUM(H26:H28))*H$15)*(1+'04_Wirtschaftlichkeit'!$F$16)^-H$14","v":-50181.158304430537},{"$f":"((I29-SUM(I26:I28))*I$15)*(1+'04_Wirtschaftlichkeit'!$F$16)^-I$14","v":-49561.637831536333},{"$f":"((J29-SUM(J26:J28))*J$15)*(1+'04_Wirtschaftlichkeit'!$F$16)^-J$14","v":-48949.765759542068},{"$f":"((K29-SUM(K26:K28))*K$15)*(1+'04_Wirtschaftlichkeit'!$F$16)^-K$14","v":-48345.447663745239},{"$f":"((L29-SUM(L26:L28))*L$15)*(1+'04_Wirtschaftlichkeit'!$F$16)^-L$14","v":-47748.590285180486},{"$f":"((M29-SUM(M26:M28))*M$15)*(1+'04_Wirtschaftlichkeit'!$F$16)^-M$14","v":-47159.101516227631},{"$f":"((N29-SUM(N26:N28))*N$15)*(1+'04_Wirtschaftlichkeit'!$F$16)^-N$14","v":-46576.890386397674},{"$f":"((O29-SUM(O26:O28))*O$15)*(1+'04_Wirtschaftlichkeit'!$F$16)^-O$14","v":-46001.867048293992},{"$f":"((P29-SUM(P26:P28))*P$15)*(1+'04_Wirtschaftlichkeit'!$F$16)^-P$14","v":-45433.942763747167},{"$f":"((Q29-SUM(Q26:Q28))*Q$15)*(1+'04_Wirtschaftlichkeit'!$F$16)^-Q$14","v":-44873.029890120648},{"$f":"((R29-SUM(R26:R28))*R$15)*(1+'04_Wirtschaftlichkeit'!$F$16)^-R$14","v":-44319.041866785839},{"$f":"((S29-SUM(S26:S28))*S$15)*(1+'04_Wirtschaftlichkeit'!$F$16)^-S$14","v":-43771.893201763778},{"$f":"((T29-SUM(T26:T28))*T$15)*(1+'04_Wirtschaftlichkeit'!$F$16)^-T$14","v":-43231.499458532133},{"$f":"((U29-SUM(U26:U28))*U$15)*(1+'04_Wirtschaftlichkeit'!$F$16)^-U$14","v":-42697.777242994685},{"$f":"((V29-SUM(V26:V28))*V$15)*(1+'04_Wirtschaftlichkeit'!$F$16)^-V$14","v":-42170.644190612045},{"$f":"((W29-SUM(W26:W28))*W$15)*(1+'04_Wirtschaftlichkeit'!$F$16)^-W$14","v":-41650.018953690909},{"$f":"((X29-SUM(X26:X28))*X$15)*(1+'04_Wirtschaftlichkeit'!$F$16)^-X$14","v":0},{"$f":"((Y29-SUM(Y26:Y28))*Y$15)*(1+'04_Wirtschaftlichkeit'!$F$16)^-Y$14","v":0},{"$f":"((Z29-SUM(Z26:Z28))*Z$15)*(1+'04_Wirtschaftlichkeit'!$F$16)^-Z$14","v":0},{"$f":"((AA29-SUM(AA26:AA28))*AA$15)*(1+'04_Wirtschaftlichkeit'!$F$16)^-AA$14","v":0},{"$f":"((AB29-SUM(AB26:AB28))*AB$15)*(1+'04_Wirtschaftlichkeit'!$F$16)^-AB$14","v":0},{"$f":"((AC29-SUM(AC26:AC28))*AC$15)*(1+'04_Wirtschaftlichkeit'!$F$16)^-AC$14","v":0},{"$f":"((AD29-SUM(AD26:AD28))*AD$15)*(1+'04_Wirtschaftlichkeit'!$F$16)^-AD$14","v":0},{"$f":"((AE29-SUM(AE26:AE28))*AE$15)*(1+'04_Wirtschaftlichkeit'!$F$16)^-AE$14","v":0},{"$f":"((AF29-SUM(AF26:AF28))*AF$15)*(1+'04_Wirtschaftlichkeit'!$F$16)^-AF$14","v":0},{"$f":"((AG29-SUM(AG26:AG28))*AG$15)*(1+'04_Wirtschaftlichkeit'!$F$16)^-AG$14","v":0},{"$f":"((AH29-SUM(AH26:AH28))*AH$15)*(1+'04_Wirtschaftlichkeit'!$F$16)^-AH$14","v":0},{"$f":"((AI29-SUM(AI26:AI28))*AI$15)*(1+'04_Wirtschaftlichkeit'!$F$16)^-AI$14","v":0},{"$f":"((AJ29-SUM(AJ26:AJ28))*AJ$15)*(1+'04_Wirtschaftlichkeit'!$F$16)^-AJ$14","v":0},{"$f":"((AK29-SUM(AK26:AK28))*AK$15)*(1+'04_Wirtschaftlichkeit'!$F$16)^-AK$14","v":0},{"$f":"((AL29-SUM(AL26:AL28))*AL$15)*(1+'04_Wirtschaftlichkeit'!$F$16)^-AL$14","v":0},{"$f":"((AM29-SUM(AM26:AM28))*AM$15)*(1+'04_Wirtschaftlichkeit'!$F$16)^-AM$14","v":0},{"$f":"((AN29-SUM(AN26:AN28))*AN$15)*(1+'04_Wirtschaftlichkeit'!$F$16)^-AN$14","v":0},{"$f":"((AO29-SUM(AO26:AO28))*AO$15)*(1+'04_Wirtschaftlichkeit'!$F$16)^-AO$14","v":0},{"$f":"((AP29-SUM(AP26:AP28))*AP$15)*(1+'04_Wirtschaftlichkeit'!$F$16)^-AP$14","v":0},{"$f":"((AQ29-SUM(AQ26:AQ28))*AQ$15)*(1+'04_Wirtschaftlichkeit'!$F$16)^-AQ$14","v":0},{"$f":"((AR29-SUM(AR26:AR28))*AR$15)*(1+'04_Wirtschaftlichkeit'!$F$16)^-AR$14","v":0},{"$f":"((AS29-SUM(AS26:AS28))*AS$15)*(1+'04_Wirtschaftlichkeit'!$F$16)^-AS$14","v":0},{"$f":"((AT29-SUM(AT26:AT28))*AT$15)*(1+'04_Wirtschaftlichkeit'!$F$16)^-AT$14","v":0},{"$f":"((AU29-SUM(AU26:AU28))*AU$15)*(1+'04_Wirtschaftlichkeit'!$F$16)^-AU$14","v":0},{"$f":"((AV29-SUM(AV26:AV28))*AV$15)*(1+'04_Wirtschaftlichkeit'!$F$16)^-AV$14","v":0},{"$f":"((AW29-SUM(AW26:AW28))*AW$15)*(1+'04_Wirtschaftlichkeit'!$F$16)^-AW$14","v":0},{"$f":"((AX29-SUM(AX26:AX28))*AX$15)*(1+'04_Wirtschaftlichkeit'!$F$16)^-AX$14","v":0},{"$f":"((AY29-SUM(AY26:AY28))*AY$15)*(1+'04_Wirtschaftlichkeit'!$F$16)^-AY$14","v":0},{"$f":"((AZ29-SUM(AZ26:AZ28))*AZ$15)*(1+'04_Wirtschaftlichkeit'!$F$16)^-AZ$14","v":0},{"$f":"((BA29-SUM(BA26:BA28))*BA$15)*(1+'04_Wirtschaftlichkeit'!$F$16)^-BA$14","v":0}]
[null,"KW je Periode",{"$f":"SUM($C$31:C31)*C$15","v":-818523.39328370581},{"$f":"SUM($C$31:D31)*D$15","v":-871261.04760469345},{"$f":"SUM($C$31:E31)*E$15","v":-923347.6197735701},{"$f":"SUM($C$31:F31)*F$15","v":-974791.14784159651},{"$f":"SUM($C$31:G31)*G$15","v":-1025599.5706248324},{"$f":"SUM($C$31:H31)*H$15","v":-1075780.7289292628},{"$f":"SUM($C$31:I31)*I$15","v":-1125342.3667607992},{"$f":"SUM($C$31:J31)*J$15","v":-1174292.1325203413},{"$f":"SUM($C$31:K31)*K$15","v":-1222637.5801840865},{"$f":"SUM($C$31:L31)*L$15","v":-1270386.1704692668},{"$f":"SUM($C$31:M31)*M$15","v":-1317545.2719854945},{"$f":"SUM($C$31:N31)*N$15","v":-1364122.1623718922},{"$f":"SUM($C$31:O31)*O$15","v":-1410124.0294201863},{"$f":"SUM($C$31:P31)*P$15","v":-1455557.9721839335},{"$f":"SUM($C$31:Q31)*Q$15","v":-1500431.0020740542},{"$f":"SUM($C$31:R31)*R$15","v":-1544750.0439408401},{"$f":"SUM($C$31:S31)*S$15","v":-1588521.9371426038},{"$f":"SUM($C$31:T31)*T$15","v":-1631753.4366011359},{"$f":"SUM($C$31:U31)*U$15","v":-1674451.2138441305},{"$f":"SUM($C$31:V31)*V$15","v":-1716621.8580347425},{"$f":"SUM($C$31:W31)*W$15","v":-1758271.8769884335},{"$f":"SUM($C$31:X31)*X$15","v":0},{"$f":"SUM($C$31:Y31)*Y$15","v":0},{"$f":"SUM($C$31:Z31)*Z$15","v":0},{"$f":"SUM($C$31:AA31)*AA$15","v":0},{"$f":"SUM($C$31:AB31)*AB$15","v":0},{"$f":"SUM($C$31:AC31)*AC$15","v":0},{"$f":"SUM($C$31:AD31)*AD$15","v":0},{"$f":"SUM($C$31:AE31)*AE$15","v":0},{"$f":"SUM($C$31:AF31)*AF$15","v":0},{"$f":"SUM($C$31:AG31)*AG$15","v":0},{"$f":"SUM($C$31:AH31)*AH$15","v":0},{"$f":"SUM($C$31:AI31)*AI$15","v":0},{"$f":"SUM($C$31:AJ31)*AJ$15","v":0},{"$f":"SUM($C$31:AK31)*AK$15","v":0},{"$f":"SUM($C$31:AL31)*AL$15","v":0},{"$f":"SUM($C$31:AM31)*AM$15","v":0},{"$f":"SUM($C$31:AN31)*AN$15","v":0},{"$f":"SUM($C$31:AO31)*AO$15","v":0},{"$f":"SUM($C$31:AP31)*AP$15","v":0},{"$f":"SUM($C$31:AQ31)*AQ$15","v":0},{"$f":"SUM($C$31:AR31)*AR$15","v":0},{"$f":"SUM($C$31:AS31)*AS$15","v":0},{"$f":"SUM($C$31:AT31)*AT$15","v":0},{"$f":"SUM($C$31:AU31)*AU$15","v":0},{"$f":"SUM($C$31:AV31)*AV$15","v":0},{"$f":"SUM($C$31:AW31)*AW$15","v":0},{"$f":"SUM($C$31:AX31)*AX$15","v":0},{"$f":"SUM($C$31:AY31)*AY$15","v":0},{"$f":"SUM($C$31:AZ31)*AZ$15","v":0},{"$f":"SUM($C$31:BA31)*BA$15","v":0}]
[null,"Amortisation",{"$f":"IF(AND(C32<0,D32>0),C$14+C32/(C32-D32),0)","v":0},0,0,0,0,0,0,0,0,0,0,0,0,0,0,0,0,0,0,0,0,0,0,0,0,0,0,0,0,0,0,0,{"$f":"IF(AND(AI32<0,AJ32>0),AI$14+AI32/(AI32-AJ32),0)","v":0},0,0,0,0,0,0,0,0,0,0,0,0,0,0,0,0,0,0]
[null,"Top 2"]
[null,"Investition",{"$f":"'04_Wirtschaftlichkeit'!I49","v":5534773.0415019905}]
[null,"Auszahlungen",null,{"$f":"'04_Wirtschaftlichkeit'!$I$50*D15","v":83272},{"$f":"'04_Wirtschaftlichkeit'!$I$50*E15","v":83272},{"$f":"'04_Wirtschaftlichkeit'!$I$50*F15","v":83272},{"$f":"'04_Wirtschaftlichkeit'!$I$50*G15","v":83272},{"$f":"'04_Wirtschaftlichkeit'!$I$50*H15","v":83272},{"$f":"'04_Wirtschaftlichkeit'!$I$50*I15","v":83272},{"$f":"'04_Wirtschaftlichkeit'!$I$50*J15","v":83272},{"$f":"'04_Wirtschaftlichkeit'!$I$50*K15","v":83272},{"$f":"'04_Wirtschaftlichkeit'!$I$50*L15","v":83272},{"$f":"'04_Wirtschaftlichkeit'!$I$50*M15","v":83272},{"$f":"'04_Wirtschaftlichkeit'!$I$50*N15","v":83272},{"$f":"'04_Wirtschaftlichkeit'!$I$50*O15","v":83272},{"$f":"'04_Wirtschaftlichkeit'!$I$50*P15","v":83272},{"$f":"'04_Wirtschaftlichkeit'!$I$50*Q15","v":83272},{"$f":"'04_Wirtschaftlichkeit'!$I$50*R15","v":83272},{"$f":"'04_Wirtschaftlichkeit'!$I$50*S15","v":83272},{"$f":"'04_Wirtschaftlichkeit'!$I$50*T15","v":83272},{"$f":"'04_Wirtschaftlichkeit'!$I$50*U15","v":83272},{"$f":"'04_Wirtschaftlichkeit'!$I$50*V15","v":83272},{"$f":"'04_Wirtschaftlichkeit'!$I$50*W15","v":83272},{"$f":"'04_Wirtschaftlichkeit'!$I$50*X15","v":0},{"$f":"'04_Wirtschaftlichkeit'!$I$50*Y15","v":0},{"$f":"'04_Wirtschaftlichkeit'!$I$50*Z15","v":0},{"$f":"'04_Wirtschaftlichkeit'!$I$50*AA15","v":0},{"$f":"'04_Wirtschaftlichkeit'!$I$50*AB15","v":0},{"$f":"'04_Wirtschaftlichkeit'!$I$50*AC15","v":0},{"$f":"'04_Wirtschaftlichkeit'!$I$50*AD15","v":0},{"$f":"'04_Wirtschaftlichkeit'!$I$50*AE15","v":0},{"$f":"'04_Wirtschaftlichkeit'!$I$50*AF15","v":0},{"$f":"'04_Wirtschaftlichkeit'!$I$50*AG15","v":0},{"$f":"'04_Wirtschaftlichkeit'!$I$50*AH15","v":0},{"$f":"'04_Wirtschaftlichkeit'!$I$50*AI15","v":0},{"$f":"'04_Wirtschaftlichkeit'!$I$50*AJ15","v":0},{"$f":"'04_Wirtschaftlichkeit'!$I$50*AK15","v":0},{"$f":"'04_Wirtschaftlichkeit'!$I$50*AL15","v":0},{"$f":"'04_Wirtschaftlichkeit'!$I$50*AM15","v":0},{"$f":"'04_Wirtschaftlichkeit'!$I$50*AN15","v":0},{"$f":"'04_Wirtschaftlichkeit'!$I$50*AO15","v":0},{"$f":"'04_Wirtschaftlichkeit'!$I$50*AP15","v":0},{"$f":"'04_Wirtschaftlichkeit'!$I$50*AQ15","v":0},{"$f":"'04_Wirtschaftlichkeit'!$I$50*AR15","v":0},{"$f":"'04_Wirtschaftlichkeit'!$I$50*AS15","v":0},{"$f":"'04_Wirtschaftlichkeit'!$I$50*AT15","v":0},{"$f":"'04_Wirtschaftlichkeit'!$I$50*AU15","v":0},{"$f":"'04_Wirtschaftlichkeit'!$I$50*AV15","v":0},{"$f":"'04_Wirtschaftlichkeit'!$I$50*AW15","v":0},{"$f":"'04_Wirtschaftlichkeit'!$I$50*AX15","v":0},{"$f":"'04_Wirtschaftlichkeit'!$I$50*AY15","v":0},{"$f":"'04_Wirtschaftlichkeit'!$I$50*AZ15","v":0},{"$f":"'04_Wirtschaftlichkeit'!$I$50*BA15","v":0}]
[null,"CO2 Kosten",null,{"$f":"'04_Wirtschaftlichkeit'!$K$38*'04_Wirtschaftlichkeit'!$F$18*Nebenrechnungen!D15","v":0},{"$f":"'04_Wirtschaftlichkeit'!$K$38*'04_Wirtschaftlichkeit'!$F$18*Nebenrechnungen!E15","v":0},{"$f":"'04_Wirtschaftlichkeit'!$K$38*'04_Wirtschaftlichkeit'!$F$18*Nebenrechnungen!F15","v":0},{"$f":"'04_Wirtschaftlichkeit'!$K$38*'04_Wirtschaftlichkeit'!$F$18*Nebenrechnungen!G15","v":0},{"$f":"'04_Wirtschaftlichkeit'!$K$38*'04_Wirtschaftlichkeit'!$F$18*Nebenrechnungen!H15","v":0},{"$f":"'04_Wirtschaftlichkeit'!$K$38*'04_Wirtschaftlichkeit'!$F$18*Nebenrechnungen!I15","v":0},{"$f":"'04_Wirtschaftlichkeit'!$K$38*'04_Wirtschaftlichkeit'!$F$18*Nebenrechnungen!J15","v":0},{"$f":"'04_Wirtschaftlichkeit'!$K$38*'04_Wirtschaftlichkeit'!$F$18*Nebenrechnungen!K15","v":0},{"$f":"'04_Wirtschaftlichkeit'!$K$38*'04_Wirtschaftlichkeit'!$F$18*Nebenrechnungen!L15","v":0},{"$f":"'04_Wirtschaftlichkeit'!$K$38*'04_Wirtschaftlichkeit'!$F$18*Nebenrechnungen!M15","v":0},{"$f":"'04_Wirtschaftlichkeit'!$K$38*'04_Wirtschaftlichkeit'!$F$18*Nebenrechnungen!N15","v":0},{"$f":"'04_Wirtschaftlichkeit'!$K$38*'04_Wirtschaftlichkeit'!$F$18*Nebenrechnungen!O15","v":0},{"$f":"'04_Wirtschaftlichkeit'!$K$38*'04_Wirtschaftlichkeit'!$F$18*Nebenrechnungen!P15","v":0},{"$f":"'04_Wirtschaftlichkeit'!$K$38*'04_Wirtschaftlichkeit'!$F$18*Nebenrechnungen!Q15","v":0},{"$f":"'04_Wirtschaftlichkeit'!$K$38*'04_Wirtschaftlichkeit'!$F$18*Nebenrechnungen!R15","v":0},{"$f":"'04_Wirtschaftlichkeit'!$K$38*'04_Wirtschaftlichkeit'!$F$18*Nebenrechnungen!S15","v":0},{"$f":"'04_Wirtschaftlichkeit'!$K$38*'04_Wirtschaftlichkeit'!$F$18*Nebenrechnungen!T15","v":0},{"$f":"'04_Wirtschaftlichkeit'!$K$38*'04_Wirtschaftlichkeit'!$F$18*Nebenrechnungen!U15","v":0},{"$f":"'04_Wirtschaftlichkeit'!$K$38*'04_Wirtschaftlichkeit'!$F$18*Nebenrechnungen!V15","v":0},{"$f":"'04_Wirtschaftlichkeit'!$K$38*'04_Wirtschaftlichkeit'!$F$18*Nebenrechnungen!W15","v":0},{"$f":"'04_Wirtschaftlichkeit'!$K$38*'04_Wirtschaftlichkeit'!$F$18*Nebenrechnungen!X15","v":0},{"$f":"'04_Wirtschaftlichkeit'!$K$38*'04_Wirtschaftlichkeit'!$F$18*Nebenrechnungen!Y15","v":0},{"$f":"'04_Wirtschaftlichkeit'!$K$38*'04_Wirtschaftlichkeit'!$F$18*Nebenrechnungen!Z15","v":0},{"$f":"'04_Wirtschaftlichkeit'!$K$38*'04_Wirtschaftlichkeit'!$F$18*Nebenrechnungen!AA15","v":0},{"$f":"'04_Wirtschaftlichkeit'!$K$38*'04_Wirtschaftlichkeit'!$F$18*Nebenrechnungen!AB15","v":0},{"$f":"'04_Wirtschaftlichkeit'!$K$38*'04_Wirtschaftlichkeit'!$F$18*Nebenrechnungen!AC15","v":0},{"$f":"'04_Wirtschaftlichkeit'!$K$38*'04_Wirtschaftlichkeit'!$F$18*Nebenrechnungen!AD15","v":0},{"$f":"'04_Wirtschaftlichkeit'!$K$38*'04_Wirtschaftlichkeit'!$F$18*Nebenrechnungen!AE15","v":0},{"$f":"'04_Wirtschaftlichkeit'!$K$38*'04_Wirtschaftlichkeit'!$F$18*Nebenrechnungen!AF15","v":0},{"$f":"'04_Wirtschaftlichkeit'!$K$38*'04_Wirtschaftlichkeit'!$F$18*Nebenrechnungen!AG15","v":0},{"$f":"'04_Wirtschaftlichkeit'!$K$38*'04_Wirtschaftlichkeit'!$F$18*Nebenrechnungen!AH15","v":0},{"$f":"'04_Wirtschaftlichkeit'!$K$38*'04_Wirtschaftlichkeit'!$F$18*Nebenrechnungen!AI15","v":0},{"$f":"'04_Wirtschaftlichkeit'!$K$38*'04_Wirtschaftlichkeit'!$F$18*Nebenrechnungen!AJ15","v":0},{"$f":"'04_Wirtschaftlichkeit'!$K$38*'04_Wirtschaftlichkeit'!$F$18*Nebenrechnungen!AK15","v":0},{"$f":"'04_Wirtschaftlichkeit'!$K$38*'04_Wirtschaftlichkeit'!$F$18*Nebenrechnungen!AL15","v":0},{"$f":"'04_Wirtschaftlichkeit'!$K$38*'04_Wirtschaftlichkeit'!$F$18*Nebenrechnungen!AM15","v":0},{"$f":"'04_Wirtschaftlichkeit'!$K$38*'04_Wirtschaftlichkeit'!$F$18*Nebenrechnungen!AN15","v":0},{"$f":"'04_Wirtschaftlichkeit'!$K$38*'04_Wirtschaftlichkeit'!$F$18*Nebenrechnungen!AO15","v":0},{"$f":"'04_Wirtschaftlichkeit'!$K$38*'04_Wirtschaftlichkeit'!$F$18*Nebenrechnungen!AP15","v":0},{"$f":"'04_Wirtschaftlichkeit'!$K$38*'04_Wirtschaftlichkeit'!$F$18*Nebenrechnungen!AQ15","v":0},{"$f":"'04_Wirtschaftlichkeit'!$K$38*'04_Wirtschaftlichkeit'!$F$18*Nebenrechnungen!AR15","v":0},{"$f":"'04_Wirtschaftlichkeit'!$K$38*'04_Wirtschaftlichkeit'!$F$18*Nebenrechnungen!AS15","v":0},{"$f":"'04_Wirtschaftlichkeit'!$K$38*'04_Wirtschaftlichkeit'!$F$18*Nebenrechnungen!AT15","v":0},{"$f":"'04_Wirtschaftlichkeit'!$K$38*'04_Wirtschaftlichkeit'!$F$18*Nebenrechnungen!AU15","v":0},{"$f":"'04_Wirtschaftlichkeit'!$K$38*'04_Wirtschaftlichkeit'!$F$18*Nebenrechnungen!AV15","v":0},{"$f":"'04_Wirtschaftlichkeit'!$K$38*'04_Wirtschaftlichkeit'!$F$18*Nebenrechnungen!AW15","v":0},{"$f":"'04_Wirtschaftlichkeit'!$K$38*'04_Wirtschaftlichkeit'!$F$18*Nebenrechnungen!AX15","v":0},{"$f":"'04_Wirtschaftlichkeit'!$K$38*'04_Wirtschaftlichkeit'!$F$18*Nebenrechnungen!AY15","v":0},{"$f":"'04_Wirtschaftlichkeit'!$K$38*'04_Wirtschaftlichkeit'!$F$18*Nebenrechnungen!AZ15","v":0},{"$f":"'04_Wirtschaftlichkeit'!$K$38*'04_Wirtschaftlichkeit'!$F$18*Nebenrechnungen!BA15","v":0}]
[null,"Einzahlungen",{"$f":"-C$21","v":239307.32359206342},30811.025000000001,30811.025000000001,30811.025000000001,30811.025000000001,30811.025000000001,30811.025000000001,30811.025000000001,30811.025000000001,30811.025000000001,30811.025000000001,30811.025000000001,30811.025000000001,30811.025000000001,30811.025000000001,30811.025000000001,30811.025000000001,30811.025000000001,30811.025000000001,30811.025000000001,30811.025000000001,0,0,0,0,0,0,0,0,0,0,0,{"$f":"-AI$21","v":0},0,0,0,0,0,0,0,0,0,0,0,0,0,0,0,0,0,0]
[null,"Saldo je Periode",{"$f":"((C38-SUM(C35:C37))*C$15)","v":-5295465.7179099275},-52460.974999999999,-52460.974999999999,-52460.974999999999,-52460.974999999999,-52460.974999999999,-52460.974999999999,-52460.974999999999,-52460.974999999999,-52460.974999999999,-52460.974999999999,-52460.974999999999,-52460.974999999999,-52460.974999999999,-52460.974999999999,-52460.974999999999,-52460.974999999999,-52460.974999999999,-52460.974999999999,-52460.974999999999,-52460.974999999999,0,0,0,0,0,0,0,0,0,0,0,{"$f":"((AI38-SUM(AI35:AI37))*AI$15)","v":0},0,0,0,0,0,0,0,0,0,0,0,0,0,0,0,0,0,0]
[null,"Periodenbarwert",{"$f":"((C38-SUM(C35:C37))*C$15)*(1+'04_Wirtschaftlichkeit'!$F$16)^-C$14","v":-5295465.7179099275},{"$f":"((D38-SUM(D35:D37))*D$15)*(1+'04_Wirtschaftlichkeit'!$F$16)^-D$14","v":-51813.308641975309},{"$f":"((E38-SUM(E35:E37))*E$15)*(1+'04_Wirtschaftlichkeit'!$F$16)^-E$14","v":-51173.638164913886},{"$f":"((F38-SUM(F35:F37))*F$15)*(1+'04_Wirtschaftlichkeit'!$F$16)^-F$14","v":-50541.864854235944},{"$f":"((G38-SUM(G35:G37))*G$15)*(1+'04_Wirtschaftlichkeit'!$F$16)^-G$14","v":-49917.89121406019},{"$f":"((H38-SUM(H35:H37))*H$15)*(1+'04_Wirtschaftlichkeit'!$F$16)^-H$14","v":-49301.620952158213},{"$f":"((I38-SUM(I35:I37))*I$15)*(1+'04_Wirtschaftlichkeit'!$F$16)^-I$14","v":-48692.958965094527},{"$f":"((J38-SUM(J35:J37))*J$15)*(1+'04_Wirtschaftlichkeit'!$F$16)^-J$14","v":-48091.811323550159},{"$f":"((K38-SUM(K35:K37))*K$15)*(1+'04_Wirtschaftlichkeit'!$F$16)^-K$14","v":-47498.085257827312},{"$f":"((L38-SUM(L35:L37))*L$15)*(1+'04_Wirtschaftlichkeit'!$F$16)^-L$14","v":-46911.689143533149},{"$f":"((M38-SUM(M35:M37))*M$15)*(1+'04_Wirtschaftlichkeit'!$F$16)^-M$14","v":-46332.532487440141},{"$f":"((N38-SUM(N35:N37))*N$15)*(1+'04_Wirtschaftlichkeit'!$F$16)^-N$14","v":-45760.525913521138},{"$f":"((O38-SUM(O35:O37))*O$15)*(1+'04_Wirtschaftlichkeit'!$F$16)^-O$14","v":-45195.581149156671},{"$f":"((P38-SUM(P35:P37))*P$15)*(1+'04_Wirtschaftlichkeit'!$F$16)^-P$14","v":-44637.611011512774},{"$f":"((Q38-SUM(Q35:Q37))*Q$15)*(1+'04_Wirtschaftlichkeit'!$F$16)^-Q$14","v":-44086.529394086683},{"$f":"((R38-SUM(R35:R37))*R$15)*(1+'04_Wirtschaftlichkeit'!$F$16)^-R$14","v":-43542.251253418959},{"$f":"((S38-SUM(S35:S37))*S$15)*(1+'04_Wirtschaftlichkeit'!$F$16)^-S$14","v":-43004.692595969333},{"$f":"((T38-SUM(T35:T37))*T$15)*(1+'04_Wirtschaftlichkeit'!$F$16)^-T$14","v":-42473.770465154899},{"$f":"((U38-SUM(U35:U37))*U$15)*(1+'04_Wirtschaftlichkeit'!$F$16)^-U$14","v":-41949.402928548036},{"$f":"((V38-SUM(V35:V37))*V$15)*(1+'04_Wirtschaftlichkeit'!$F$16)^-V$14","v":-41431.50906523264},{"$f":"((W38-SUM(W35:W37))*W$15)*(1+'04_Wirtschaftlichkeit'!$F$16)^-W$14","v":-40920.008953316181},{"$f":"((X38-SUM(X35:X37))*X$15)*(1+'04_Wirtschaftlichkeit'!$F$16)^-X$14","v":0},{"$f":"((Y38-SUM(Y35:Y37))*Y$15)*(1+'04_Wirtschaftlichkeit'!$F$16)^-Y$14","v":0},{"$f":"((Z38-SUM(Z35:Z37))*Z$15)*(1+'04_Wirtschaftlichkeit'!$F$16)^-Z$14","v":0},{"$f":"((AA38-SUM(AA35:AA37))*AA$15)*(1+'04_Wirtschaftlichkeit'!$F$16)^-AA$14","v":0},{"$f":"((AB38-SUM(AB35:AB37))*AB$15)*(1+'04_Wirtschaftlichkeit'!$F$16)^-AB$14","v":0},{"$f":"((AC38-SUM(AC35:AC37))*AC$15)*(1+'04_Wirtschaftlichkeit'!$F$16)^-AC$14","v":0},{"$f":"((AD38-SUM(AD35:AD37))*AD$15)*(1+'04_Wirtschaftlichkeit'!$F$16)^-AD$14","v":0},{"$f":"((AE38-SUM(AE35:AE37))*AE$15)*(1+'04_Wirtschaftlichkeit'!$F$16)^-AE$14","v":0},{"$f":"((AF38-SUM(AF35:AF37))*AF$15)*(1+'04_Wirtschaftlichkeit'!$F$16)^-AF$14","v":0},{"$f":"((AG38-SUM(AG35:AG37))*AG$15)*(1+'04_Wirtschaftlichkeit'!$F$16)^-AG$14","v":0},{"$f":"((AH38-SUM(AH35:AH37))*AH$15)*(1+'04_Wirtschaftlichkeit'!$F$16)^-AH$14","v":0},{"$f":"((AI38-SUM(AI35:AI37))*AI$15)*(1+'04_Wirtschaftlichkeit'!$F$16)^-AI$14","v":0},{"$f":"((AJ38-SUM(AJ35:AJ37))*AJ$15)*(1+'04_Wirtschaftlichkeit'!$F$16)^-AJ$14","v":0},{"$f":"((AK38-SUM(AK35:AK37))*AK$15)*(1+'04_Wirtschaftlichkeit'!$F$16)^-AK$14","v":0},{"$f":"((AL38-SUM(AL35:AL37))*AL$15)*(1+'04_Wirtschaftlichkeit'!$F$16)^-AL$14","v":0},{"$f":"((AM38-SUM(AM35:AM37))*AM$15)*(1+'04_Wirtschaftlichkeit'!$F$16)^-AM$14","v":0},{"$f":"((AN38-SUM(AN35:AN37))*AN$15)*(1+'04_Wirtschaftlichkeit'!$F$16)^-AN$14","v":0},{"$f":"((AO38-SUM(AO35:AO37))*AO$15)*(1+'04_Wirtschaftlichkeit'!$F$16)^-AO$14","v":0},{"$f":"((AP38-SUM(AP35:AP37))*AP$15)*(1+'04_Wirtschaftlichkeit'!$F$16)^-AP$14","v":0},{"$f":"((AQ38-SUM(AQ35:AQ37))*AQ$15)*(1+'04_Wirtschaftlichkeit'!$F$16)^-AQ$14","v":0},{"$f":"((AR38-SUM(AR35:AR37))*AR$15)*(1+'04_Wirtschaftlichkeit'!$F$16)^-AR$14","v":0},{"$f":"((AS38-SUM(AS35:AS37))*AS$15)*(1+'04_Wirtschaftlichkeit'!$F$16)^-AS$14","v":0},{"$f":"((AT38-SUM(AT35:AT37))*AT$15)*(1+'04_Wirtschaftlichkeit'!$F$16)^-AT$14","v":0},{"$f":"((AU38-SUM(AU35:AU37))*AU$15)*(1+'04_Wirtschaftlichkeit'!$F$16)^-AU$14","v":0},{"$f":"((AV38-SUM(AV35:AV37))*AV$15)*(1+'04_Wirtschaftlichkeit'!$F$16)^-AV$14","v":0},{"$f":"((AW38-SUM(AW35:AW37))*AW$15)*(1+'04_Wirtschaftlichkeit'!$F$16)^-AW$14","v":0},{"$f":"((AX38-SUM(AX35:AX37))*AX$15)*(1+'04_Wirtschaftlichkeit'!$F$16)^-AX$14","v":0},{"$f":"((AY38-SUM(AY35:AY37))*AY$15)*(1+'04_Wirtschaftlichkeit'!$F$16)^-AY$14","v":0},{"$f":"((AZ38-SUM(AZ35:AZ37))*AZ$15)*(1+'04_Wirtschaftlichkeit'!$F$16)^-AZ$14","v":0},{"$f":"((BA38-SUM(BA35:BA37))*BA$15)*(1+'04_Wirtschaftlichkeit'!$F$16)^-BA$14","v":0}]
[null,"KW je Periode",{"$f":"SUM($C$40:C40)*C$15","v":-5295465.7179099275},{"$f":"SUM($C$40:D40)*D$15","v":-5347279.0265519032},{"$f":"SUM($C$40:E40)*E$15","v":-5398452.6647168174},{"$f":"SUM($C$40:F40)*F$15","v":-5448994.5295710536},{"$f":"SUM($C$40:G40)*G$15","v":-5498912.4207851142},{"$f":"SUM($C$40:H40)*H$15","v":-5548214.0417372724},{"$f":"SUM($C$40:I40)*I$15","v":-5596907.0007023672},{"$f":"SUM($C$40:J40)*J$15","v":-5644998.8120259177},{"$f":"SUM($C$40:K40)*K$15","v":-5692496.897283745},{"$f":"SUM($C$40:L40)*L$15","v":-5739408.5864272779},{"$f":"SUM($C$40:M40)*M$15","v":-5785741.1189147178},{"$f":"SUM($C$40:N40)*N$15","v":-5831501.6448282385},{"$f":"SUM($C$40:O40)*O$15","v":-5876697.2259773947},{"$f":"SUM($C$40:P40)*P$15","v":-5921334.8369889073},{"$f":"SUM($C$40:Q40)*Q$15","v":-5965421.3663829938},{"$f":"SUM($C$40:R40)*R$15","v":-6008963.6176364124},{"$f":"SUM($C$40:S40)*S$15","v":-6051968.3102323813},{"$f":"SUM($C$40:T40)*T$15","v":-6094442.0806975365},{"$f":"SUM($C$40:U40)*U$15","v":-6136391.4836260844},{"$f":"SUM($C$40:V40)*V$15","v":-6177822.9926913166},{"$f":"SUM($C$40:W40)*W$15","v":-6218743.0016446328},{"$f":"SUM($C$40:X40)*X$15","v":0},{"$f":"SUM($C$40:Y40)*Y$15","v":0},{"$f":"SUM($C$40:Z40)*Z$15","v":0},{"$f":"SUM($C$40:AA40)*AA$15","v":0},{"$f":"SUM($C$40:AB40)*AB$15","v":0},{"$f":"SUM($C$40:AC40)*AC$15","v":0},{"$f":"SUM($C$40:AD40)*AD$15","v":0},{"$f":"SUM($C$40:AE40)*AE$15","v":0},{"$f":"SUM($C$40:AF40)*AF$15","v":0},{"$f":"SUM($C$40:AG40)*AG$15","v":0},{"$f":"SUM($C$40:AH40)*AH$15","v":0},{"$f":"SUM($C$40:AI40)*AI$15","v":0},{"$f":"SUM($C$40:AJ40)*AJ$15","v":0},{"$f":"SUM($C$40:AK40)*AK$15","v":0},{"$f":"SUM($C$40:AL40)*AL$15","v":0},{"$f":"SUM($C$40:AM40)*AM$15","v":0},{"$f":"SUM($C$40:AN40)*AN$15","v":0},{"$f":"SUM($C$40:AO40)*AO$15","v":0},{"$f":"SUM($C$40:AP40)*AP$15","v":0},{"$f":"SUM($C$40:AQ40)*AQ$15","v":0},{"$f":"SUM($C$40:AR40)*AR$15","v":0},{"$f":"SUM($C$40:AS40)*AS$15","v":0},{"$f":"SUM($C$40:AT40)*AT$15","v":0},{"$f":"SUM($C$40:AU40)*AU$15","v":0},{"$f":"SUM($C$40:AV40)*AV$15","v":0},{"$f":"SUM($C$40:AW40)*AW$15","v":0},{"$f":"SUM($C$40:AX40)*AX$15","v":0},{"$f":"SUM($C$40:AY40)*AY$15","v":0},{"$f":"SUM($C$40:AZ40)*AZ$15","v":0},{"$f":"SUM($C$40:BA40)*BA$15","v":0}]
[null,"Amortisation",{"$f":"IF(AND(C41<0,D41>0),C$14+C41/(C41-D41),0)","v":0},0,0,0,0,0,0,0,0,0,0,0,0,0,0,0,0,0,0,0,0,0,0,0,0,0,0,0,0,0,0,0,{"$f":"IF(AND(AI41<0,AJ41>0),AI$14+AI41/(AI41-AJ41),0)","v":0},0,0,0,0,0,0,0,0,0,0,0,0,0,0,0,0,0,0]
[null,"Top 3"]
[null,"Investition",{"$f":"'04_Wirtschaftlichkeit'!K49","v":1219800.6727231806}]
[null,"Auszahlungen",null,{"$f":"'04_Wirtschaftlichkeit'!$K$50*D15","v":112403},{"$f":"'04_Wirtschaftlichkeit'!$K$50*E15","v":112403},{"$f":"'04_Wirtschaftlichkeit'!$K$50*F15","v":112403},{"$f":"'04_Wirtschaftlichkeit'!$K$50*G15","v":112403},{"$f":"'04_Wirtschaftlichkeit'!$K$50*H15","v":112403},{"$f":"'04_Wirtschaftlichkeit'!$K$50*I15","v":112403},{"$f":"'04_Wirtschaftlichkeit'!$K$50*J15","v":112403},{"$f":"'04_Wirtschaftlichkeit'!$K$50*K15","v":112403},{"$f":"'04_Wirtschaftlichkeit'!$K$50*L15","v":112403},{"$f":"'04_Wirtschaftlichkeit'!$K$50*M15","v":112403},{"$f":"'04_Wirtschaftlichkeit'!$K$50*N15","v":112403},{"$f":"'04_Wirtschaftlichkeit'!$K$50*O15","v":112403},{"$f":"'04_Wirtschaftlichkeit'!$K$50*P15","v":112403},{"$f":"'04_Wirtschaftlichkeit'!$K$50*Q15","v":112403},{"$f":"'04_Wirtschaftlichkeit'!$K$50*R15","v":112403},{"$f":"'04_Wirtschaftlichkeit'!$K$50*S15","v":112403},{"$f":"'04_Wirtschaftlichkeit'!$K$50*T15","v":112403},{"$f":"'04_Wirtschaftlichkeit'!$K$50*U15","v":112403},{"$f":"'04_Wirtschaftlichkeit'!$K$50*V15","v":112403},{"$f":"'04_Wirtschaftlichkeit'!$K$50*W15","v":112403},{"$f":"'04_Wirtschaftlichkeit'!$K$50*X15","v":0},{"$f":"'04_Wirtschaftlichkeit'!$K$50*Y15","v":0},{"$f":"'04_Wirtschaftlichkeit'!$K$50*Z15","v":0},{"$f":"'04_Wirtschaftlichkeit'!$K$50*AA15","v":0},{"$f":"'04_Wirtschaftlichkeit'!$K$50*AB15","v":0},{"$f":"'04_Wirtschaftlichkeit'!$K$50*AC15","v":0},{"$f":"'04_Wirtschaftlichkeit'!$K$50*AD15","v":0},{"$f":"'04_Wirtschaftlichkeit'!$K$50*AE15","v":0},{"$f":"'04_Wirtschaftlichkeit'!$K$50*AF15","v":0},{"$f":"'04_Wirtschaftlichkeit'!$K$50*AG15","v":0},{"$f":"'04_Wirtschaftlichkeit'!$K$50*AH15","v":0},{"$f":"'04_Wirtschaftlichkeit'!$K$50*AI15","v":0},{"$f":"'04_Wirtschaftlichkeit'!$K$50*AJ15","v":0},{"$f":"'04_Wirtschaftlichkeit'!$K$50*AK15","v":0},{"$f":"'04_Wirtschaftlichkeit'!$K$50*AL15","v":0},{"$f":"'04_Wirtschaftlichkeit'!$K$50*AM15","v":0},{"$f":"'04_Wirtschaftlichkeit'!$K$50*AN15","v":0},{"$f":"'04_Wirtschaftlichkeit'!$K$50*AO15","v":0},{"$f":"'04_Wirtschaftlichkeit'!$K$50*AP15","v":0},{"$f":"'04_Wirtschaftlichkeit'!$K$50*AQ15","v":0},{"$f":"'04_Wirtschaftlichkeit'!$K$50*AR15","v":0},{"$f":"'04_Wirtschaftlichkeit'!$K$50*AS15","v":0},{"$f":"'04_Wirtschaftlichkeit'!$K$50*AT15","v":0},{"$f":"'04_Wirtschaftlichkeit'!$K$50*AU15","v":0},{"$f":"'04_Wirtschaftlichkeit'!$K$50*AV15","v":0},{"$f":"'04_Wirtschaftlichkeit'!$K$50*AW15","v":0},{"$f":"'04_Wirtschaftlichkeit'!$K$50*AX15","v":0},{"$f":"'04_Wirtschaftlichkeit'!$K$50*AY15","v":0},{"$f":"'04_Wirtschaftlichkeit'!$K$50*AZ15","v":0},{"$f":"'04_Wirtschaftlichkeit'!$K$50*BA15","v":0}]
[null,"CO2 Kosten",null,{"$f":"'04_Wirtschaftlichkeit'!$N$38*'04_Wirtschaftlichkeit'!$F$18*Nebenrechnungen!D15","v":488.375},{"$f":"'04_Wirtschaftlichkeit'!$N$38*'04_Wirtschaftlichkeit'!$F$18*Nebenrechnungen!E15","v":488.375},{"$f":"'04_Wirtschaftlichkeit'!$N$38*'04_Wirtschaftlichkeit'!$F$18*Nebenrechnungen!F15","v":488.375},{"$f":"'04_Wirtschaftlichkeit'!$N$38*'04_Wirtschaftlichkeit'!$F$18*Nebenrechnungen!G15","v":488.375},{"$f":"'04_Wirtschaftlichkeit'!$N$38*'04_Wirtschaftlichkeit'!$F$18*Nebenrechnungen!H15","v":488.375},{"$f":"'04_Wirtschaftlichkeit'!$N$38*'04_Wirtschaftlichkeit'!$F$18*Nebenrechnungen!I15","v":488.375},{"$f":"'04_Wirtschaftlichkeit'!$N$38*'04_Wirtschaftlichkeit'!$F$18*Nebenrechnungen!J15","v":488.375},{"$f":"'04_Wirtschaftlichkeit'!$N$38*'04_Wirtschaftlichkeit'!$F$18*Nebenrechnungen!K15","v":488.375},{"$f":"'04_Wirtschaftlichkeit'!$N$38*'04_Wirtschaftlichkeit'!$F$18*Nebenrechnungen!L15","v":488.375},{"$f":"'04_Wirtschaftlichkeit'!$N$38*'04_Wirtschaftlichkeit'!$F$18*Nebenrechnungen!M15","v":488.375},{"$f":"'04_Wirtschaftlichkeit'!$N$38*'04_Wirtschaftlichkeit'!$F$18*Nebenrechnungen!N15","v":488.375},{"$f":"'04_Wirtschaftlichkeit'!$N$38*'04_Wirtschaftlichkeit'!$F$18*Nebenrechnungen!O15","v":488.375},{"$f":"'04_Wirtschaftlichkeit'!$N$38*'04_Wirtschaftlichkeit'!$F$18*Nebenrechnungen!P15","v":488.375},{"$f":"'04_Wirtschaftlichkeit'!$N$38*'04_Wirtschaftlichkeit'!$F$18*Nebenrechnungen!Q15","v":488.375},{"$f":"'04_Wirtschaftlichkeit'!$N$38*'04_Wirtschaftlichkeit'!$F$18*Nebenrechnungen!R15","v":488.375},{"$f":"'04_Wirtschaftlichkeit'!$N$38*'04_Wirtschaftlichkeit'!$F$18*Nebenrechnungen!S15","v":488.375},{"$f":"'04_Wirtschaftlichkeit'!$N$38*'04_Wirtschaftlichkeit'!$F$18*Nebenrechnungen!T15","v":488.375},{"$f":"'04_Wirtschaftlichkeit'!$N$38*'04_Wirtschaftlichkeit'!$F$18*Nebenrechnungen!U15","v":488.375},{"$f":"'04_Wirtschaftlichkeit'!$N$38*'04_Wirtschaftlichkeit'!$F$18*Nebenrechnungen!V15","v":488.375},{"$f":"'04_Wirtschaftlichkeit'!$N$38*'04_Wirtschaftlichkeit'!$F$18*Nebenrechnungen!W15","v":488.375},{"$f":"'04_Wirtschaftlichkeit'!$N$38*'04_Wirtschaftlichkeit'!$F$18*Nebenrechnungen!X15","v":0},{"$f":"'04_Wirtschaftlichkeit'!$N$38*'04_Wirtschaftlichkeit'!$F$18*Nebenrechnungen!Y15","v":0},{"$f":"'04_Wirtschaftlichkeit'!$N$38*'04_Wirtschaftlichkeit'!$F$18*Nebenrechnungen!Z15","v":0},{"$f":"'04_Wirtschaftlichkeit'!$N$38*'04_Wirtschaftlichkeit'!$F$18*Nebenrechnungen!AA15","v":0},{"$f":"'04_Wirtschaftlichkeit'!$N$38*'04_Wirtschaftlichkeit'!$F$18*Nebenrechnungen!AB15","v":0},{"$f":"'04_Wirtschaftlichkeit'!$N$38*'04_Wirtschaftlichkeit'!$F$18*Nebenrechnungen!AC15","v":0},{"$f":"'04_Wirtschaftlichkeit'!$N$38*'04_Wirtschaftlichkeit'!$F$18*Nebenrechnungen!AD15","v":0},{"$f":"'04_Wirtschaftlichkeit'!$N$38*'04_Wirtschaftlichkeit'!$F$18*Nebenrechnungen!AE15","v":0},{"$f":"'04_Wirtschaftlichkeit'!$N$38*'04_Wirtschaftlichkeit'!$F$18*Nebenrechnungen!AF15","v":0},{"$f":"'04_Wirtschaftlichkeit'!$N$38*'04_Wirtschaftlichkeit'!$F$18*Nebenrechnungen!AG15","v":0},{"$f":"'04_Wirtschaftlichkeit'!$N$38*'04_Wirtschaftlichkeit'!$F$18*Nebenrechnungen!AH15","v":0},{"$f":"'04_Wirtschaftlichkeit'!$N$38*'04_Wirtschaftlichkeit'!$F$18*Nebenrechnungen!AI15","v":0},{"$f":"'04_Wirtschaftlichkeit'!$N$38*'04_Wirtschaftlichkeit'!$F$18*Nebenrechnungen!AJ15","v":0},{"$f":"'04_Wirtschaftlichkeit'!$N$38*'04_Wirtschaftlichkeit'!$F$18*Nebenrechnungen!AK15","v":0},{"$f":"'04_Wirtschaftlichkeit'!$N$38*'04_Wirtschaftlichkeit'!$F$18*Nebenrechnungen!AL15","v":0},{"$f":"'04_Wirtschaftlichkeit'!$N$38*'04_Wirtschaftlichkeit'!$F$18*Nebenrechnungen!AM15","v":0},{"$f":"'04_Wirtschaftlichkeit'!$N$38*'04_Wirtschaftlichkeit'!$F$18*Nebenrechnungen!AN15","v":0},{"$f":"'04_Wirtschaftlichkeit'!$N$38*'04_Wirtschaftlichkeit'!$F$18*Nebenrechnungen!AO15","v":0},{"$f":"'04_Wirtschaftlichkeit'!$N$38*'04_Wirtschaftlichkeit'!$F$18*Nebenrechnungen!AP15","v":0},{"$f":"'04_Wirtschaftlichkeit'!$N$38*'04_Wirtschaftlichkeit'!$F$18*Nebenrechnungen!AQ15","v":0},{"$f":"'04_Wirtschaftlichkeit'!$N$38*'04_Wirtschaftlichkeit'!$F$18*Nebenrechnungen!AR15","v":0},{"$f":"'04_Wirtschaftlichkeit'!$N$38*'04_Wirtschaftlichkeit'!$F$18*Nebenrechnungen!AS15","v":0},{"$f":"'04_Wirtschaftlichkeit'!$N$38*'04_Wirtschaftlichkeit'!$F$18*Nebenrechnungen!AT15","v":0},{"$f":"'04_Wirtschaftlichkeit'!$N$38*'04_Wirtschaftlichkeit'!$F$18*Nebenrechnungen!AU15","v":0},{"$f":"'04_Wirtschaftlichkeit'!$N$38*'04_Wirtschaftlichkeit'!$F$18*Nebenrechnungen!AV15","v":0},{"$f":"'04_Wirtschaftlichkeit'!$N$38*'04_Wirtschaftlichkeit'!$F$18*Nebenrechnungen!AW15","v":0},{"$f":"'04_Wirtschaftlichkeit'!$N$38*'04_Wirtschaftlichkeit'!$F$18*Nebenrechnungen!AX15","v":0},{"$f":"'04_Wirtschaftlichkeit'!$N$38*'04_Wirtschaftlichkeit'!$F$18*Nebenrechnungen!AY15","v":0},{"$f":"'04_Wirtschaftlichkeit'!$N$38*'04_Wirtschaftlichkeit'!$F$18*Nebenrechnungen!AZ15","v":0},{"$f":"'04_Wirtschaftlichkeit'!$N$38*'04_Wirtschaftlichkeit'!$F$18*Nebenrechnungen!BA15","v":0}]
[null,"Einzahlungen",{"$f":"-C$21","v":239307.32359206342},30811.025000000001,30811.025000000001,30811.025000000001,30811.025000000001,30811.025000000001,30811.025000000001,30811.025000000001,30811.025000000001,30811.025000000001,30811.025000000001,30811.025000000001,30811.025000000001,30811.025000000001,30811.025000000001,30811.025000000001,30811.025000000001,30811.025000000001,30811.025000000001,30811.025000000001,30811.025000000001,0,0,0,0,0,0,0,0,0,0,0,{"$f":"-AI$21","v":0},0,0,0,0,0,0,0,0,0,0,0,0,0,0,0,0,0,0]
[null,"Saldo je Periode",{"$f":"((C47-SUM(C44:C46))*C$15)","v":-980493.34913111723},-82080.350000000006,-82080.350000000006,-82080.350000000006,-82080.350000000006,-82080.350000000006,-82080.350000000006,-82080.350000000006,-82080.350000000006,-82080.350000000006,-82080.350000000006,-82080.350000000006,-82080.350000000006,-82080.350000000006,-82080.350000000006,-82080.350000000006,-82080.350000000006,-82080.350000000006,-82080.350000000006,-82080.350000000006,-82080.350000000006,0,0,0,0,0,0,0,0,0,0,0,{"$f":"((AI47-SUM(AI44:AI46))*AI$15)","v":0},0,0,0,0,0,0,0,0,0,0,0,0,0,0,0,0,0,0]
[null,"Periodenbarwert",{"$f":"((C47-SUM(C44:C46))*C$15)*(1+'04_Wirtschaftlichkeit'!$F$16)^-C$14","v":-980493.34913111723},{"$f":"((D47-SUM(D44:D46))*D$15)*(1+'04_Wirtschaftlichkeit'!$F$16)^-D$14","v":-81067.012345679017},{"$f":"((E47-SUM(E44:E46))*E$15)*(1+'04_Wirtschaftlichkeit'!$F$16)^-E$14","v":-80066.185032769397},{"$f":"((F47-SUM(F44:F46))*F$15)*(1+'04_Wirtschaftlichkeit'!$F$16)^-F$14","v":-79077.713612611769},{"$f":"((G47-SUM(G44:G46))*G$15)*(1+'04_Wirtschaftlichkeit'!$F$16)^-G$14","v":-78101.445543320253},{"$f":"((H47-SUM(H44:H46))*H$15)*(1+'04_Wirtschaftlichkeit'!$F$16)^-H$14","v":-77137.23016624224},{"$f":"((I47-SUM(I44:I46))*I$15)*(1+'04_Wirtschaftlichkeit'!$F$16)^-I$14","v":-76184.918682708376},{"$f":"((J47-SUM(J44:J46))*J$15)*(1+'04_Wirtschaftlichkeit'!$F$16)^-J$14","v":-75244.364131070019},{"$f":"((K47-SUM(K44:K46))*K$15)*(1+'04_Wirtschaftlichkeit'!$F$16)^-K$14","v":-74315.421364019756},{"$f":"((L47-SUM(L44:L46))*L$15)*(1+'04_Wirtschaftlichkeit'!$F$16)^-L$14","v":-73397.947026192356},{"$f":"((M47-SUM(M44:M46))*M$15)*(1+'04_Wirtschaftlichkeit'!$F$16)^-M$14","v":-72491.799532041812},{"$f":"((N47-SUM(N44:N46))*N$15)*(1+'04_Wirtschaftlichkeit'!$F$16)^-N$14","v":-71596.839043991946},{"$f":"((O47-SUM(O44:O46))*O$15)*(1+'04_Wirtschaftlichkeit'!$F$16)^-O$14","v":-70712.927450856223},{"$f":"((P47-SUM(P44:P46))*P$15)*(1+'04_Wirtschaftlichkeit'!$F$16)^-P$14","v":-69839.928346524684},{"$f":"((Q47-SUM(Q44:Q46))*Q$15)*(1+'04_Wirtschaftlichkeit'!$F$16)^-Q$14","v":-68977.707008913261},{"$f":"((R47-SUM(R44:R46))*R$15)*(1+'04_Wirtschaftlichkeit'!$F$16)^-R$14","v":-68126.130379173599},{"$f":"((S47-SUM(S44:S46))*S$15)*(1+'04_Wirtschaftlichkeit'!$F$16)^-S$14","v":-67285.067041159098},{"$f":"((T47-SUM(T44:T46))*T$15)*(1+'04_Wirtschaftlichkeit'!$F$16)^-T$14","v":-66454.387201144797},{"$f":"((U47-SUM(U44:U46))*U$15)*(1+'04_Wirtschaftlichkeit'!$F$16)^-U$14","v":-65633.962667797314},{"$f":"((V47-SUM(V44:V46))*V$15)*(1+'04_Wirtschaftlichkeit'!$F$16)^-V$14","v":-64823.666832392424},{"$f":"((W47-SUM(W44:W46))*W$15)*(1+'04_Wirtschaftlichkeit'!$F$16)^-W$14","v":-64023.374649276462},{"$f":"((X47-SUM(X44:X46))*X$15)*(1+'04_Wirtschaftlichkeit'!$F$16)^-X$14","v":0},{"$f":"((Y47-SUM(Y44:Y46))*Y$15)*(1+'04_Wirtschaftlichkeit'!$F$16)^-Y$14","v":0},{"$f":"((Z47-SUM(Z44:Z46))*Z$15)*(1+'04_Wirtschaftlichkeit'!$F$16)^-Z$14","v":0},{"$f":"((AA47-SUM(AA44:AA46))*AA$15)*(1+'04_Wirtschaftlichkeit'!$F$16)^-AA$14","v":0},{"$f":"((AB47-SUM(AB44:AB46))*AB$15)*(1+'04_Wirtschaftlichkeit'!$F$16)^-AB$14","v":0},{"$f":"((AC47-SUM(AC44:AC46))*AC$15)*(1+'04_Wirtschaftlichkeit'!$F$16)^-AC$14","v":0},{"$f":"((AD47-SUM(AD44:AD46))*AD$15)*(1+'04_Wirtschaftlichkeit'!$F$16)^-AD$14","v":0},{"$f":"((AE47-SUM(AE44:AE46))*AE$15)*(1+'04_Wirtschaftlichkeit'!$F$16)^-AE$14","v":0},{"$f":"((AF47-SUM(AF44:AF46))*AF$15)*(1+'04_Wirtschaftlichkeit'!$F$16)^-AF$14","v":0},{"$f":"((AG47-SUM(AG44:AG46))*AG$15)*(1+'04_Wirtschaftlichkeit'!$F$16)^-AG$14","v":0},{"$f":"((AH47-SUM(AH44:AH46))*AH$15)*(1+'04_Wirtschaftlichkeit'!$F$16)^-AH$14","v":0},{"$f":"((AI47-SUM(AI44:AI46))*AI$15)*(1+'04_Wirtschaftlichkeit'!$F$16)^-AI$14","v":0},{"$f":"((AJ47-SUM(AJ44:AJ46))*AJ$15)*(1+'04_Wirtschaftlichkeit'!$F$16)^-AJ$14","v":0},{"$f":"((AK47-SUM(AK44:AK46))*AK$15)*(1+'04_Wirtschaftlichkeit'!$F$16)^-AK$14","v":0},{"$f":"((AL47-SUM(AL44:AL46))*AL$15)*(1+'04_Wirtschaftlichkeit'!$F$16)^-AL$14","v":0},{"$f":"((AM47-SUM(AM44:AM46))*AM$15)*(1+'04_Wirtschaftlichkeit'!$F$16)^-AM$14","v":0},{"$f":"((AN47-SUM(AN44:AN46))*AN$15)*(1+'04_Wirtschaftlichkeit'!$F$16)^-AN$14","v":0},{"$f":"((AO47-SUM(AO44:AO46))*AO$15)*(1+'04_Wirtschaftlichkeit'!$F$16)^-AO$14","v":0},{"$f":"((AP47-SUM(AP44:AP46))*AP$15)*(1+'04_Wirtschaftlichkeit'!$F$16)^-AP$14","v":0},{"$f":"((AQ47-SUM(AQ44:AQ46))*AQ$15)*(1+'04_Wirtschaftlichkeit'!$F$16)^-AQ$14","v":0},{"$f":"((AR47-SUM(AR44:AR46))*AR$15)*(1+'04_Wirtschaftlichkeit'!$F$16)^-AR$14","v":0},{"$f":"((AS47-SUM(AS44:AS46))*AS$15)*(1+'04_Wirtschaftlichkeit'!$F$16)^-AS$14","v":0},{"$f":"((AT47-SUM(AT44:AT46))*AT$15)*(1+'04_Wirtschaftlichkeit'!$F$16)^-AT$14","v":0},{"$f":"((AU47-SUM(AU44:AU46))*AU$15)*(1+'04_Wirtschaftlichkeit'!$F$16)^-AU$14","v":0},{"$f":"((AV47-SUM(AV44:AV46))*AV$15)*(1+'04_Wirtschaftlichkeit'!$F$16)^-AV$14","v":0},{"$f":"((AW47-SUM(AW44:AW46))*AW$15)*(1+'04_Wirtschaftlichkeit'!$F$16)^-AW$14","v":0},{"$f":"((AX47-SUM(AX44:AX46))*AX$15)*(1+'04_Wirtschaftlichkeit'!$F$16)^-AX$14","v":0},{"$f":"((AY47-SUM(AY44:AY46))*AY$15)*(1+'04_Wirtschaftlichkeit'!$F$16)^-AY$14","v":0},{"$f":"((AZ47-SUM(AZ44:AZ46))*AZ$15)*(1+'04_Wirtschaftlichkeit'!$F$16)^-AZ$14","v":0},{"$f":"((BA47-SUM(BA44:BA46))*BA$15)*(1+'04_Wirtschaftlichkeit'!$F$16)^-BA$14","v":0}]
[null,"KW je Periode",{"$f":"SUM($C$49:C49)*C$15","v":-980493.34913111723},{"$f":"SUM($C$49:D49)*D$15","v":-1061560.3614767962},{"$f":"SUM($C$49:E49)*E$15","v":-1141626.5465095656},{"$f":"SUM($C$49:F49)*F$15","v":-1220704.2601221774},{"$f":"SUM($C$49:G49)*G$15","v":-1298805.7056654976},{"$f":"SUM($C$49:H49)*H$15","v":-1375942.9358317398},{"$f":"SUM($C$49:I49)*I$15","v":-1452127.8545144482},{"$f":"SUM($C$49:J49)*J$15","v":-1527372.2186455182},{"$f":"SUM($C$49:K49)*K$15","v":-1601687.640009538},{"$f":"SUM($C$49:L49)*L$15","v":-1675085.5870357305},{"$f":"SUM($C$49:M49)*M$15","v":-1747577.3865677724},{"$f":"SUM($C$49:N49)*N$15","v":-1819174.2256117642},{"$f":"SUM($C$49:O49)*O$15","v":-1889887.1530626204},{"$f":"SUM($C$49:P49)*P$15","v":-1959727.0814091451},{"$f":"SUM($C$49:Q49)*Q$15","v":-2028704.7884180583},{"$f":"SUM($C$49:R49)*R$15","v":-2096830.918797232},{"$f":"SUM($C$49:S49)*S$15","v":-2164115.9858383909},{"$f":"SUM($C$49:T49)*T$15","v":-2230570.3730395357},{"$f":"SUM($C$49:U49)*U$15","v":-2296204.3357073329},{"$f":"SUM($C$49:V49)*V$15","v":-2361028.0025397255},{"$f":"SUM($C$49:W49)*W$15","v":-2425051.377189002},{"$f":"SUM($C$49:X49)*X$15","v":0},{"$f":"SUM($C$49:Y49)*Y$15","v":0},{"$f":"SUM($C$49:Z49)*Z$15","v":0},{"$f":"SUM($C$49:AA49)*AA$15","v":0},{"$f":"SUM($C$49:AB49)*AB$15","v":0},{"$f":"SUM($C$49:AC49)*AC$15","v":0},{"$f":"SUM($C$49:AD49)*AD$15","v":0},{"$f":"SUM($C$49:AE49)*AE$15","v":0},{"$f":"SUM($C$49:AF49)*AF$15","v":0},{"$f":"SUM($C$49:AG49)*AG$15","v":0},{"$f":"SUM($C$49:AH49)*AH$15","v":0},{"$f":"SUM($C$49:AI49)*AI$15","v":0},{"$f":"SUM($C$49:AJ49)*AJ$15","v":0},{"$f":"SUM($C$49:AK49)*AK$15","v":0},{"$f":"SUM($C$49:AL49)*AL$15","v":0},{"$f":"SUM($C$49:AM49)*AM$15","v":0},{"$f":"SUM($C$49:AN49)*AN$15","v":0},{"$f":"SUM($C$49:AO49)*AO$15","v":0},{"$f":"SUM($C$49:AP49)*AP$15","v":0},{"$f":"SUM($C$49:AQ49)*AQ$15","v":0},{"$f":"SUM($C$49:AR49)*AR$15","v":0},{"$f":"SUM($C$49:AS49)*AS$15","v":0},{"$f":"SUM($C$49:AT49)*AT$15","v":0},{"$f":"SUM($C$49:AU49)*AU$15","v":0},{"$f":"SUM($C$49:AV49)*AV$15","v":0},{"$f":"SUM($C$49:AW49)*AW$15","v":0},{"$f":"SUM($C$49:AX49)*AX$15","v":0},{"$f":"SUM($C$49:AY49)*AY$15","v":0},{"$f":"SUM($C$49:AZ49)*AZ$15","v":0},{"$f":"SUM($C$49:BA49)*BA$15","v":0}]
[null,"Amortisation",{"$f":"IF(AND(C50<0,D50>0),C$14+C50/(C50-D50),0)","v":0},0,0,0,0,0,0,0,0,0,0,0,0,0,0,0,0,0,0,0,0,0,0,0,0,0,0,0,0,0,0,0,{"$f":"IF(AND(AI50<0,AJ50>0),AI$14+AI50/(AI50-AJ50),0)","v":0},0,0,0,0,0,0,0,0,0,0,0,0,0,0,0,0,0,0]
[]
[null,"Hilfsrechnung für Sensitivitätsanalyse"]
[null,{"$f":"'04_Wirtschaftlichkeit'!B79","v":"Top 1"}]
[null,"Periode",0,1,2,3,4,5,6,7,8,9,10,11,12,13,14,15,16,17,18,19,20,21,22,23,24,25,26,27,28,29,30,31,32,33,34,35,36,37,38,39,40,41,42,43,44,45,46,47,48,49,50]
[null,"Betr.-Dauer",{"$f":"IF('04_Wirtschaftlichkeit'!$F$17>=Nebenrechnungen!C$55,1,0)","v":1},{"$f":"IF('04_Wirtschaftlichkeit'!$F$17>=Nebenrechnungen!D$55,1,0)","v":1},{"$f":"IF('04_Wirtschaftlichkeit'!$F$17>=Nebenrechnungen!E$55,1,0)","v":1},{"$f":"IF('04_Wirtschaftlichkeit'!$F$17>=Nebenrechnungen!F$55,1,0)","v":1},{"$f":"IF('04_Wirtschaftlichkeit'!$F$17>=Nebenrechnungen!G$55,1,0)","v":1},{"$f":"IF('04_Wirtschaftlichkeit'!$F$17>=Nebenrechnungen!H$55,1,0)","v":1},{"$f":"IF('04_Wirtschaftlichkeit'!$F$17>=Nebenrechnungen!I$55,1,0)","v":1},{"$f":"IF('04_Wirtschaftlichkeit'!$F$17>=Nebenrechnungen!J$55,1,0)","v":1},{"$f":"IF('04_Wirtschaftlichkeit'!$F$17>=Nebenrechnungen!K$55,1,0)","v":1},{"$f":"IF('04_Wirtschaftlichkeit'!$F$17>=Nebenrechnungen!L$55,1,0)","v":1},{"$f":"IF('04_Wirtschaftlichkeit'!$F$17>=Nebenrechnungen!M$55,1,0)","v":1},{"$f":"IF('04_Wirtschaftlichkeit'!$F$17>=Nebenrechnungen!N$55,1,0)","v":1},{"$f":"IF('04_Wirtschaftlichkeit'!$F$17>=Nebenrechnungen!O$55,1,0)","v":1},{"$f":"IF('04_Wirtschaftlichkeit'!$F$17>=Nebenrechnungen!P$55,1,0)","v":1},{"$f":"IF('04_Wirtschaftlichkeit'!$F$17>=Nebenrechnungen!Q$55,1,0)","v":1},{"$f":"IF('04_Wirtschaftlichkeit'!$F$17>=Nebenrechnungen!R$55,1,0)","v":1},{"$f":"IF('04_Wirtschaftlichkeit'!$F$17>=Nebenrechnungen!S$55,1,0)","v":1},{"$f":"IF('04_Wirtschaftlichkeit'!$F$17>=Nebenrechnungen!T$55,1,0)","v":1},{"$f":"IF('04_Wirtschaftlichkeit'!$F$17>=Nebenrechnungen!U$55,1,0)","v":1},{"$f":"IF('04_Wirtschaftlichkeit'!$F$17>=Nebenrechnungen!V$55,1,0)","v":1},{"$f":"IF('04_Wirtschaftlichkeit'!$F$17>=Nebenrechnungen!W$55,1,0)","v":1},{"$f":"IF('04_Wirtschaftlichkeit'!$F$17>=Nebenrechnungen!X$55,1,0)","v":0},{"$f":"IF('04_Wirtschaftlichkeit'!$F$17>=Nebenrechnungen!Y$55,1,0)","v":0},{"$f":"IF('04_Wirtschaftlichkeit'!$F$17>=Nebenrechnungen!Z$55,1,0)","v":0},{"$f":"IF('04_Wirtschaftlichkeit'!$F$17>=Nebenrechnungen!AA$55,1,0)","v":0},{"$f":"IF('04_Wirtschaftlichkeit'!$F$17>=Nebenrechnungen!AB$55,1,0)","v":0},{"$f":"IF('04_Wirtschaftlichkeit'!$F$17>=Nebenrechnungen!AC$55,1,0)","v":0},{"$f":"IF('04_Wirtschaftlichkeit'!$F$17>=Nebenrechnungen!AD$55,1,0)","v":0},{"$f":"IF('04_Wirtschaftlichkeit'!$F$17>=Nebenrechnungen!AE$55,1,0)","v":0},{"$f":"IF('04_Wirtschaftlichkeit'!$F$17>=Nebenrechnungen!AF$55,1,0)","v":0},{"$f":"IF('04_Wirtschaftlichkeit'!$F$17>=Nebenrechnungen!AG$55,1,0)","v":0},{"$f":"IF('04_Wirtschaftlichkeit'!$F$17>=Nebenrechnungen!AH$55,1,0)","v":0},{"$f":"IF('04_Wirtschaftlichkeit'!$F$17>=Nebenrechnungen!AI$55,1,0)","v":0},{"$f":"IF('04_Wirtschaftlichkeit'!$F$17>=Nebenrechnungen!AJ$55,1,0)","v":0},{"$f":"IF('04_Wirtschaftlichkeit'!$F$17>=Nebenrechnungen!AK$55,1,0)","v":0},{"$f":"IF('04_Wirtschaftlichkeit'!$F$17>=Nebenrechnungen!AL$55,1,0)","v":0},{"$f":"IF('04_Wirtschaftlichkeit'!$F$17>=Nebenrechnungen!AM$55,1,0)","v":0},{"$f":"IF('04_Wirtschaftlichkeit'!$F$17>=Nebenrechnungen!AN$55,1,0)","v":0},{"$f":"IF('04_Wirtschaftlichkeit'!$F$17>=Nebenrechnungen!AO$55,1,0)","v":0},{"$f":"IF('04_Wirtschaftlichkeit'!$F$17>=Nebenrechnungen!AP$55,1,0)","v":0},{"$f":"IF('04_Wirtschaftlichkeit'!$F$17>=Nebenrechnungen!AQ$55,1,0)","v":0},{"$f":"IF('04_Wirtschaftlichkeit'!$F$17>=Nebenrechnungen!AR$55,1,0)","v":0},{"$f":"IF('04_Wirtschaftlichkeit'!$F$17>=Nebenrechnungen!AS$55,1,0)","v":0},{"$f":"IF('04_Wirtschaftlichkeit'!$F$17>=Nebenrechnungen!AT$55,1,0)","v":0},{"$f":"IF('04_Wirtschaftlichkeit'!$F$17>=Nebenrechnungen!AU$55,1,0)","v":0},{"$f":"IF('04_Wirtschaftlichkeit'!$F$17>=Nebenrechnungen!AV$55,1,0)","v":0},{"$f":"IF('04_Wirtschaftlichkeit'!$F$17>=Nebenrechnungen!AW$55,1,0)","v":0},{"$f":"IF('04_Wirtschaftlichkeit'!$F$17>=Nebenrechnungen!AX$55,1,0)","v":0},{"$f":"IF('04_Wirtschaftlichkeit'!$F$17>=Nebenrechnungen!AY$55,1,0)","v":0},{"$f":"IF('04_Wirtschaftlichkeit'!$F$17>=Nebenrechnungen!AZ$55,1,0)","v":0},{"$f":"IF('04_Wirtschaftlichkeit'!$F$17>=Nebenrechnungen!BA$55,1,0)","v":0}]
[null,"Investition"]
[null,-0.5,{"$f":"-HLOOKUP($B$54,'04_Wirtschaftlichkeit'!$E$44:$L$57,6,FALSE)*(1+B58)","v":-528915.3584378846},{"$f":"D$56*(-HLOOKUP($B$54,'04_Wirtschaftlichkeit'!$E$44:$L$57,7,FALSE)-HLOOKUP($B$54,'04_Wirtschaftlichkeit'!$E$44:$L$57,5,FALSE))","v":-84207.9},{"$f":"E$56*(-HLOOKUP($B$54,'04_Wirtschaftlichkeit'!$E$44:$L$57,7,FALSE)-HLOOKUP($B$54,'04_Wirtschaftlichkeit'!$E$44:$L$57,5,FALSE))","v":-84207.9},{"$f":"F$56*(-HLOOKUP($B$54,'04_Wirtschaftlichkeit'!$E$44:$L$57,7,FALSE)-HLOOKUP($B$54,'04_Wirtschaftlichkeit'!$E$44:$L$57,5,FALSE))","v":-84207.9},{"$f":"G$56*(-HLOOKUP($B$54,'04_Wirtschaftlichkeit'!$E$44:$L$57,7,FALSE)-HLOOKUP($B$54,'04_Wirtschaftlichkeit'!$E$44:$L$57,5,FALSE))","v":-84207.9},{"$f":"H$56*(-HLOOKUP($B$54,'04_Wirtschaftlichkeit'!$E$44:$L$57,7,FALSE)-HLOOKUP($B$54,'04_Wirtschaftlichkeit'!$E$44:$L$57,5,FALSE))","v":-84207.9},{"$f":"I$56*(-HLOOKUP($B$54,'04_Wirtschaftlichkeit'!$E$44:$L$57,7,FALSE)-HLOOKUP($B$54,'04_Wirtschaftlichkeit'!$E$44:$L$57,5,FALSE))","v":-84207.9},{"$f":"J$56*(-HLOOKUP($B$54,'04_Wirtschaftlichkeit'!$E$44:$L$57,7,FALSE)-HLOOKUP($B$54,'04_Wirtschaftlichkeit'!$E$44:$L$57,5,FALSE))","v":-84207.9},{"$f":"K$56*(-HLOOKUP($B$54,'04_Wirtschaftlichkeit'!$E$44:$L$57,7,FALSE)-HLOOKUP($B$54,'04_Wirtschaftlichkeit'!$E$44:$L$57,5,FALSE))","v":-84207.9},{"$f":"L$56*(-HLOOKUP($B$54,'04_Wirtschaftlichkeit'!$E$44:$L$57,7,FALSE)-HLOOKUP($B$54,'04_Wirtschaftlichkeit'!$E$44:$L$57,5,FALSE))","v":-84207.9},{"$f":"M$56*(-HLOOKUP($B$54,'04_Wirtschaftlichkeit'!$E$44:$L$57,7,FALSE)-HLOOKUP($B$54,'04_Wirtschaftlichkeit'!$E$44:$L$57,5,FALSE))","v":-84207.9},{"$f":"N$56*(-HLOOKUP($B$54,'04_Wirtschaftlichkeit'!$E$44:$L$57,7,FALSE)-HLOOKUP($B$54,'04_Wirtschaftlichkeit'!$E$44:$L$57,5,FALSE))","v":-84207.9},{"$f":"O$56*(-HLOOKUP($B$54,'04_Wirtschaftlichkeit'!$E$44:$L$57,7,FALSE)-HLOOKUP($B$54,'04_Wirtschaftlichkeit'!$E$44:$L$57,5,FALSE))","v":-84207.9},{"$f":"P$56*(-HLOOKUP($B$54,'04_Wirtschaftlichkeit'!$E$44:$L$57,7,FALSE)-HLOOKUP($B$54,'04_Wirtschaftlichkeit'!$E$44:$L$57,5,FALSE))","v":-84207.9},{"$f":"Q$56*(-HLOOKUP($B$54,'04_Wirtschaftlichkeit'!$E$44:$L$57,7,FALSE)-HLOOKUP($B$54,'04_Wirtschaftlichkeit'!$E$44:$L$57,5,FALSE))","v":-84207.9},{"$f":"R$56*(-HLOOKUP($B$54,'04_Wirtschaftlichkeit'!$E$44:$L$57,7,FALSE)-HLOOKUP($B$54,'04_Wirtschaftlichkeit'!$E$44:$L$57,5,FALSE))","v":-84207.9},{"$f":"S$56*(-HLOOKUP($B$54,'04_Wirtschaftlichkeit'!$E$44:$L$57,7,FALSE)-HLOOKUP($B$54,'04_Wirtschaftlichkeit'!$E$44:$L$57,5,FALSE))","v":-84207.9},{"$f":"T$56*(-HLOOKUP($B$54,'04_Wirtschaftlichkeit'!$E$44:$L$57,7,FALSE)-HLOOKUP($B$54,'04_Wirtschaftlichkeit'!$E$44:$L$57,5,FALSE))","v":-84207.9},{"$f":"U$56*(-HLOOKUP($B$54,'04_Wirtschaftlichkeit'!$E$44:$L$57,7,FALSE)-HLOOKUP($B$54,'04_Wirtschaftlichkeit'!$E$44:$L$57,5,FALSE))","v":-84207.9},{"$f":"V$56*(-HLOOKUP($B$54,'04_Wirtschaftlichkeit'!$E$44:$L$57,7,FALSE)-HLOOKUP($B$54,'04_Wirtschaftlichkeit'!$E$44:$L$57,5,FALSE))","v":-84207.9},{"$f":"W$56*(-HLOOKUP($B$54,'04_Wirtschaftlichkeit'!$E$44:$L$57,7,FALSE)-HLOOKUP($B$54,'04_Wirtschaftlichkeit'!$E$44:$L$57,5,FALSE))","v":-84207.9},{"$f":"X$56*(-HLOOKUP($B$54,'04_Wirtschaftlichkeit'!$E$44:$L$57,7,FALSE)-HLOOKUP($B$54,'04_Wirtschaftlichkeit'!$E$44:$L$57,5,FALSE))","v":0},{"$f":"Y$56*(-HLOOKUP($B$54,'04_Wirtschaftlichkeit'!$E$44:$L$57,7,FALSE)-HLOOKUP($B$54,'04_Wirtschaftlichkeit'!$E$44:$L$57,5,FALSE))","v":0},{"$f":"Z$56*(-HLOOKUP($B$54,'04_Wirtschaftlichkeit'!$E$44:$L$57,7,FALSE)-HLOOKUP($B$54,'04_Wirtschaftlichkeit'!$E$44:$L$57,5,FALSE))","v":0},{"$f":"AA$56*(-HLOOKUP($B$54,'04_Wirtschaftlichkeit'!$E$44:$L$57,7,FALSE)-HLOOKUP($B$54,'04_Wirtschaftlichkeit'!$E$44:$L$57,5,FALSE))","v":0},{"$f":"AB$56*(-HLOOKUP($B$54,'04_Wirtschaftlichkeit'!$E$44:$L$57,7,FALSE)-HLOOKUP($B$54,'04_Wirtschaftlichkeit'!$E$44:$L$57,5,FALSE))","v":0},{"$f":"AC$56*(-HLOOKUP($B$54,'04_Wirtschaftlichkeit'!$E$44:$L$57,7,FALSE)-HLOOKUP($B$54,'04_Wirtschaftlichkeit'!$E$44:$L$57,5,FALSE))","v":0},{"$f":"AD$56*(-HLOOKUP($B$54,'04_Wirtschaftlichkeit'!$E$44:$L$57,7,FALSE)-HLOOKUP($B$54,'04_Wirtschaftlichkeit'!$E$44:$L$57,5,FALSE))","v":0},{"$f":"AE$56*(-HLOOKUP($B$54,'04_Wirtschaftlichkeit'!$E$44:$L$57,7,FALSE)-HLOOKUP($B$54,'04_Wirtschaftlichkeit'!$E$44:$L$57,5,FALSE))","v":0},{"$f":"AF$56*(-HLOOKUP($B$54,'04_Wirtschaftlichkeit'!$E$44:$L$57,7,FALSE)-HLOOKUP($B$54,'04_Wirtschaftlichkeit'!$E$44:$L$57,5,FALSE))","v":0},{"$f":"AG$56*(-HLOOKUP($B$54,'04_Wirtschaftlichkeit'!$E$44:$L$57,7,FALSE)-HLOOKUP($B$54,'04_Wirtschaftlichkeit'!$E$44:$L$57,5,FALSE))","v":0},{"$f":"AH$56*(-HLOOKUP($B$54,'04_Wirtschaftlichkeit'!$E$44:$L$57,7,FALSE)-HLOOKUP($B$54,'04_Wirtschaftlichkeit'!$E$44:$L$57,5,FALSE))","v":0},{"$f":"AI$56*(-HLOOKUP($B$54,'04_Wirtschaftlichkeit'!$E$44:$L$57,7,FALSE)-HLOOKUP($B$54,'04_Wirtschaftlichkeit'!$E$44:$L$57,5,FALSE))","v":0},{"$f":"AJ$56*(-HLOOKUP($B$54,'04_Wirtschaftlichkeit'!$E$44:$L$57,7,FALSE)-HLOOKUP($B$54,'04_Wirtschaftlichkeit'!$E$44:$L$57,5,FALSE))","v":0},{"$f":"AK$56*(-HLOOKUP($B$54,'04_Wirtschaftlichkeit'!$E$44:$L$57,7,FALSE)-HLOOKUP($B$54,'04_Wirtschaftlichkeit'!$E$44:$L$57,5,FALSE))","v":0},{"$f":"AL$56*(-HLOOKUP($B$54,'04_Wirtschaftlichkeit'!$E$44:$L$57,7,FALSE)-HLOOKUP($B$54,'04_Wirtschaftlichkeit'!$E$44:$L$57,5,FALSE))","v":0},{"$f":"AM$56*(-HLOOKUP($B$54,'04_Wirtschaftlichkeit'!$E$44:$L$57,7,FALSE)-HLOOKUP($B$54,'04_Wirtschaftlichkeit'!$E$44:$L$57,5,FALSE))","v":0},{"$f":"AN$56*(-HLOOKUP($B$54,'04_Wirtschaftlichkeit'!$E$44:$L$57,7,FALSE)-HLOOKUP($B$54,'04_Wirtschaftlichkeit'!$E$44:$L$57,5,FALSE))","v":0},{"$f":"AO$56*(-HLOOKUP($B$54,'04_Wirtschaftlichkeit'!$E$44:$L$57,7,FALSE)-HLOOKUP($B$54,'04_Wirtschaftlichkeit'!$E$44:$L$57,5,FALSE))","v":0},{"$f":"AP$56*(-HLOOKUP($B$54,'04_Wirtschaftlichkeit'!$E$44:$L$57,7,FALSE)-HLOOKUP($B$54,'04_Wirtschaftlichkeit'!$E$44:$L$57,5,FALSE))","v":0},{"$f":"AQ$56*(-HLOOKUP($B$54,'04_Wirtschaftlichkeit'!$E$44:$L$57,7,FALSE)-HLOOKUP($B$54,'04_Wirtschaftlichkeit'!$E$44:$L$57,5,FALSE))","v":0},{"$f":"AR$56*(-HLOOKUP($B$54,'04_Wirtschaftlichkeit'!$E$44:$L$57,7,FALSE)-HLOOKUP($B$54,'04_Wirtschaftlichkeit'!$E$44:$L$57,5,FALSE))","v":0},{"$f":"AS$56*(-HLOOKUP($B$54,'04_Wirtschaftlichkeit'!$E$44:$L$57,7,FALSE)-HLOOKUP($B$54,'04_Wirtschaftlichkeit'!$E$44:$L$57,5,FALSE))","v":0},{"$f":"AT$56*(-HLOOKUP($B$54,'04_Wirtschaftlichkeit'!$E$44:$L$57,7,FALSE)-HLOOKUP($B$54,'04_Wirtschaftlichkeit'!$E$44:$L$57,5,FALSE))","v":0},{"$f":"AU$56*(-HLOOKUP($B$54,'04_Wirtschaftlichkeit'!$E$44:$L$57,7,FALSE)-HLOOKUP($B$54,'04_Wirtschaftlichkeit'!$E$44:$L$57,5,FALSE))","v":0},{"$f":"AV$56*(-HLOOKUP($B$54,'04_Wirtschaftlichkeit'!$E$44:$L$57,7,FALSE)-HLOOKUP($B$54,'04_Wirtschaftlichkeit'!$E$44:$L$57,5,FALSE))","v":0},{"$f":"AW$56*(-HLOOKUP($B$54,'04_Wirtschaftlichkeit'!$E$44:$L$57,7,FALSE)-HLOOKUP($B$54,'04_Wirtschaftlichkeit'!$E$44:$L$57,5,FALSE))","v":0},{"$f":"AX$56*(-HLOOKUP($B$54,'04_Wirtschaftlichkeit'!$E$44:$L$57,7,FALSE)-HLOOKUP($B$54,'04_Wirtschaftlichkeit'!$E$44:$L$57,5,FALSE))","v":0},{"$f":"AY$56*(-HLOOKUP($B$54,'04_Wirtschaftlichkeit'!$E$44:$L$57,7,FALSE)-HLOOKUP($B$54,'04_Wirtschaftlichkeit'!$E$44:$L$57,5,FALSE))","v":0},{"$f":"AZ$56*(-HLOOKUP($B$54,'04_Wirtschaftlichkeit'!$E$44:$L$57,7,FALSE)-HLOOKUP($B$54,'04_Wirtschaftlichkeit'!$E$44:$L$57,5,FALSE))","v":0},{"$f":"BA$56*(-HLOOKUP($B$54,'04_Wirtschaftlichkeit'!$E$44:$L$57,7,FALSE)-HLOOKUP($B$54,'04_Wirtschaftlichkeit'!$E$44:$L$57,5,FALSE))","v":0}]
[null,-0.4,{"$f":"-HLOOKUP($B$54,'04_Wirtschaftlichkeit'!$E$44:$L$57,6,FALSE)*(1+B59)","v":-634698.43012546154},{"$f":"D$56*(-HLOOKUP($B$54,'04_Wirtschaftlichkeit'!$E$44:$L$57,7,FALSE)-HLOOKUP($B$54,'04_Wirtschaftlichkeit'!$E$44:$L$57,5,FALSE))","v":-84207.9},{"$f":"E$56*(-HLOOKUP($B$54,'04_Wirtschaftlichkeit'!$E$44:$L$57,7,FALSE)-HLOOKUP($B$54,'04_Wirtschaftlichkeit'!$E$44:$L$57,5,FALSE))","v":-84207.9},{"$f":"F$56*(-HLOOKUP($B$54,'04_Wirtschaftlichkeit'!$E$44:$L$57,7,FALSE)-HLOOKUP($B$54,'04_Wirtschaftlichkeit'!$E$44:$L$57,5,FALSE))","v":-84207.9},{"$f":"G$56*(-HLOOKUP($B$54,'04_Wirtschaftlichkeit'!$E$44:$L$57,7,FALSE)-HLOOKUP($B$54,'04_Wirtschaftlichkeit'!$E$44:$L$57,5,FALSE))","v":-84207.9},{"$f":"H$56*(-HLOOKUP($B$54,'04_Wirtschaftlichkeit'!$E$44:$L$57,7,FALSE)-HLOOKUP($B$54,'04_Wirtschaftlichkeit'!$E$44:$L$57,5,FALSE))","v":-84207.9},{"$f":"I$56*(-HLOOKUP($B$54,'04_Wirtschaftlichkeit'!$E$44:$L$57,7,FALSE)-HLOOKUP($B$54,'04_Wirtschaftlichkeit'!$E$44:$L$57,5,FALSE))","v":-84207.9},{"$f":"J$56*(-HLOOKUP($B$54,'04_Wirtschaftlichkeit'!$E$44:$L$57,7,FALSE)-HLOOKUP($B$54,'04_Wirtschaftlichkeit'!$E$44:$L$57,5,FALSE))","v":-84207.9},{"$f":"K$56*(-HLOOKUP($B$54,'04_Wirtschaftlichkeit'!$E$44:$L$57,7,FALSE)-HLOOKUP($B$54,'04_Wirtschaftlichkeit'!$E$44:$L$57,5,FALSE))","v":-84207.9},{"$f":"L$56*(-HLOOKUP($B$54,'04_Wirtschaftlichkeit'!$E$44:$L$57,7,FALSE)-HLOOKUP($B$54,'04_Wirtschaftlichkeit'!$E$44:$L$57,5,FALSE))","v":-84207.9},{"$f":"M$56*(-HLOOKUP($B$54,'04_Wirtschaftlichkeit'!$E$44:$L$57,7,FALSE)-HLOOKUP($B$54,'04_Wirtschaftlichkeit'!$E$44:$L$57,5,FALSE))","v":-84207.9},{"$f":"N$56*(-HLOOKUP($B$54,'04_Wirtschaftlichkeit'!$E$44:$L$57,7,FALSE)-HLOOKUP($B$54,'04_Wirtschaftlichkeit'!$E$44:$L$57,5,FALSE))","v":-84207.9},{"$f":"O$56*(-HLOOKUP($B$54,'04_Wirtschaftlichkeit'!$E$44:$L$57,7,FALSE)-HLOOKUP($B$54,'04_Wirtschaftlichkeit'!$E$44:$L$57,5,FALSE))","v":-84207.9},{"$f":"P$56*(-HLOOKUP($B$54,'04_Wirtschaftlichkeit'!$E$44:$L$57,7,FALSE)-HLOOKUP($B$54,'04_Wirtschaftlichkeit'!$E$44:$L$57,5,FALSE))","v":-84207.9},{"$f":"Q$56*(-HLOOKUP($B$54,'04_Wirtschaftlichkeit'!$E$44:$L$57,7,FALSE)-HLOOKUP($B$54,'04_Wirtschaftlichkeit'!$E$44:$L$57,5,FALSE))","v":-84207.9},{"$f":"R$56*(-HLOOKUP($B$54,'04_Wirtschaftlichkeit'!$E$44:$L$57,7,FALSE)-HLOOKUP($B$54,'04_Wirtschaftlichkeit'!$E$44:$L$57,5,FALSE))","v":-84207.9},{"$f":"S$56*(-HLOOKUP($B$54,'04_Wirtschaftlichkeit'!$E$44:$L$57,7,FALSE)-HLOOKUP($B$54,'04_Wirtschaftlichkeit'!$E$44:$L$57,5,FALSE))","v":-84207.9},{"$f":"T$56*(-HLOOKUP($B$54,'04_Wirtschaftlichkeit'!$E$44:$L$57,7,FALSE)-HLOOKUP($B$54,'04_Wirtschaftlichkeit'!$E$44:$L$57,5,FALSE))","v":-84207.9},{"$f":"U$56*(-HLOOKUP($B$54,'04_Wirtschaftlichkeit'!$E$44:$L$57,7,FALSE)-HLOOKUP($B$54,'04_Wirtschaftlichkeit'!$E$44:$L$57,5,FALSE))","v":-84207.9},{"$f":"V$56*(-HLOOKUP($B$54,'04_Wirtschaftlichkeit'!$E$44:$L$57,7,FALSE)-HLOOKUP($B$54,'04_Wirtschaftlichkeit'!$E$44:$L$57,5,FALSE))","v":-84207.9},{"$f":"W$56*(-HLOOKUP($B$54,'04_Wirtschaftlichkeit'!$E$44:$L$57,7,FALSE)-HLOOKUP($B$54,'04_Wirtschaftlichkeit'!$E$44:$L$57,5,FALSE))","v":-84207.9},{"$f":"X$56*(-HLOOKUP($B$54,'04_Wirtschaftlichkeit'!$E$44:$L$57,7,FALSE)-HLOOKUP($B$54,'04_Wirtschaftlichkeit'!$E$44:$L$57,5,FALSE))","v":0},{"$f":"Y$56*(-HLOOKUP($B$54,'04_Wirtschaftlichkeit'!$E$44:$L$57,7,FALSE)-HLOOKUP($B$54,'04_Wirtschaftlichkeit'!$E$44:$L$57,5,FALSE))","v":0},{"$f":"Z$56*(-HLOOKUP($B$54,'04_Wirtschaftlichkeit'!$E$44:$L$57,7,FALSE)-HLOOKUP($B$54,'04_Wirtschaftlichkeit'!$E$44:$L$57,5,FALSE))","v":0},{"$f":"AA$56*(-HLOOKUP($B$54,'04_Wirtschaftlichkeit'!$E$44:$L$57,7,FALSE)-HLOOKUP($B$54,'04_Wirtschaftlichkeit'!$E$44:$L$57,5,FALSE))","v":0},{"$f":"AB$56*(-HLOOKUP($B$54,'04_Wirtschaftlichkeit'!$E$44:$L$57,7,FALSE)-HLOOKUP($B$54,'04_Wirtschaftlichkeit'!$E$44:$L$57,5,FALSE))","v":0},{"$f":"AC$56*(-HLOOKUP($B$54,'04_Wirtschaftlichkeit'!$E$44:$L$57,7,FALSE)-HLOOKUP($B$54,'04_Wirtschaftlichkeit'!$E$44:$L$57,5,FALSE))","v":0},{"$f":"AD$56*(-HLOOKUP($B$54,'04_Wirtschaftlichkeit'!$E$44:$L$57,7,FALSE)-HLOOKUP($B$54,'04_Wirtschaftlichkeit'!$E$44:$L$57,5,FALSE))","v":0},{"$f":"AE$56*(-HLOOKUP($B$54,'04_Wirtschaftlichkeit'!$E$44:$L$57,7,FALSE)-HLOOKUP($B$54,'04_Wirtschaftlichkeit'!$E$44:$L$57,5,FALSE))","v":0},{"$f":"AF$56*(-HLOOKUP($B$54,'04_Wirtschaftlichkeit'!$E$44:$L$57,7,FALSE)-HLOOKUP($B$54,'04_Wirtschaftlichkeit'!$E$44:$L$57,5,FALSE))","v":0},{"$f":"AG$56*(-HLOOKUP($B$54,'04_Wirtschaftlichkeit'!$E$44:$L$57,7,FALSE)-HLOOKUP($B$54,'04_Wirtschaftlichkeit'!$E$44:$L$57,5,FALSE))","v":0},{"$f":"AH$56*(-HLOOKUP($B$54,'04_Wirtschaftlichkeit'!$E$44:$L$57,7,FALSE)-HLOOKUP($B$54,'04_Wirtschaftlichkeit'!$E$44:$L$57,5,FALSE))","v":0},{"$f":"AI$56*(-HLOOKUP($B$54,'04_Wirtschaftlichkeit'!$E$44:$L$57,7,FALSE)-HLOOKUP($B$54,'04_Wirtschaftlichkeit'!$E$44:$L$57,5,FALSE))","v":0},{"$f":"AJ$56*(-HLOOKUP($B$54,'04_Wirtschaftlichkeit'!$E$44:$L$57,7,FALSE)-HLOOKUP($B$54,'04_Wirtschaftlichkeit'!$E$44:$L$57,5,FALSE))","v":0},{"$f":"AK$56*(-HLOOKUP($B$54,'04_Wirtschaftlichkeit'!$E$44:$L$57,7,FALSE)-HLOOKUP($B$54,'04_Wirtschaftlichkeit'!$E$44:$L$57,5,FALSE))","v":0},{"$f":"AL$56*(-HLOOKUP($B$54,'04_Wirtschaftlichkeit'!$E$44:$L$57,7,FALSE)-HLOOKUP($B$54,'04_Wirtschaftlichkeit'!$E$44:$L$57,5,FALSE))","v":0},{"$f":"AM$56*(-HLOOKUP($B$54,'04_Wirtschaftlichkeit'!$E$44:$L$57,7,FALSE)-HLOOKUP($B$54,'04_Wirtschaftlichkeit'!$E$44:$L$57,5,FALSE))","v":0},{"$f":"AN$56*(-HLOOKUP($B$54,'04_Wirtschaftlichkeit'!$E$44:$L$57,7,FALSE)-HLOOKUP($B$54,'04_Wirtschaftlichkeit'!$E$44:$L$57,5,FALSE))","v":0},{"$f":"AO$56*(-HLOOKUP($B$54,'04_Wirtschaftlichkeit'!$E$44:$L$57,7,FALSE)-HLOOKUP($B$54,'04_Wirtschaftlichkeit'!$E$44:$L$57,5,FALSE))","v":0},{"$f":"AP$56*(-HLOOKUP($B$54,'04_Wirtschaftlichkeit'!$E$44:$L$57,7,FALSE)-HLOOKUP($B$54,'04_Wirtschaftlichkeit'!$E$44:$L$57,5,FALSE))","v":0},{"$f":"AQ$56*(-HLOOKUP($B$54,'04_Wirtschaftlichkeit'!$E$44:$L$57,7,FALSE)-HLOOKUP($B$54,'04_Wirtschaftlichkeit'!$E$44:$L$57,5,FALSE))","v":0},{"$f":"AR$56*(-HLOOKUP($B$54,'04_Wirtschaftlichkeit'!$E$44:$L$57,7,FALSE)-HLOOKUP($B$54,'04_Wirtschaftlichkeit'!$E$44:$L$57,5,FALSE))","v":0},{"$f":"AS$56*(-HLOOKUP($B$54,'04_Wirtschaftlichkeit'!$E$44:$L$57,7,FALSE)-HLOOKUP($B$54,'04_Wirtschaftlichkeit'!$E$44:$L$57,5,FALSE))","v":0},{"$f":"AT$56*(-HLOOKUP($B$54,'04_Wirtschaftlichkeit'!$E$44:$L$57,7,FALSE)-HLOOKUP($B$54,'04_Wirtschaftlichkeit'!$E$44:$L$57,5,FALSE))","v":0},{"$f":"AU$56*(-HLOOKUP($B$54,'04_Wirtschaftlichkeit'!$E$44:$L$57,7,FALSE)-HLOOKUP($B$54,'04_Wirtschaftlichkeit'!$E$44:$L$57,5,FALSE))","v":0},{"$f":"AV$56*(-HLOOKUP($B$54,'04_Wirtschaftlichkeit'!$E$44:$L$57,7,FALSE)-HLOOKUP($B$54,'04_Wirtschaftlichkeit'!$E$44:$L$57,5,FALSE))","v":0},{"$f":"AW$56*(-HLOOKUP($B$54,'04_Wirtschaftlichkeit'!$E$44:$L$57,7,FALSE)-HLOOKUP($B$54,'04_Wirtschaftlichkeit'!$E$44:$L$57,5,FALSE))","v":0},{"$f":"AX$56*(-HLOOKUP($B$54,'04_Wirtschaftlichkeit'!$E$44:$L$57,7,FALSE)-HLOOKUP($B$54,'04_Wirtschaftlichkeit'!$E$44:$L$57,5,FALSE))","v":0},{"$f":"AY$56*(-HLOOKUP($B$54,'04_Wirtschaftlichkeit'!$E$44:$L$57,7,FALSE)-HLOOKUP($B$54,'04_Wirtschaftlichkeit'!$E$44:$L$57,5,FALSE))","v":0},{"$f":"AZ$56*(-HLOOKUP($B$54,'04_Wirtschaftlichkeit'!$E$44:$L$57,7,FALSE)-HLOOKUP($B$54,'04_Wirtschaftlichkeit'!$E$44:$L$57,5,FALSE))","v":0},{"$f":"BA$56*(-HLOOKUP($B$54,'04_Wirtschaftlichkeit'!$E$44:$L$57,7,FALSE)-HLOOKUP($B$54,'04_Wirtschaftlichkeit'!$E$44:$L$57,5,FALSE))","v":0}]
[null,-0.3,{"$f":"-HLOOKUP($B$54,'04_Wirtschaftlichkeit'!$E$44:$L$57,6,FALSE)*(1+B60)","v":-740481.50181303837},{"$f":"D$56*(-HLOOKUP($B$54,'04_Wirtschaftlichkeit'!$E$44:$L$57,7,FALSE)-HLOOKUP($B$54,'04_Wirtschaftlichkeit'!$E$44:$L$57,5,FALSE))","v":-84207.9},{"$f":"E$56*(-HLOOKUP($B$54,'04_Wirtschaftlichkeit'!$E$44:$L$57,7,FALSE)-HLOOKUP($B$54,'04_Wirtschaftlichkeit'!$E$44:$L$57,5,FALSE))","v":-84207.9},{"$f":"F$56*(-HLOOKUP($B$54,'04_Wirtschaftlichkeit'!$E$44:$L$57,7,FALSE)-HLOOKUP($B$54,'04_Wirtschaftlichkeit'!$E$44:$L$57,5,FALSE))","v":-84207.9},{"$f":"G$56*(-HLOOKUP($B$54,'04_Wirtschaftlichkeit'!$E$44:$L$57,7,FALSE)-HLOOKUP($B$54,'04_Wirtschaftlichkeit'!$E$44:$L$57,5,FALSE))","v":-84207.9},{"$f":"H$56*(-HLOOKUP($B$54,'04_Wirtschaftlichkeit'!$E$44:$L$57,7,FALSE)-HLOOKUP($B$54,'04_Wirtschaftlichkeit'!$E$44:$L$57,5,FALSE))","v":-84207.9},{"$f":"I$56*(-HLOOKUP($B$54,'04_Wirtschaftlichkeit'!$E$44:$L$57,7,FALSE)-HLOOKUP($B$54,'04_Wirtschaftlichkeit'!$E$44:$L$57,5,FALSE))","v":-84207.9},{"$f":"J$56*(-HLOOKUP($B$54,'04_Wirtschaftlichkeit'!$E$44:$L$57,7,FALSE)-HLOOKUP($B$54,'04_Wirtschaftlichkeit'!$E$44:$L$57,5,FALSE))","v":-84207.9},{"$f":"K$56*(-HLOOKUP($B$54,'04_Wirtschaftlichkeit'!$E$44:$L$57,7,FALSE)-HLOOKUP($B$54,'04_Wirtschaftlichkeit'!$E$44:$L$57,5,FALSE))","v":-84207.9},{"$f":"L$56*(-HLOOKUP($B$54,'04_Wirtschaftlichkeit'!$E$44:$L$57,7,FALSE)-HLOOKUP($B$54,'04_Wirtschaftlichkeit'!$E$44:$L$57,5,FALSE))","v":-84207.9},{"$f":"M$56*(-HLOOKUP($B$54,'04_Wirtschaftlichkeit'!$E$44:$L$57,7,FALSE)-HLOOKUP($B$54,'04_Wirtschaftlichkeit'!$E$44:$L$57,5,FALSE))","v":-84207.9},{"$f":"N$56*(-HLOOKUP($B$54,'04_Wirtschaftlichkeit'!$E$44:$L$57,7,FALSE)-HLOOKUP($B$54,'04_Wirtschaftlichkeit'!$E$44:$L$57,5,FALSE))","v":-84207.9},{"$f":"O$56*(-HLOOKUP($B$54,'04_Wirtschaftlichkeit'!$E$44:$L$57,7,FALSE)-HLOOKUP($B$54,'04_Wirtschaftlichkeit'!$E$44:$L$57,5,FALSE))","v":-84207.9},{"$f":"P$56*(-HLOOKUP($B$54,'04_Wirtschaftlichkeit'!$E$44:$L$57,7,FALSE)-HLOOKUP($B$54,'04_Wirtschaftlichkeit'!$E$44:$L$57,5,FALSE))","v":-84207.9},{"$f":"Q$56*(-HLOOKUP($B$54,'04_Wirtschaftlichkeit'!$E$44:$L$57,7,FALSE)-HLOOKUP($B$54,'04_Wirtschaftlichkeit'!$E$44:$L$57,5,FALSE))","v":-84207.9},{"$f":"R$56*(-HLOOKUP($B$54,'04_Wirtschaftlichkeit'!$E$44:$L$57,7,FALSE)-HLOOKUP($B$54,'04_Wirtschaftlichkeit'!$E$44:$L$57,5,FALSE))","v":-84207.9},{"$f":"S$56*(-HLOOKUP($B$54,'04_Wirtschaftlichkeit'!$E$44:$L$57,7,FALSE)-HLOOKUP($B$54,'04_Wirtschaftlichkeit'!$E$44:$L$57,5,FALSE))","v":-84207.9},{"$f":"T$56*(-HLOOKUP($B$54,'04_Wirtschaftlichkeit'!$E$44:$L$57,7,FALSE)-HLOOKUP($B$54,'04_Wirtschaftlichkeit'!$E$44:$L$57,5,FALSE))","v":-84207.9},{"$f":"U$56*(-HLOOKUP($B$54,'04_Wirtschaftlichkeit'!$E$44:$L$57,7,FALSE)-HLOOKUP($B$54,'04_Wirtschaftlichkeit'!$E$44:$L$57,5,FALSE))","v":-84207.9},{"$f":"V$56*(-HLOOKUP($B$54,'04_Wirtschaftlichkeit'!$E$44:$L$57,7,FALSE)-HLOOKUP($B$54,'04_Wirtschaftlichkeit'!$E$44:$L$57,5,FALSE))","v":-84207.9},{"$f":"W$56*(-HLOOKUP($B$54,'04_Wirtschaftlichkeit'!$E$44:$L$57,7,FALSE)-HLOOKUP($B$54,'04_Wirtschaftlichkeit'!$E$44:$L$57,5,FALSE))","v":-84207.9},{"$f":"X$56*(-HLOOKUP($B$54,'04_Wirtschaftlichkeit'!$E$44:$L$57,7,FALSE)-HLOOKUP($B$54,'04_Wirtschaftlichkeit'!$E$44:$L$57,5,FALSE))","v":0},{"$f":"Y$56*(-HLOOKUP($B$54,'04_Wirtschaftlichkeit'!$E$44:$L$57,7,FALSE)-HLOOKUP($B$54,'04_Wirtschaftlichkeit'!$E$44:$L$57,5,FALSE))","v":0},{"$f":"Z$56*(-HLOOKUP($B$54,'04_Wirtschaftlichkeit'!$E$44:$L$57,7,FALSE)-HLOOKUP($B$54,'04_Wirtschaftlichkeit'!$E$44:$L$57,5,FALSE))","v":0},{"$f":"AA$56*(-HLOOKUP($B$54,'04_Wirtschaftlichkeit'!$E$44:$L$57,7,FALSE)-HLOOKUP($B$54,'04_Wirtschaftlichkeit'!$E$44:$L$57,5,FALSE))","v":0},{"$f":"AB$56*(-HLOOKUP($B$54,'04_Wirtschaftlichkeit'!$E$44:$L$57,7,FALSE)-HLOOKUP($B$54,'04_Wirtschaftlichkeit'!$E$44:$L$57,5,FALSE))","v":0},{"$f":"AC$56*(-HLOOKUP($B$54,'04_Wirtschaftlichkeit'!$E$44:$L$57,7,FALSE)-HLOOKUP($B$54,'04_Wirtschaftlichkeit'!$E$44:$L$57,5,FALSE))","v":0},{"$f":"AD$56*(-HLOOKUP($B$54,'04_Wirtschaftlichkeit'!$E$44:$L$57,7,FALSE)-HLOOKUP($B$54,'04_Wirtschaftlichkeit'!$E$44:$L$57,5,FALSE))","v":0},{"$f":"AE$56*(-HLOOKUP($B$54,'04_Wirtschaftlichkeit'!$E$44:$L$57,7,FALSE)-HLOOKUP($B$54,'04_Wirtschaftlichkeit'!$E$44:$L$57,5,FALSE))","v":0},{"$f":"AF$56*(-HLOOKUP($B$54,'04_Wirtschaftlichkeit'!$E$44:$L$57,7,FALSE)-HLOOKUP($B$54,'04_Wirtschaftlichkeit'!$E$44:$L$57,5,FALSE))","v":0},{"$f":"AG$56*(-HLOOKUP($B$54,'04_Wirtschaftlichkeit'!$E$44:$L$57,7,FALSE)-HLOOKUP($B$54,'04_Wirtschaftlichkeit'!$E$44:$L$57,5,FALSE))","v":0},{"$f":"AH$56*(-HLOOKUP($B$54,'04_Wirtschaftlichkeit'!$E$44:$L$57,7,FALSE)-HLOOKUP($B$54,'04_Wirtschaftlichkeit'!$E$44:$L$57,5,FALSE))","v":0},{"$f":"AI$56*(-HLOOKUP($B$54,'04_Wirtschaftlichkeit'!$E$44:$L$57,7,FALSE)-HLOOKUP($B$54,'04_Wirtschaftlichkeit'!$E$44:$L$57,5,FALSE))","v":0},{"$f":"AJ$56*(-HLOOKUP($B$54,'04_Wirtschaftlichkeit'!$E$44:$L$57,7,FALSE)-HLOOKUP($B$54,'04_Wirtschaftlichkeit'!$E$44:$L$57,5,FALSE))","v":0},{"$f":"AK$56*(-HLOOKUP($B$54,'04_Wirtschaftlichkeit'!$E$44:$L$57,7,FALSE)-HLOOKUP($B$54,'04_Wirtschaftlichkeit'!$E$44:$L$57,5,FALSE))","v":0},{"$f":"AL$56*(-HLOOKUP($B$54,'04_Wirtschaftlichkeit'!$E$44:$L$57,7,FALSE)-HLOOKUP($B$54,'04_Wirtschaftlichkeit'!$E$44:$L$57,5,FALSE))","v":0},{"$f":"AM$56*(-HLOOKUP($B$54,'04_Wirtschaftlichkeit'!$E$44:$L$57,7,FALSE)-HLOOKUP($B$54,'04_Wirtschaftlichkeit'!$E$44:$L$57,5,FALSE))","v":0},{"$f":"AN$56*(-HLOOKUP($B$54,'04_Wirtschaftlichkeit'!$E$44:$L$57,7,FALSE)-HLOOKUP($B$54,'04_Wirtschaftlichkeit'!$E$44:$L$57,5,FALSE))","v":0},{"$f":"AO$56*(-HLOOKUP($B$54,'04_Wirtschaftlichkeit'!$E$44:$L$57,7,FALSE)-HLOOKUP($B$54,'04_Wirtschaftlichkeit'!$E$44:$L$57,5,FALSE))","v":0},{"$f":"AP$56*(-HLOOKUP($B$54,'04_Wirtschaftlichkeit'!$E$44:$L$57,7,FALSE)-HLOOKUP($B$54,'04_Wirtschaftlichkeit'!$E$44:$L$57,5,FALSE))","v":0},{"$f":"AQ$56*(-HLOOKUP($B$54,'04_Wirtschaftlichkeit'!$E$44:$L$57,7,FALSE)-HLOOKUP($B$54,'04_Wirtschaftlichkeit'!$E$44:$L$57,5,FALSE))","v":0},{"$f":"AR$56*(-HLOOKUP($B$54,'04_Wirtschaftlichkeit'!$E$44:$L$57,7,FALSE)-HLOOKUP($B$54,'04_Wirtschaftlichkeit'!$E$44:$L$57,5,FALSE))","v":0},{"$f":"AS$56*(-HLOOKUP($B$54,'04_Wirtschaftlichkeit'!$E$44:$L$57,7,FALSE)-HLOOKUP($B$54,'04_Wirtschaftlichkeit'!$E$44:$L$57,5,FALSE))","v":0},{"$f":"AT$56*(-HLOOKUP($B$54,'04_Wirtschaftlichkeit'!$E$44:$L$57,7,FALSE)-HLOOKUP($B$54,'04_Wirtschaftlichkeit'!$E$44:$L$57,5,FALSE))","v":0},{"$f":"AU$56*(-HLOOKUP($B$54,'04_Wirtschaftlichkeit'!$E$44:$L$57,7,FALSE)-HLOOKUP($B$54,'04_Wirtschaftlichkeit'!$E$44:$L$57,5,FALSE))","v":0},{"$f":"AV$56*(-HLOOKUP($B$54,'04_Wirtschaftlichkeit'!$E$44:$L$57,7,FALSE)-HLOOKUP($B$54,'04_Wirtschaftlichkeit'!$E$44:$L$57,5,FALSE))","v":0},{"$f":"AW$56*(-HLOOKUP($B$54,'04_Wirtschaftlichkeit'!$E$44:$L$57,7,FALSE)-HLOOKUP($B$54,'04_Wirtschaftlichkeit'!$E$44:$L$57,5,FALSE))","v":0},{"$f":"AX$56*(-HLOOKUP($B$54,'04_Wirtschaftlichkeit'!$E$44:$L$57,7,FALSE)-HLOOKUP($B$54,'04_Wirtschaftlichkeit'!$E$44:$L$57,5,FALSE))","v":0},{"$f":"AY$56*(-HLOOKUP($B$54,'04_Wirtschaftlichkeit'!$E$44:$L$57,7,FALSE)-HLOOKUP($B$54,'04_Wirtschaftlichkeit'!$E$44:$L$57,5,FALSE))","v":0},{"$f":"AZ$56*(-HLOOKUP($B$54,'04_Wirtschaftlichkeit'!$E$44:$L$57,7,FALSE)-HLOOKUP($B$54,'04_Wirtschaftlichkeit'!$E$44:$L$57,5,FALSE))","v":0},{"$f":"BA$56*(-HLOOKUP($B$54,'04_Wirtschaftlichkeit'!$E$44:$L$57,7,FALSE)-HLOOKUP($B$54,'04_Wirtschaftlichkeit'!$E$44:$L$57,5,FALSE))","v":0}]
[null,-0.2,{"$f":"-HLOOKUP($B$54,'04_Wirtschaftlichkeit'!$E$44:$L$57,6,FALSE)*(1+B61)","v":-846264.57350061543},{"$f":"D$56*(-HLOOKUP($B$54,'04_Wirtschaftlichkeit'!$E$44:$L$57,7,FALSE)-HLOOKUP($B$54,'04_Wirtschaftlichkeit'!$E$44:$L$57,5,FALSE))","v":-84207.9},{"$f":"E$56*(-HLOOKUP($B$54,'04_Wirtschaftlichkeit'!$E$44:$L$57,7,FALSE)-HLOOKUP($B$54,'04_Wirtschaftlichkeit'!$E$44:$L$57,5,FALSE))","v":-84207.9},{"$f":"F$56*(-HLOOKUP($B$54,'04_Wirtschaftlichkeit'!$E$44:$L$57,7,FALSE)-HLOOKUP($B$54,'04_Wirtschaftlichkeit'!$E$44:$L$57,5,FALSE))","v":-84207.9},{"$f":"G$56*(-HLOOKUP($B$54,'04_Wirtschaftlichkeit'!$E$44:$L$57,7,FALSE)-HLOOKUP($B$54,'04_Wirtschaftlichkeit'!$E$44:$L$57,5,FALSE))","v":-84207.9},{"$f":"H$56*(-HLOOKUP($B$54,'04_Wirtschaftlichkeit'!$E$44:$L$57,7,FALSE)-HLOOKUP($B$54,'04_Wirtschaftlichkeit'!$E$44:$L$57,5,FALSE))","v":-84207.9},{"$f":"I$56*(-HLOOKUP($B$54,'04_Wirtschaftlichkeit'!$E$44:$L$57,7,FALSE)-HLOOKUP($B$54,'04_Wirtschaftlichkeit'!$E$44:$L$57,5,FALSE))","v":-84207.9},{"$f":"J$56*(-HLOOKUP($B$54,'04_Wirtschaftlichkeit'!$E$44:$L$57,7,FALSE)-HLOOKUP($B$54,'04_Wirtschaftlichkeit'!$E$44:$L$57,5,FALSE))","v":-84207.9},{"$f":"K$56*(-HLOOKUP($B$54,'04_Wirtschaftlichkeit'!$E$44:$L$57,7,FALSE)-HLOOKUP($B$54,'04_Wirtschaftlichkeit'!$E$44:$L$57,5,FALSE))","v":-84207.9},{"$f":"L$56*(-HLOOKUP($B$54,'04_Wirtschaftlichkeit'!$E$44:$L$57,7,FALSE)-HLOOKUP($B$54,'04_Wirtschaftlichkeit'!$E$44:$L$57,5,FALSE))","v":-84207.9},{"$f":"M$56*(-HLOOKUP($B$54,'04_Wirtschaftlichkeit'!$E$44:$L$57,7,FALSE)-HLOOKUP($B$54,'04_Wirtschaftlichkeit'!$E$44:$L$57,5,FALSE))","v":-84207.9},{"$f":"N$56*(-HLOOKUP($B$54,'04_Wirtschaftlichkeit'!$E$44:$L$57,7,FALSE)-HLOOKUP($B$54,'04_Wirtschaftlichkeit'!$E$44:$L$57,5,FALSE))","v":-84207.9},{"$f":"O$56*(-HLOOKUP($B$54,'04_Wirtschaftlichkeit'!$E$44:$L$57,7,FALSE)-HLOOKUP($B$54,'04_Wirtschaftlichkeit'!$E$44:$L$57,5,FALSE))","v":-84207.9},{"$f":"P$56*(-HLOOKUP($B$54,'04_Wirtschaftlichkeit'!$E$44:$L$57,7,FALSE)-HLOOKUP($B$54,'04_Wirtschaftlichkeit'!$E$44:$L$57,5,FALSE))","v":-84207.9},{"$f":"Q$56*(-HLOOKUP($B$54,'04_Wirtschaftlichkeit'!$E$44:$L$57,7,FALSE)-HLOOKUP($B$54,'04_Wirtschaftlichkeit'!$E$44:$L$57,5,FALSE))","v":-84207.9},{"$f":"R$56*(-HLOOKUP($B$54,'04_Wirtschaftlichkeit'!$E$44:$L$57,7,FALSE)-HLOOKUP($B$54,'04_Wirtschaftlichkeit'!$E$44:$L$57,5,FALSE))","v":-84207.9},{"$f":"S$56*(-HLOOKUP($B$54,'04_Wirtschaftlichkeit'!$E$44:$L$57,7,FALSE)-HLOOKUP($B$54,'04_Wirtschaftlichkeit'!$E$44:$L$57,5,FALSE))","v":-84207.9},{"$f":"T$56*(-HLOOKUP($B$54,'04_Wirtschaftlichkeit'!$E$44:$L$57,7,FALSE)-HLOOKUP($B$54,'04_Wirtschaftlichkeit'!$E$44:$L$57,5,FALSE))","v":-84207.9},{"$f":"U$56*(-HLOOKUP($B$54,'04_Wirtschaftlichkeit'!$E$44:$L$57,7,FALSE)-HLOOKUP($B$54,'04_Wirtschaftlichkeit'!$E$44:$L$57,5,FALSE))","v":-84207.9},{"$f":"V$56*(-HLOOKUP($B$54,'04_Wirtschaftlichkeit'!$E$44:$L$57,7,FALSE)-HLOOKUP($B$54,'04_Wirtschaftlichkeit'!$E$44:$L$57,5,FALSE))","v":-84207.9},{"$f":"W$56*(-HLOOKUP($B$54,'04_Wirtschaftlichkeit'!$E$44:$L$57,7,FALSE)-HLOOKUP($B$54,'04_Wirtschaftlichkeit'!$E$44:$L$57,5,FALSE))","v":-84207.9},{"$f":"X$56*(-HLOOKUP($B$54,'04_Wirtschaftlichkeit'!$E$44:$L$57,7,FALSE)-HLOOKUP($B$54,'04_Wirtschaftlichkeit'!$E$44:$L$57,5,FALSE))","v":0},{"$f":"Y$56*(-HLOOKUP($B$54,'04_Wirtschaftlichkeit'!$E$44:$L$57,7,FALSE)-HLOOKUP($B$54,'04_Wirtschaftlichkeit'!$E$44:$L$57,5,FALSE))","v":0},{"$f":"Z$56*(-HLOOKUP($B$54,'04_Wirtschaftlichkeit'!$E$44:$L$57,7,FALSE)-HLOOKUP($B$54,'04_Wirtschaftlichkeit'!$E$44:$L$57,5,FALSE))","v":0},{"$f":"AA$56*(-HLOOKUP($B$54,'04_Wirtschaftlichkeit'!$E$44:$L$57,7,FALSE)-HLOOKUP($B$54,'04_Wirtschaftlichkeit'!$E$44:$L$57,5,FALSE))","v":0},{"$f":"AB$56*(-HLOOKUP($B$54,'04_Wirtschaftlichkeit'!$E$44:$L$57,7,FALSE)-HLOOKUP($B$54,'04_Wirtschaftlichkeit'!$E$44:$L$57,5,FALSE))","v":0},{"$f":"AC$56*(-HLOOKUP($B$54,'04_Wirtschaftlichkeit'!$E$44:$L$57,7,FALSE)-HLOOKUP($B$54,'04_Wirtschaftlichkeit'!$E$44:$L$57,5,FALSE))","v":0},{"$f":"AD$56*(-HLOOKUP($B$54,'04_Wirtschaftlichkeit'!$E$44:$L$57,7,FALSE)-HLOOKUP($B$54,'04_Wirtschaftlichkeit'!$E$44:$L$57,5,FALSE))","v":0},{"$f":"AE$56*(-HLOOKUP($B$54,'04_Wirtschaftlichkeit'!$E$44:$L$57,7,FALSE)-HLOOKUP($B$54,'04_Wirtschaftlichkeit'!$E$44:$L$57,5,FALSE))","v":0},{"$f":"AF$56*(-HLOOKUP($B$54,'04_Wirtschaftlichkeit'!$E$44:$L$57,7,FALSE)-HLOOKUP($B$54,'04_Wirtschaftlichkeit'!$E$44:$L$57,5,FALSE))","v":0},{"$f":"AG$56*(-HLOOKUP($B$54,'04_Wirtschaftlichkeit'!$E$44:$L$57,7,FALSE)-HLOOKUP($B$54,'04_Wirtschaftlichkeit'!$E$44:$L$57,5,FALSE))","v":0},{"$f":"AH$56*(-HLOOKUP($B$54,'04_Wirtschaftlichkeit'!$E$44:$L$57,7,FALSE)-HLOOKUP($B$54,'04_Wirtschaftlichkeit'!$E$44:$L$57,5,FALSE))","v":0},{"$f":"AI$56*(-HLOOKUP($B$54,'04_Wirtschaftlichkeit'!$E$44:$L$57,7,FALSE)-HLOOKUP($B$54,'04_Wirtschaftlichkeit'!$E$44:$L$57,5,FALSE))","v":0},{"$f":"AJ$56*(-HLOOKUP($B$54,'04_Wirtschaftlichkeit'!$E$44:$L$57,7,FALSE)-HLOOKUP($B$54,'04_Wirtschaftlichkeit'!$E$44:$L$57,5,FALSE))","v":0},{"$f":"AK$56*(-HLOOKUP($B$54,'04_Wirtschaftlichkeit'!$E$44:$L$57,7,FALSE)-HLOOKUP($B$54,'04_Wirtschaftlichkeit'!$E$44:$L$57,5,FALSE))","v":0},{"$f":"AL$56*(-HLOOKUP($B$54,'04_Wirtschaftlichkeit'!$E$44:$L$57,7,FALSE)-HLOOKUP($B$54,'04_Wirtschaftlichkeit'!$E$44:$L$57,5,FALSE))","v":0},{"$f":"AM$56*(-HLOOKUP($B$54,'04_Wirtschaftlichkeit'!$E$44:$L$57,7,FALSE)-HLOOKUP($B$54,'04_Wirtschaftlichkeit'!$E$44:$L$57,5,FALSE))","v":0},{"$f":"AN$56*(-HLOOKUP($B$54,'04_Wirtschaftlichkeit'!$E$44:$L$57,7,FALSE)-HLOOKUP($B$54,'04_Wirtschaftlichkeit'!$E$44:$L$57,5,FALSE))","v":0},{"$f":"AO$56*(-HLOOKUP($B$54,'04_Wirtschaftlichkeit'!$E$44:$L$57,7,FALSE)-HLOOKUP($B$54,'04_Wirtschaftlichkeit'!$E$44:$L$57,5,FALSE))","v":0},{"$f":"AP$56*(-HLOOKUP($B$54,'04_Wirtschaftlichkeit'!$E$44:$L$57,7,FALSE)-HLOOKUP($B$54,'04_Wirtschaftlichkeit'!$E$44:$L$57,5,FALSE))","v":0},{"$f":"AQ$56*(-HLOOKUP($B$54,'04_Wirtschaftlichkeit'!$E$44:$L$57,7,FALSE)-HLOOKUP($B$54,'04_Wirtschaftlichkeit'!$E$44:$L$57,5,FALSE))","v":0},{"$f":"AR$56*(-HLOOKUP($B$54,'04_Wirtschaftlichkeit'!$E$44:$L$57,7,FALSE)-HLOOKUP($B$54,'04_Wirtschaftlichkeit'!$E$44:$L$57,5,FALSE))","v":0},{"$f":"AS$56*(-HLOOKUP($B$54,'04_Wirtschaftlichkeit'!$E$44:$L$57,7,FALSE)-HLOOKUP($B$54,'04_Wirtschaftlichkeit'!$E$44:$L$57,5,FALSE))","v":0},{"$f":"AT$56*(-HLOOKUP($B$54,'04_Wirtschaftlichkeit'!$E$44:$L$57,7,FALSE)-HLOOKUP($B$54,'04_Wirtschaftlichkeit'!$E$44:$L$57,5,FALSE))","v":0},{"$f":"AU$56*(-HLOOKUP($B$54,'04_Wirtschaftlichkeit'!$E$44:$L$57,7,FALSE)-HLOOKUP($B$54,'04_Wirtschaftlichkeit'!$E$44:$L$57,5,FALSE))","v":0},{"$f":"AV$56*(-HLOOKUP($B$54,'04_Wirtschaftlichkeit'!$E$44:$L$57,7,FALSE)-HLOOKUP($B$54,'04_Wirtschaftlichkeit'!$E$44:$L$57,5,FALSE))","v":0},{"$f":"AW$56*(-HLOOKUP($B$54,'04_Wirtschaftlichkeit'!$E$44:$L$57,7,FALSE)-HLOOKUP($B$54,'04_Wirtschaftlichkeit'!$E$44:$L$57,5,FALSE))","v":0},{"$f":"AX$56*(-HLOOKUP($B$54,'04_Wirtschaftlichkeit'!$E$44:$L$57,7,FALSE)-HLOOKUP($B$54,'04_Wirtschaftlichkeit'!$E$44:$L$57,5,FALSE))","v":0},{"$f":"AY$56*(-HLOOKUP($B$54,'04_Wirtschaftlichkeit'!$E$44:$L$57,7,FALSE)-HLOOKUP($B$54,'04_Wirtschaftlichkeit'!$E$44:$L$57,5,FALSE))","v":0},{"$f":"AZ$56*(-HLOOKUP($B$54,'04_Wirtschaftlichkeit'!$E$44:$L$57,7,FALSE)-HLOOKUP($B$54,'04_Wirtschaftlichkeit'!$E$44:$L$57,5,FALSE))","v":0},{"$f":"BA$56*(-HLOOKUP($B$54,'04_Wirtschaftlichkeit'!$E$44:$L$57,7,FALSE)-HLOOKUP($B$54,'04_Wirtschaftlichkeit'!$E$44:$L$57,5,FALSE))","v":0}]
[null,-0.1,{"$f":"-HLOOKUP($B$54,'04_Wirtschaftlichkeit'!$E$44:$L$57,6,FALSE)*(1+B62)","v":-952047.64518819225},{"$f":"D$56*(-HLOOKUP($B$54,'04_Wirtschaftlichkeit'!$E$44:$L$57,7,FALSE)-HLOOKUP($B$54,'04_Wirtschaftlichkeit'!$E$44:$L$57,5,FALSE))","v":-84207.9},{"$f":"E$56*(-HLOOKUP($B$54,'04_Wirtschaftlichkeit'!$E$44:$L$57,7,FALSE)-HLOOKUP($B$54,'04_Wirtschaftlichkeit'!$E$44:$L$57,5,FALSE))","v":-84207.9},{"$f":"F$56*(-HLOOKUP($B$54,'04_Wirtschaftlichkeit'!$E$44:$L$57,7,FALSE)-HLOOKUP($B$54,'04_Wirtschaftlichkeit'!$E$44:$L$57,5,FALSE))","v":-84207.9},{"$f":"G$56*(-HLOOKUP($B$54,'04_Wirtschaftlichkeit'!$E$44:$L$57,7,FALSE)-HLOOKUP($B$54,'04_Wirtschaftlichkeit'!$E$44:$L$57,5,FALSE))","v":-84207.9},{"$f":"H$56*(-HLOOKUP($B$54,'04_Wirtschaftlichkeit'!$E$44:$L$57,7,FALSE)-HLOOKUP($B$54,'04_Wirtschaftlichkeit'!$E$44:$L$57,5,FALSE))","v":-84207.9},{"$f":"I$56*(-HLOOKUP($B$54,'04_Wirtschaftlichkeit'!$E$44:$L$57,7,FALSE)-HLOOKUP($B$54,'04_Wirtschaftlichkeit'!$E$44:$L$57,5,FALSE))","v":-84207.9},{"$f":"J$56*(-HLOOKUP($B$54,'04_Wirtschaftlichkeit'!$E$44:$L$57,7,FALSE)-HLOOKUP($B$54,'04_Wirtschaftlichkeit'!$E$44:$L$57,5,FALSE))","v":-84207.9},{"$f":"K$56*(-HLOOKUP($B$54,'04_Wirtschaftlichkeit'!$E$44:$L$57,7,FALSE)-HLOOKUP($B$54,'04_Wirtschaftlichkeit'!$E$44:$L$57,5,FALSE))","v":-84207.9},{"$f":"L$56*(-HLOOKUP($B$54,'04_Wirtschaftlichkeit'!$E$44:$L$57,7,FALSE)-HLOOKUP($B$54,'04_Wirtschaftlichkeit'!$E$44:$L$57,5,FALSE))","v":-84207.9},{"$f":"M$56*(-HLOOKUP($B$54,'04_Wirtschaftlichkeit'!$E$44:$L$57,7,FALSE)-HLOOKUP($B$54,'04_Wirtschaftlichkeit'!$E$44:$L$57,5,FALSE))","v":-84207.9},{"$f":"N$56*(-HLOOKUP($B$54,'04_Wirtschaftlichkeit'!$E$44:$L$57,7,FALSE)-HLOOKUP($B$54,'04_Wirtschaftlichkeit'!$E$44:$L$57,5,FALSE))","v":-84207.9},{"$f":"O$56*(-HLOOKUP($B$54,'04_Wirtschaftlichkeit'!$E$44:$L$57,7,FALSE)-HLOOKUP($B$54,'04_Wirtschaftlichkeit'!$E$44:$L$57,5,FALSE))","v":-84207.9},{"$f":"P$56*(-HLOOKUP($B$54,'04_Wirtschaftlichkeit'!$E$44:$L$57,7,FALSE)-HLOOKUP($B$54,'04_Wirtschaftlichkeit'!$E$44:$L$57,5,FALSE))","v":-84207.9},{"$f":"Q$56*(-HLOOKUP($B$54,'04_Wirtschaftlichkeit'!$E$44:$L$57,7,FALSE)-HLOOKUP($B$54,'04_Wirtschaftlichkeit'!$E$44:$L$57,5,FALSE))","v":-84207.9},{"$f":"R$56*(-HLOOKUP($B$54,'04_Wirtschaftlichkeit'!$E$44:$L$57,7,FALSE)-HLOOKUP($B$54,'04_Wirtschaftlichkeit'!$E$44:$L$57,5,FALSE))","v":-84207.9},{"$f":"S$56*(-HLOOKUP($B$54,'04_Wirtschaftlichkeit'!$E$44:$L$57,7,FALSE)-HLOOKUP($B$54,'04_Wirtschaftlichkeit'!$E$44:$L$57,5,FALSE))","v":-84207.9},{"$f":"T$56*(-HLOOKUP($B$54,'04_Wirtschaftlichkeit'!$E$44:$L$57,7,FALSE)-HLOOKUP($B$54,'04_Wirtschaftlichkeit'!$E$44:$L$57,5,FALSE))","v":-84207.9},{"$f":"U$56*(-HLOOKUP($B$54,'04_Wirtschaftlichkeit'!$E$44:$L$57,7,FALSE)-HLOOKUP($B$54,'04_Wirtschaftlichkeit'!$E$44:$L$57,5,FALSE))","v":-84207.9},{"$f":"V$56*(-HLOOKUP($B$54,'04_Wirtschaftlichkeit'!$E$44:$L$57,7,FALSE)-HLOOKUP($B$54,'04_Wirtschaftlichkeit'!$E$44:$L$57,5,FALSE))","v":-84207.9},{"$f":"W$56*(-HLOOKUP($B$54,'04_Wirtschaftlichkeit'!$E$44:$L$57,7,FALSE)-HLOOKUP($B$54,'04_Wirtschaftlichkeit'!$E$44:$L$57,5,FALSE))","v":-84207.9},{"$f":"X$56*(-HLOOKUP($B$54,'04_Wirtschaftlichkeit'!$E$44:$L$57,7,FALSE)-HLOOKUP($B$54,'04_Wirtschaftlichkeit'!$E$44:$L$57,5,FALSE))","v":0},{"$f":"Y$56*(-HLOOKUP($B$54,'04_Wirtschaftlichkeit'!$E$44:$L$57,7,FALSE)-HLOOKUP($B$54,'04_Wirtschaftlichkeit'!$E$44:$L$57,5,FALSE))","v":0},{"$f":"Z$56*(-HLOOKUP($B$54,'04_Wirtschaftlichkeit'!$E$44:$L$57,7,FALSE)-HLOOKUP($B$54,'04_Wirtschaftlichkeit'!$E$44:$L$57,5,FALSE))","v":0},{"$f":"AA$56*(-HLOOKUP($B$54,'04_Wirtschaftlichkeit'!$E$44:$L$57,7,FALSE)-HLOOKUP($B$54,'04_Wirtschaftlichkeit'!$E$44:$L$57,5,FALSE))","v":0},{"$f":"AB$56*(-HLOOKUP($B$54,'04_Wirtschaftlichkeit'!$E$44:$L$57,7,FALSE)-HLOOKUP($B$54,'04_Wirtschaftlichkeit'!$E$44:$L$57,5,FALSE))","v":0},{"$f":"AC$56*(-HLOOKUP($B$54,'04_Wirtschaftlichkeit'!$E$44:$L$57,7,FALSE)-HLOOKUP($B$54,'04_Wirtschaftlichkeit'!$E$44:$L$57,5,FALSE))","v":0},{"$f":"AD$56*(-HLOOKUP($B$54,'04_Wirtschaftlichkeit'!$E$44:$L$57,7,FALSE)-HLOOKUP($B$54,'04_Wirtschaftlichkeit'!$E$44:$L$57,5,FALSE))","v":0},{"$f":"AE$56*(-HLOOKUP($B$54,'04_Wirtschaftlichkeit'!$E$44:$L$57,7,FALSE)-HLOOKUP($B$54,'04_Wirtschaftlichkeit'!$E$44:$L$57,5,FALSE))","v":0},{"$f":"AF$56*(-HLOOKUP($B$54,'04_Wirtschaftlichkeit'!$E$44:$L$57,7,FALSE)-HLOOKUP($B$54,'04_Wirtschaftlichkeit'!$E$44:$L$57,5,FALSE))","v":0},{"$f":"AG$56*(-HLOOKUP($B$54,'04_Wirtschaftlichkeit'!$E$44:$L$57,7,FALSE)-HLOOKUP($B$54,'04_Wirtschaftlichkeit'!$E$44:$L$57,5,FALSE))","v":0},{"$f":"AH$56*(-HLOOKUP($B$54,'04_Wirtschaftlichkeit'!$E$44:$L$57,7,FALSE)-HLOOKUP($B$54,'04_Wirtschaftlichkeit'!$E$44:$L$57,5,FALSE))","v":0},{"$f":"AI$56*(-HLOOKUP($B$54,'04_Wirtschaftlichkeit'!$E$44:$L$57,7,FALSE)-HLOOKUP($B$54,'04_Wirtschaftlichkeit'!$E$44:$L$57,5,FALSE))","v":0},{"$f":"AJ$56*(-HLOOKUP($B$54,'04_Wirtschaftlichkeit'!$E$44:$L$57,7,FALSE)-HLOOKUP($B$54,'04_Wirtschaftlichkeit'!$E$44:$L$57,5,FALSE))","v":0},{"$f":"AK$56*(-HLOOKUP($B$54,'04_Wirtschaftlichkeit'!$E$44:$L$57,7,FALSE)-HLOOKUP($B$54,'04_Wirtschaftlichkeit'!$E$44:$L$57,5,FALSE))","v":0},{"$f":"AL$56*(-HLOOKUP($B$54,'04_Wirtschaftlichkeit'!$E$44:$L$57,7,FALSE)-HLOOKUP($B$54,'04_Wirtschaftlichkeit'!$E$44:$L$57,5,FALSE))","v":0},{"$f":"AM$56*(-HLOOKUP($B$54,'04_Wirtschaftlichkeit'!$E$44:$L$57,7,FALSE)-HLOOKUP($B$54,'04_Wirtschaftlichkeit'!$E$44:$L$57,5,FALSE))","v":0},{"$f":"AN$56*(-HLOOKUP($B$54,'04_Wirtschaftlichkeit'!$E$44:$L$57,7,FALSE)-HLOOKUP($B$54,'04_Wirtschaftlichkeit'!$E$44:$L$57,5,FALSE))","v":0},{"$f":"AO$56*(-HLOOKUP($B$54,'04_Wirtschaftlichkeit'!$E$44:$L$57,7,FALSE)-HLOOKUP($B$54,'04_Wirtschaftlichkeit'!$E$44:$L$57,5,FALSE))","v":0},{"$f":"AP$56*(-HLOOKUP($B$54,'04_Wirtschaftlichkeit'!$E$44:$L$57,7,FALSE)-HLOOKUP($B$54,'04_Wirtschaftlichkeit'!$E$44:$L$57,5,FALSE))","v":0},{"$f":"AQ$56*(-HLOOKUP($B$54,'04_Wirtschaftlichkeit'!$E$44:$L$57,7,FALSE)-HLOOKUP($B$54,'04_Wirtschaftlichkeit'!$E$44:$L$57,5,FALSE))","v":0},{"$f":"AR$56*(-HLOOKUP($B$54,'04_Wirtschaftlichkeit'!$E$44:$L$57,7,FALSE)-HLOOKUP($B$54,'04_Wirtschaftlichkeit'!$E$44:$L$57,5,FALSE))","v":0},{"$f":"AS$56*(-HLOOKUP($B$54,'04_Wirtschaftlichkeit'!$E$44:$L$57,7,FALSE)-HLOOKUP($B$54,'04_Wirtschaftlichkeit'!$E$44:$L$57,5,FALSE))","v":0},{"$f":"AT$56*(-HLOOKUP($B$54,'04_Wirtschaftlichkeit'!$E$44:$L$57,7,FALSE)-HLOOKUP($B$54,'04_Wirtschaftlichkeit'!$E$44:$L$57,5,FALSE))","v":0},{"$f":"AU$56*(-HLOOKUP($B$54,'04_Wirtschaftlichkeit'!$E$44:$L$57,7,FALSE)-HLOOKUP($B$54,'04_Wirtschaftlichkeit'!$E$44:$L$57,5,FALSE))","v":0},{"$f":"AV$56*(-HLOOKUP($B$54,'04_Wirtschaftlichkeit'!$E$44:$L$57,7,FALSE)-HLOOKUP($B$54,'04_Wirtschaftlichkeit'!$E$44:$L$57,5,FALSE))","v":0},{"$f":"AW$56*(-HLOOKUP($B$54,'04_Wirtschaftlichkeit'!$E$44:$L$57,7,FALSE)-HLOOKUP($B$54,'04_Wirtschaftlichkeit'!$E$44:$L$57,5,FALSE))","v":0},{"$f":"AX$56*(-HLOOKUP($B$54,'04_Wirtschaftlichkeit'!$E$44:$L$57,7,FALSE)-HLOOKUP($B$54,'04_Wirtschaftlichkeit'!$E$44:$L$57,5,FALSE))","v":0},{"$f":"AY$56*(-HLOOKUP($B$54,'04_Wirtschaftlichkeit'!$E$44:$L$57,7,FALSE)-HLOOKUP($B$54,'04_Wirtschaftlichkeit'!$E$44:$L$57,5,FALSE))","v":0},{"$f":"AZ$56*(-HLOOKUP($B$54,'04_Wirtschaftlichkeit'!$E$44:$L$57,7,FALSE)-HLOOKUP($B$54,'04_Wirtschaftlichkeit'!$E$44:$L$57,5,FALSE))","v":0},{"$f":"BA$56*(-HLOOKUP($B$54,'04_Wirtschaftlichkeit'!$E$44:$L$57,7,FALSE)-HLOOKUP($B$54,'04_Wirtschaftlichkeit'!$E$44:$L$57,5,FALSE))","v":0}]
[null,0,{"$f":"-HLOOKUP($B$54,'04_Wirtschaftlichkeit'!$E$44:$L$57,6,FALSE)*(1+B63)","v":-1057830.7168757692},{"$f":"D$56*(-HLOOKUP($B$54,'04_Wirtschaftlichkeit'!$E$44:$L$57,7,FALSE)-HLOOKUP($B$54,'04_Wirtschaftlichkeit'!$E$44:$L$57,5,FALSE))","v":-84207.9},{"$f":"E$56*(-HLOOKUP($B$54,'04_Wirtschaftlichkeit'!$E$44:$L$57,7,FALSE)-HLOOKUP($B$54,'04_Wirtschaftlichkeit'!$E$44:$L$57,5,FALSE))","v":-84207.9},{"$f":"F$56*(-HLOOKUP($B$54,'04_Wirtschaftlichkeit'!$E$44:$L$57,7,FALSE)-HLOOKUP($B$54,'04_Wirtschaftlichkeit'!$E$44:$L$57,5,FALSE))","v":-84207.9},{"$f":"G$56*(-HLOOKUP($B$54,'04_Wirtschaftlichkeit'!$E$44:$L$57,7,FALSE)-HLOOKUP($B$54,'04_Wirtschaftlichkeit'!$E$44:$L$57,5,FALSE))","v":-84207.9},{"$f":"H$56*(-HLOOKUP($B$54,'04_Wirtschaftlichkeit'!$E$44:$L$57,7,FALSE)-HLOOKUP($B$54,'04_Wirtschaftlichkeit'!$E$44:$L$57,5,FALSE))","v":-84207.9},{"$f":"I$56*(-HLOOKUP($B$54,'04_Wirtschaftlichkeit'!$E$44:$L$57,7,FALSE)-HLOOKUP($B$54,'04_Wirtschaftlichkeit'!$E$44:$L$57,5,FALSE))","v":-84207.9},{"$f":"J$56*(-HLOOKUP($B$54,'04_Wirtschaftlichkeit'!$E$44:$L$57,7,FALSE)-HLOOKUP($B$54,'04_Wirtschaftlichkeit'!$E$44:$L$57,5,FALSE))","v":-84207.9},{"$f":"K$56*(-HLOOKUP($B$54,'04_Wirtschaftlichkeit'!$E$44:$L$57,7,FALSE)-HLOOKUP($B$54,'04_Wirtschaftlichkeit'!$E$44:$L$57,5,FALSE))","v":-84207.9},{"$f":"L$56*(-HLOOKUP($B$54,'04_Wirtschaftlichkeit'!$E$44:$L$57,7,FALSE)-HLOOKUP($B$54,'04_Wirtschaftlichkeit'!$E$44:$L$57,5,FALSE))","v":-84207.9},{"$f":"M$56*(-HLOOKUP($B$54,'04_Wirtschaftlichkeit'!$E$44:$L$57,7,FALSE)-HLOOKUP($B$54,'04_Wirtschaftlichkeit'!$E$44:$L$57,5,FALSE))","v":-84207.9},{"$f":"N$56*(-HLOOKUP($B$54,'04_Wirtschaftlichkeit'!$E$44:$L$57,7,FALSE)-HLOOKUP($B$54,'04_Wirtschaftlichkeit'!$E$44:$L$57,5,FALSE))","v":-84207.9},{"$f":"O$56*(-HLOOKUP($B$54,'04_Wirtschaftlichkeit'!$E$44:$L$57,7,FALSE)-HLOOKUP($B$54,'04_Wirtschaftlichkeit'!$E$44:$L$57,5,FALSE))","v":-84207.9},{"$f":"P$56*(-HLOOKUP($B$54,'04_Wirtschaftlichkeit'!$E$44:$L$57,7,FALSE)-HLOOKUP($B$54,'04_Wirtschaftlichkeit'!$E$44:$L$57,5,FALSE))","v":-84207.9},{"$f":"Q$56*(-HLOOKUP($B$54,'04_Wirtschaftlichkeit'!$E$44:$L$57,7,FALSE)-HLOOKUP($B$54,'04_Wirtschaftlichkeit'!$E$44:$L$57,5,FALSE))","v":-84207.9},{"$f":"R$56*(-HLOOKUP($B$54,'04_Wirtschaftlichkeit'!$E$44:$L$57,7,FALSE)-HLOOKUP($B$54,'04_Wirtschaftlichkeit'!$E$44:$L$57,5,FALSE))","v":-84207.9},{"$f":"S$56*(-HLOOKUP($B$54,'04_Wirtschaftlichkeit'!$E$44:$L$57,7,FALSE)-HLOOKUP($B$54,'04_Wirtschaftlichkeit'!$E$44:$L$57,5,FALSE))","v":-84207.9},{"$f":"T$56*(-HLOOKUP($B$54,'04_Wirtschaftlichkeit'!$E$44:$L$57,7,FALSE)-HLOOKUP($B$54,'04_Wirtschaftlichkeit'!$E$44:$L$57,5,FALSE))","v":-84207.9},{"$f":"U$56*(-HLOOKUP($B$54,'04_Wirtschaftlichkeit'!$E$44:$L$57,7,FALSE)-HLOOKUP($B$54,'04_Wirtschaftlichkeit'!$E$44:$L$57,5,FALSE))","v":-84207.9},{"$f":"V$56*(-HLOOKUP($B$54,'04_Wirtschaftlichkeit'!$E$44:$L$57,7,FALSE)-HLOOKUP($B$54,'04_Wirtschaftlichkeit'!$E$44:$L$57,5,FALSE))","v":-84207.9},{"$f":"W$56*(-HLOOKUP($B$54,'04_Wirtschaftlichkeit'!$E$44:$L$57,7,FALSE)-HLOOKUP($B$54,'04_Wirtschaftlichkeit'!$E$44:$L$57,5,FALSE))","v":-84207.9},{"$f":"X$56*(-HLOOKUP($B$54,'04_Wirtschaftlichkeit'!$E$44:$L$57,7,FALSE)-HLOOKUP($B$54,'04_Wirtschaftlichkeit'!$E$44:$L$57,5,FALSE))","v":0},{"$f":"Y$56*(-HLOOKUP($B$54,'04_Wirtschaftlichkeit'!$E$44:$L$57,7,FALSE)-HLOOKUP($B$54,'04_Wirtschaftlichkeit'!$E$44:$L$57,5,FALSE))","v":0},{"$f":"Z$56*(-HLOOKUP($B$54,'04_Wirtschaftlichkeit'!$E$44:$L$57,7,FALSE)-HLOOKUP($B$54,'04_Wirtschaftlichkeit'!$E$44:$L$57,5,FALSE))","v":0},{"$f":"AA$56*(-HLOOKUP($B$54,'04_Wirtschaftlichkeit'!$E$44:$L$57,7,FALSE)-HLOOKUP($B$54,'04_Wirtschaftlichkeit'!$E$44:$L$57,5,FALSE))","v":0},{"$f":"AB$56*(-HLOOKUP($B$54,'04_Wirtschaftlichkeit'!$E$44:$L$57,7,FALSE)-HLOOKUP($B$54,'04_Wirtschaftlichkeit'!$E$44:$L$57,5,FALSE))","v":0},{"$f":"AC$56*(-HLOOKUP($B$54,'04_Wirtschaftlichkeit'!$E$44:$L$57,7,FALSE)-HLOOKUP($B$54,'04_Wirtschaftlichkeit'!$E$44:$L$57,5,FALSE))","v":0},{"$f":"AD$56*(-HLOOKUP($B$54,'04_Wirtschaftlichkeit'!$E$44:$L$57,7,FALSE)-HLOOKUP($B$54,'04_Wirtschaftlichkeit'!$E$44:$L$57,5,FALSE))","v":0},{"$f":"AE$56*(-HLOOKUP($B$54,'04_Wirtschaftlichkeit'!$E$44:$L$57,7,FALSE)-HLOOKUP($B$54,'04_Wirtschaftlichkeit'!$E$44:$L$57,5,FALSE))","v":0},{"$f":"AF$56*(-HLOOKUP($B$54,'04_Wirtschaftlichkeit'!$E$44:$L$57,7,FALSE)-HLOOKUP($B$54,'04_Wirtschaftlichkeit'!$E$44:$L$57,5,FALSE))","v":0},{"$f":"AG$56*(-HLOOKUP($B$54,'04_Wirtschaftlichkeit'!$E$44:$L$57,7,FALSE)-HLOOKUP($B$54,'04_Wirtschaftlichkeit'!$E$44:$L$57,5,FALSE))","v":0},{"$f":"AH$56*(-HLOOKUP($B$54,'04_Wirtschaftlichkeit'!$E$44:$L$57,7,FALSE)-HLOOKUP($B$54,'04_Wirtschaftlichkeit'!$E$44:$L$57,5,FALSE))","v":0},{"$f":"AI$56*(-HLOOKUP($B$54,'04_Wirtschaftlichkeit'!$E$44:$L$57,7,FALSE)-HLOOKUP($B$54,'04_Wirtschaftlichkeit'!$E$44:$L$57,5,FALSE))","v":0},{"$f":"AJ$56*(-HLOOKUP($B$54,'04_Wirtschaftlichkeit'!$E$44:$L$57,7,FALSE)-HLOOKUP($B$54,'04_Wirtschaftlichkeit'!$E$44:$L$57,5,FALSE))","v":0},{"$f":"AK$56*(-HLOOKUP($B$54,'04_Wirtschaftlichkeit'!$E$44:$L$57,7,FALSE)-HLOOKUP($B$54,'04_Wirtschaftlichkeit'!$E$44:$L$57,5,FALSE))","v":0},{"$f":"AL$56*(-HLOOKUP($B$54,'04_Wirtschaftlichkeit'!$E$44:$L$57,7,FALSE)-HLOOKUP($B$54,'04_Wirtschaftlichkeit'!$E$44:$L$57,5,FALSE))","v":0},{"$f":"AM$56*(-HLOOKUP($B$54,'04_Wirtschaftlichkeit'!$E$44:$L$57,7,FALSE)-HLOOKUP($B$54,'04_Wirtschaftlichkeit'!$E$44:$L$57,5,FALSE))","v":0},{"$f":"AN$56*(-HLOOKUP($B$54,'04_Wirtschaftlichkeit'!$E$44:$L$57,7,FALSE)-HLOOKUP($B$54,'04_Wirtschaftlichkeit'!$E$44:$L$57,5,FALSE))","v":0},{"$f":"AO$56*(-HLOOKUP($B$54,'04_Wirtschaftlichkeit'!$E$44:$L$57,7,FALSE)-HLOOKUP($B$54,'04_Wirtschaftlichkeit'!$E$44:$L$57,5,FALSE))","v":0},{"$f":"AP$56*(-HLOOKUP($B$54,'04_Wirtschaftlichkeit'!$E$44:$L$57,7,FALSE)-HLOOKUP($B$54,'04_Wirtschaftlichkeit'!$E$44:$L$57,5,FALSE))","v":0},{"$f":"AQ$56*(-HLOOKUP($B$54,'04_Wirtschaftlichkeit'!$E$44:$L$57,7,FALSE)-HLOOKUP($B$54,'04_Wirtschaftlichkeit'!$E$44:$L$57,5,FALSE))","v":0},{"$f":"AR$56*(-HLOOKUP($B$54,'04_Wirtschaftlichkeit'!$E$44:$L$57,7,FALSE)-HLOOKUP($B$54,'04_Wirtschaftlichkeit'!$E$44:$L$57,5,FALSE))","v":0},{"$f":"AS$56*(-HLOOKUP($B$54,'04_Wirtschaftlichkeit'!$E$44:$L$57,7,FALSE)-HLOOKUP($B$54,'04_Wirtschaftlichkeit'!$E$44:$L$57,5,FALSE))","v":0},{"$f":"AT$56*(-HLOOKUP($B$54,'04_Wirtschaftlichkeit'!$E$44:$L$57,7,FALSE)-HLOOKUP($B$54,'04_Wirtschaftlichkeit'!$E$44:$L$57,5,FALSE))","v":0},{"$f":"AU$56*(-HLOOKUP($B$54,'04_Wirtschaftlichkeit'!$E$44:$L$57,7,FALSE)-HLOOKUP($B$54,'04_Wirtschaftlichkeit'!$E$44:$L$57,5,FALSE))","v":0},{"$f":"AV$56*(-HLOOKUP($B$54,'04_Wirtschaftlichkeit'!$E$44:$L$57,7,FALSE)-HLOOKUP($B$54,'04_Wirtschaftlichkeit'!$E$44:$L$57,5,FALSE))","v":0},{"$f":"AW$56*(-HLOOKUP($B$54,'04_Wirtschaftlichkeit'!$E$44:$L$57,7,FALSE)-HLOOKUP($B$54,'04_Wirtschaftlichkeit'!$E$44:$L$57,5,FALSE))","v":0},{"$f":"AX$56*(-HLOOKUP($B$54,'04_Wirtschaftlichkeit'!$E$44:$L$57,7,FALSE)-HLOOKUP($B$54,'04_Wirtschaftlichkeit'!$E$44:$L$57,5,FALSE))","v":0},{"$f":"AY$56*(-HLOOKUP($B$54,'04_Wirtschaftlichkeit'!$E$44:$L$57,7,FALSE)-HLOOKUP($B$54,'04_Wirtschaftlichkeit'!$E$44:$L$57,5,FALSE))","v":0},{"$f":"AZ$56*(-HLOOKUP($B$54,'04_Wirtschaftlichkeit'!$E$44:$L$57,7,FALSE)-HLOOKUP($B$54,'04_Wirtschaftlichkeit'!$E$44:$L$57,5,FALSE))","v":0},{"$f":"BA$56*(-HLOOKUP($B$54,'04_Wirtschaftlichkeit'!$E$44:$L$57,7,FALSE)-HLOOKUP($B$54,'04_Wirtschaftlichkeit'!$E$44:$L$57,5,FALSE))","v":0}]
[null,0.1,{"$f":"-HLOOKUP($B$54,'04_Wirtschaftlichkeit'!$E$44:$L$57,6,FALSE)*(1+B64)","v":-1163613.7885633463},{"$f":"D$56*(-HLOOKUP($B$54,'04_Wirtschaftlichkeit'!$E$44:$L$57,7,FALSE)-HLOOKUP($B$54,'04_Wirtschaftlichkeit'!$E$44:$L$57,5,FALSE))","v":-84207.9},{"$f":"E$56*(-HLOOKUP($B$54,'04_Wirtschaftlichkeit'!$E$44:$L$57,7,FALSE)-HLOOKUP($B$54,'04_Wirtschaftlichkeit'!$E$44:$L$57,5,FALSE))","v":-84207.9},{"$f":"F$56*(-HLOOKUP($B$54,'04_Wirtschaftlichkeit'!$E$44:$L$57,7,FALSE)-HLOOKUP($B$54,'04_Wirtschaftlichkeit'!$E$44:$L$57,5,FALSE))","v":-84207.9},{"$f":"G$56*(-HLOOKUP($B$54,'04_Wirtschaftlichkeit'!$E$44:$L$57,7,FALSE)-HLOOKUP($B$54,'04_Wirtschaftlichkeit'!$E$44:$L$57,5,FALSE))","v":-84207.9},{"$f":"H$56*(-HLOOKUP($B$54,'04_Wirtschaftlichkeit'!$E$44:$L$57,7,FALSE)-HLOOKUP($B$54,'04_Wirtschaftlichkeit'!$E$44:$L$57,5,FALSE))","v":-84207.9},{"$f":"I$56*(-HLOOKUP($B$54,'04_Wirtschaftlichkeit'!$E$44:$L$57,7,FALSE)-HLOOKUP($B$54,'04_Wirtschaftlichkeit'!$E$44:$L$57,5,FALSE))","v":-84207.9},{"$f":"J$56*(-HLOOKUP($B$54,'04_Wirtschaftlichkeit'!$E$44:$L$57,7,FALSE)-HLOOKUP($B$54,'04_Wirtschaftlichkeit'!$E$44:$L$57,5,FALSE))","v":-84207.9},{"$f":"K$56*(-HLOOKUP($B$54,'04_Wirtschaftlichkeit'!$E$44:$L$57,7,FALSE)-HLOOKUP($B$54,'04_Wirtschaftlichkeit'!$E$44:$L$57,5,FALSE))","v":-84207.9},{"$f":"L$56*(-HLOOKUP($B$54,'04_Wirtschaftlichkeit'!$E$44:$L$57,7,FALSE)-HLOOKUP($B$54,'04_Wirtschaftlichkeit'!$E$44:$L$57,5,FALSE))","v":-84207.9},{"$f":"M$56*(-HLOOKUP($B$54,'04_Wirtschaftlichkeit'!$E$44:$L$57,7,FALSE)-HLOOKUP($B$54,'04_Wirtschaftlichkeit'!$E$44:$L$57,5,FALSE))","v":-84207.9},{"$f":"N$56*(-HLOOKUP($B$54,'04_Wirtschaftlichkeit'!$E$44:$L$57,7,FALSE)-HLOOKUP($B$54,'04_Wirtschaftlichkeit'!$E$44:$L$57,5,FALSE))","v":-84207.9},{"$f":"O$56*(-HLOOKUP($B$54,'04_Wirtschaftlichkeit'!$E$44:$L$57,7,FALSE)-HLOOKUP($B$54,'04_Wirtschaftlichkeit'!$E$44:$L$57,5,FALSE))","v":-84207.9},{"$f":"P$56*(-HLOOKUP($B$54,'04_Wirtschaftlichkeit'!$E$44:$L$57,7,FALSE)-HLOOKUP($B$54,'04_Wirtschaftlichkeit'!$E$44:$L$57,5,FALSE))","v":-84207.9},{"$f":"Q$56*(-HLOOKUP($B$54,'04_Wirtschaftlichkeit'!$E$44:$L$57,7,FALSE)-HLOOKUP($B$54,'04_Wirtschaftlichkeit'!$E$44:$L$57,5,FALSE))","v":-84207.9},{"$f":"R$56*(-HLOOKUP($B$54,'04_Wirtschaftlichkeit'!$E$44:$L$57,7,FALSE)-HLOOKUP($B$54,'04_Wirtschaftlichkeit'!$E$44:$L$57,5,FALSE))","v":-84207.9},{"$f":"S$56*(-HLOOKUP($B$54,'04_Wirtschaftlichkeit'!$E$44:$L$57,7,FALSE)-HLOOKUP($B$54,'04_Wirtschaftlichkeit'!$E$44:$L$57,5,FALSE))","v":-84207.9},{"$f":"T$56*(-HLOOKUP($B$54,'04_Wirtschaftlichkeit'!$E$44:$L$57,7,FALSE)-HLOOKUP($B$54,'04_Wirtschaftlichkeit'!$E$44:$L$57,5,FALSE))","v":-84207.9},{"$f":"U$56*(-HLOOKUP($B$54,'04_Wirtschaftlichkeit'!$E$44:$L$57,7,FALSE)-HLOOKUP($B$54,'04_Wirtschaftlichkeit'!$E$44:$L$57,5,FALSE))","v":-84207.9},{"$f":"V$56*(-HLOOKUP($B$54,'04_Wirtschaftlichkeit'!$E$44:$L$57,7,FALSE)-HLOOKUP($B$54,'04_Wirtschaftlichkeit'!$E$44:$L$57,5,FALSE))","v":-84207.9},{"$f":"W$56*(-HLOOKUP($B$54,'04_Wirtschaftlichkeit'!$E$44:$L$57,7,FALSE)-HLOOKUP($B$54,'04_Wirtschaftlichkeit'!$E$44:$L$57,5,FALSE))","v":-84207.9},{"$f":"X$56*(-HLOOKUP($B$54,'04_Wirtschaftlichkeit'!$E$44:$L$57,7,FALSE)-HLOOKUP($B$54,'04_Wirtschaftlichkeit'!$E$44:$L$57,5,FALSE))","v":0},{"$f":"Y$56*(-HLOOKUP($B$54,'04_Wirtschaftlichkeit'!$E$44:$L$57,7,FALSE)-HLOOKUP($B$54,'04_Wirtschaftlichkeit'!$E$44:$L$57,5,FALSE))","v":0},{"$f":"Z$56*(-HLOOKUP($B$54,'04_Wirtschaftlichkeit'!$E$44:$L$57,7,FALSE)-HLOOKUP($B$54,'04_Wirtschaftlichkeit'!$E$44:$L$57,5,FALSE))","v":0},{"$f":"AA$56*(-HLOOKUP($B$54,'04_Wirtschaftlichkeit'!$E$44:$L$57,7,FALSE)-HLOOKUP($B$54,'04_Wirtschaftlichkeit'!$E$44:$L$57,5,FALSE))","v":0},{"$f":"AB$56*(-HLOOKUP($B$54,'04_Wirtschaftlichkeit'!$E$44:$L$57,7,FALSE)-HLOOKUP($B$54,'04_Wirtschaftlichkeit'!$E$44:$L$57,5,FALSE))","v":0},{"$f":"AC$56*(-HLOOKUP($B$54,'04_Wirtschaftlichkeit'!$E$44:$L$57,7,FALSE)-HLOOKUP($B$54,'04_Wirtschaftlichkeit'!$E$44:$L$57,5,FALSE))","v":0},{"$f":"AD$56*(-HLOOKUP($B$54,'04_Wirtschaftlichkeit'!$E$44:$L$57,7,FALSE)-HLOOKUP($B$54,'04_Wirtschaftlichkeit'!$E$44:$L$57,5,FALSE))","v":0},{"$f":"AE$56*(-HLOOKUP($B$54,'04_Wirtschaftlichkeit'!$E$44:$L$57,7,FALSE)-HLOOKUP($B$54,'04_Wirtschaftlichkeit'!$E$44:$L$57,5,FALSE))","v":0},{"$f":"AF$56*(-HLOOKUP($B$54,'04_Wirtschaftlichkeit'!$E$44:$L$57,7,FALSE)-HLOOKUP($B$54,'04_Wirtschaftlichkeit'!$E$44:$L$57,5,FALSE))","v":0},{"$f":"AG$56*(-HLOOKUP($B$54,'04_Wirtschaftlichkeit'!$E$44:$L$57,7,FALSE)-HLOOKUP($B$54,'04_Wirtschaftlichkeit'!$E$44:$L$57,5,FALSE))","v":0},{"$f":"AH$56*(-HLOOKUP($B$54,'04_Wirtschaftlichkeit'!$E$44:$L$57,7,FALSE)-HLOOKUP($B$54,'04_Wirtschaftlichkeit'!$E$44:$L$57,5,FALSE))","v":0},{"$f":"AI$56*(-HLOOKUP($B$54,'04_Wirtschaftlichkeit'!$E$44:$L$57,7,FALSE)-HLOOKUP($B$54,'04_Wirtschaftlichkeit'!$E$44:$L$57,5,FALSE))","v":0},{"$f":"AJ$56*(-HLOOKUP($B$54,'04_Wirtschaftlichkeit'!$E$44:$L$57,7,FALSE)-HLOOKUP($B$54,'04_Wirtschaftlichkeit'!$E$44:$L$57,5,FALSE))","v":0},{"$f":"AK$56*(-HLOOKUP($B$54,'04_Wirtschaftlichkeit'!$E$44:$L$57,7,FALSE)-HLOOKUP($B$54,'04_Wirtschaftlichkeit'!$E$44:$L$57,5,FALSE))","v":0},{"$f":"AL$56*(-HLOOKUP($B$54,'04_Wirtschaftlichkeit'!$E$44:$L$57,7,FALSE)-HLOOKUP($B$54,'04_Wirtschaftlichkeit'!$E$44:$L$57,5,FALSE))","v":0},{"$f":"AM$56*(-HLOOKUP($B$54,'04_Wirtschaftlichkeit'!$E$44:$L$57,7,FALSE)-HLOOKUP($B$54,'04_Wirtschaftlichkeit'!$E$44:$L$57,5,FALSE))","v":0},{"$f":"AN$56*(-HLOOKUP($B$54,'04_Wirtschaftlichkeit'!$E$44:$L$57,7,FALSE)-HLOOKUP($B$54,'04_Wirtschaftlichkeit'!$E$44:$L$57,5,FALSE))","v":0},{"$f":"AO$56*(-HLOOKUP($B$54,'04_Wirtschaftlichkeit'!$E$44:$L$57,7,FALSE)-HLOOKUP($B$54,'04_Wirtschaftlichkeit'!$E$44:$L$57,5,FALSE))","v":0},{"$f":"AP$56*(-HLOOKUP($B$54,'04_Wirtschaftlichkeit'!$E$44:$L$57,7,FALSE)-HLOOKUP($B$54,'04_Wirtschaftlichkeit'!$E$44:$L$57,5,FALSE))","v":0},{"$f":"AQ$56*(-HLOOKUP($B$54,'04_Wirtschaftlichkeit'!$E$44:$L$57,7,FALSE)-HLOOKUP($B$54,'04_Wirtschaftlichkeit'!$E$44:$L$57,5,FALSE))","v":0},{"$f":"AR$56*(-HLOOKUP($B$54,'04_Wirtschaftlichkeit'!$E$44:$L$57,7,FALSE)-HLOOKUP($B$54,'04_Wirtschaftlichkeit'!$E$44:$L$57,5,FALSE))","v":0},{"$f":"AS$56*(-HLOOKUP($B$54,'04_Wirtschaftlichkeit'!$E$44:$L$57,7,FALSE)-HLOOKUP($B$54,'04_Wirtschaftlichkeit'!$E$44:$L$57,5,FALSE))","v":0},{"$f":"AT$56*(-HLOOKUP($B$54,'04_Wirtschaftlichkeit'!$E$44:$L$57,7,FALSE)-HLOOKUP($B$54,'04_Wirtschaftlichkeit'!$E$44:$L$57,5,FALSE))","v":0},{"$f":"AU$56*(-HLOOKUP($B$54,'04_Wirtschaftlichkeit'!$E$44:$L$57,7,FALSE)-HLOOKUP($B$54,'04_Wirtschaftlichkeit'!$E$44:$L$57,5,FALSE))","v":0},{"$f":"AV$56*(-HLOOKUP($B$54,'04_Wirtschaftlichkeit'!$E$44:$L$57,7,FALSE)-HLOOKUP($B$54,'04_Wirtschaftlichkeit'!$E$44:$L$57,5,FALSE))","v":0},{"$f":"AW$56*(-HLOOKUP($B$54,'04_Wirtschaftlichkeit'!$E$44:$L$57,7,FALSE)-HLOOKUP($B$54,'04_Wirtschaftlichkeit'!$E$44:$L$57,5,FALSE))","v":0},{"$f":"AX$56*(-HLOOKUP($B$54,'04_Wirtschaftlichkeit'!$E$44:$L$57,7,FALSE)-HLOOKUP($B$54,'04_Wirtschaftlichkeit'!$E$44:$L$57,5,FALSE))","v":0},{"$f":"AY$56*(-HLOOKUP($B$54,'04_Wirtschaftlichkeit'!$E$44:$L$57,7,FALSE)-HLOOKUP($B$54,'04_Wirtschaftlichkeit'!$E$44:$L$57,5,FALSE))","v":0},{"$f":"AZ$56*(-HLOOKUP($B$54,'04_Wirtschaftlichkeit'!$E$44:$L$57,7,FALSE)-HLOOKUP($B$54,'04_Wirtschaftlichkeit'!$E$44:$L$57,5,FALSE))","v":0},{"$f":"BA$56*(-HLOOKUP($B$54,'04_Wirtschaftlichkeit'!$E$44:$L$57,7,FALSE)-HLOOKUP($B$54,'04_Wirtschaftlichkeit'!$E$44:$L$57,5,FALSE))","v":0}]
[null,0.2,{"$f":"-HLOOKUP($B$54,'04_Wirtschaftlichkeit'!$E$44:$L$57,6,FALSE)*(1+B65)","v":-1269396.8602509231},{"$f":"D$56*(-HLOOKUP($B$54,'04_Wirtschaftlichkeit'!$E$44:$L$57,7,FALSE)-HLOOKUP($B$54,'04_Wirtschaftlichkeit'!$E$44:$L$57,5,FALSE))","v":-84207.9},{"$f":"E$56*(-HLOOKUP($B$54,'04_Wirtschaftlichkeit'!$E$44:$L$57,7,FALSE)-HLOOKUP($B$54,'04_Wirtschaftlichkeit'!$E$44:$L$57,5,FALSE))","v":-84207.9},{"$f":"F$56*(-HLOOKUP($B$54,'04_Wirtschaftlichkeit'!$E$44:$L$57,7,FALSE)-HLOOKUP($B$54,'04_Wirtschaftlichkeit'!$E$44:$L$57,5,FALSE))","v":-84207.9},{"$f":"G$56*(-HLOOKUP($B$54,'04_Wirtschaftlichkeit'!$E$44:$L$57,7,FALSE)-HLOOKUP($B$54,'04_Wirtschaftlichkeit'!$E$44:$L$57,5,FALSE))","v":-84207.9},{"$f":"H$56*(-HLOOKUP($B$54,'04_Wirtschaftlichkeit'!$E$44:$L$57,7,FALSE)-HLOOKUP($B$54,'04_Wirtschaftlichkeit'!$E$44:$L$57,5,FALSE))","v":-84207.9},{"$f":"I$56*(-HLOOKUP($B$54,'04_Wirtschaftlichkeit'!$E$44:$L$57,7,FALSE)-HLOOKUP($B$54,'04_Wirtschaftlichkeit'!$E$44:$L$57,5,FALSE))","v":-84207.9},{"$f":"J$56*(-HLOOKUP($B$54,'04_Wirtschaftlichkeit'!$E$44:$L$57,7,FALSE)-HLOOKUP($B$54,'04_Wirtschaftlichkeit'!$E$44:$L$57,5,FALSE))","v":-84207.9},{"$f":"K$56*(-HLOOKUP($B$54,'04_Wirtschaftlichkeit'!$E$44:$L$57,7,FALSE)-HLOOKUP($B$54,'04_Wirtschaftlichkeit'!$E$44:$L$57,5,FALSE))","v":-84207.9},{"$f":"L$56*(-HLOOKUP($B$54,'04_Wirtschaftlichkeit'!$E$44:$L$57,7,FALSE)-HLOOKUP($B$54,'04_Wirtschaftlichkeit'!$E$44:$L$57,5,FALSE))","v":-84207.9},{"$f":"M$56*(-HLOOKUP($B$54,'04_Wirtschaftlichkeit'!$E$44:$L$57,7,FALSE)-HLOOKUP($B$54,'04_Wirtschaftlichkeit'!$E$44:$L$57,5,FALSE))","v":-84207.9},{"$f":"N$56*(-HLOOKUP($B$54,'04_Wirtschaftlichkeit'!$E$44:$L$57,7,FALSE)-HLOOKUP($B$54,'04_Wirtschaftlichkeit'!$E$44:$L$57,5,FALSE))","v":-84207.9},{"$f":"O$56*(-HLOOKUP($B$54,'04_Wirtschaftlichkeit'!$E$44:$L$57,7,FALSE)-HLOOKUP($B$54,'04_Wirtschaftlichkeit'!$E$44:$L$57,5,FALSE))","v":-84207.9},{"$f":"P$56*(-HLOOKUP($B$54,'04_Wirtschaftlichkeit'!$E$44:$L$57,7,FALSE)-HLOOKUP($B$54,'04_Wirtschaftlichkeit'!$E$44:$L$57,5,FALSE))","v":-84207.9},{"$f":"Q$56*(-HLOOKUP($B$54,'04_Wirtschaftlichkeit'!$E$44:$L$57,7,FALSE)-HLOOKUP($B$54,'04_Wirtschaftlichkeit'!$E$44:$L$57,5,FALSE))","v":-84207.9},{"$f":"R$56*(-HLOOKUP($B$54,'04_Wirtschaftlichkeit'!$E$44:$L$57,7,FALSE)-HLOOKUP($B$54,'04_Wirtschaftlichkeit'!$E$44:$L$57,5,FALSE))","v":-84207.9},{"$f":"S$56*(-HLOOKUP($B$54,'04_Wirtschaftlichkeit'!$E$44:$L$57,7,FALSE)-HLOOKUP($B$54,'04_Wirtschaftlichkeit'!$E$44:$L$57,5,FALSE))","v":-84207.9},{"$f":"T$56*(-HLOOKUP($B$54,'04_Wirtschaftlichkeit'!$E$44:$L$57,7,FALSE)-HLOOKUP($B$54,'04_Wirtschaftlichkeit'!$E$44:$L$57,5,FALSE))","v":-84207.9},{"$f":"U$56*(-HLOOKUP($B$54,'04_Wirtschaftlichkeit'!$E$44:$L$57,7,FALSE)-HLOOKUP($B$54,'04_Wirtschaftlichkeit'!$E$44:$L$57,5,FALSE))","v":-84207.9},{"$f":"V$56*(-HLOOKUP($B$54,'04_Wirtschaftlichkeit'!$E$44:$L$57,7,FALSE)-HLOOKUP($B$54,'04_Wirtschaftlichkeit'!$E$44:$L$57,5,FALSE))","v":-84207.9},{"$f":"W$56*(-HLOOKUP($B$54,'04_Wirtschaftlichkeit'!$E$44:$L$57,7,FALSE)-HLOOKUP($B$54,'04_Wirtschaftlichkeit'!$E$44:$L$57,5,FALSE))","v":-84207.9},{"$f":"X$56*(-HLOOKUP($B$54,'04_Wirtschaftlichkeit'!$E$44:$L$57,7,FALSE)-HLOOKUP($B$54,'04_Wirtschaftlichkeit'!$E$44:$L$57,5,FALSE))","v":0},{"$f":"Y$56*(-HLOOKUP($B$54,'04_Wirtschaftlichkeit'!$E$44:$L$57,7,FALSE)-HLOOKUP($B$54,'04_Wirtschaftlichkeit'!$E$44:$L$57,5,FALSE))","v":0},{"$f":"Z$56*(-HLOOKUP($B$54,'04_Wirtschaftlichkeit'!$E$44:$L$57,7,FALSE)-HLOOKUP($B$54,'04_Wirtschaftlichkeit'!$E$44:$L$57,5,FALSE))","v":0},{"$f":"AA$56*(-HLOOKUP($B$54,'04_Wirtschaftlichkeit'!$E$44:$L$57,7,FALSE)-HLOOKUP($B$54,'04_Wirtschaftlichkeit'!$E$44:$L$57,5,FALSE))","v":0},{"$f":"AB$56*(-HLOOKUP($B$54,'04_Wirtschaftlichkeit'!$E$44:$L$57,7,FALSE)-HLOOKUP($B$54,'04_Wirtschaftlichkeit'!$E$44:$L$57,5,FALSE))","v":0},{"$f":"AC$56*(-HLOOKUP($B$54,'04_Wirtschaftlichkeit'!$E$44:$L$57,7,FALSE)-HLOOKUP($B$54,'04_Wirtschaftlichkeit'!$E$44:$L$57,5,FALSE))","v":0},{"$f":"AD$56*(-HLOOKUP($B$54,'04_Wirtschaftlichkeit'!$E$44:$L$57,7,FALSE)-HLOOKUP($B$54,'04_Wirtschaftlichkeit'!$E$44:$L$57,5,FALSE))","v":0},{"$f":"AE$56*(-HLOOKUP($B$54,'04_Wirtschaftlichkeit'!$E$44:$L$57,7,FALSE)-HLOOKUP($B$54,'04_Wirtschaftlichkeit'!$E$44:$L$57,5,FALSE))","v":0},{"$f":"AF$56*(-HLOOKUP($B$54,'04_Wirtschaftlichkeit'!$E$44:$L$57,7,FALSE)-HLOOKUP($B$54,'04_Wirtschaftlichkeit'!$E$44:$L$57,5,FALSE))","v":0},{"$f":"AG$56*(-HLOOKUP($B$54,'04_Wirtschaftlichkeit'!$E$44:$L$57,7,FALSE)-HLOOKUP($B$54,'04_Wirtschaftlichkeit'!$E$44:$L$57,5,FALSE))","v":0},{"$f":"AH$56*(-HLOOKUP($B$54,'04_Wirtschaftlichkeit'!$E$44:$L$57,7,FALSE)-HLOOKUP($B$54,'04_Wirtschaftlichkeit'!$E$44:$L$57,5,FALSE))","v":0},{"$f":"AI$56*(-HLOOKUP($B$54,'04_Wirtschaftlichkeit'!$E$44:$L$57,7,FALSE)-HLOOKUP($B$54,'04_Wirtschaftlichkeit'!$E$44:$L$57,5,FALSE))","v":0},{"$f":"AJ$56*(-HLOOKUP($B$54,'04_Wirtschaftlichkeit'!$E$44:$L$57,7,FALSE)-HLOOKUP($B$54,'04_Wirtschaftlichkeit'!$E$44:$L$57,5,FALSE))","v":0},{"$f":"AK$56*(-HLOOKUP($B$54,'04_Wirtschaftlichkeit'!$E$44:$L$57,7,FALSE)-HLOOKUP($B$54,'04_Wirtschaftlichkeit'!$E$44:$L$57,5,FALSE))","v":0},{"$f":"AL$56*(-HLOOKUP($B$54,'04_Wirtschaftlichkeit'!$E$44:$L$57,7,FALSE)-HLOOKUP($B$54,'04_Wirtschaftlichkeit'!$E$44:$L$57,5,FALSE))","v":0},{"$f":"AM$56*(-HLOOKUP($B$54,'04_Wirtschaftlichkeit'!$E$44:$L$57,7,FALSE)-HLOOKUP($B$54,'04_Wirtschaftlichkeit'!$E$44:$L$57,5,FALSE))","v":0},{"$f":"AN$56*(-HLOOKUP($B$54,'04_Wirtschaftlichkeit'!$E$44:$L$57,7,FALSE)-HLOOKUP($B$54,'04_Wirtschaftlichkeit'!$E$44:$L$57,5,FALSE))","v":0},{"$f":"AO$56*(-HLOOKUP($B$54,'04_Wirtschaftlichkeit'!$E$44:$L$57,7,FALSE)-HLOOKUP($B$54,'04_Wirtschaftlichkeit'!$E$44:$L$57,5,FALSE))","v":0},{"$f":"AP$56*(-HLOOKUP($B$54,'04_Wirtschaftlichkeit'!$E$44:$L$57,7,FALSE)-HLOOKUP($B$54,'04_Wirtschaftlichkeit'!$E$44:$L$57,5,FALSE))","v":0},{"$f":"AQ$56*(-HLOOKUP($B$54,'04_Wirtschaftlichkeit'!$E$44:$L$57,7,FALSE)-HLOOKUP($B$54,'04_Wirtschaftlichkeit'!$E$44:$L$57,5,FALSE))","v":0},{"$f":"AR$56*(-HLOOKUP($B$54,'04_Wirtschaftlichkeit'!$E$44:$L$57,7,FALSE)-HLOOKUP($B$54,'04_Wirtschaftlichkeit'!$E$44:$L$57,5,FALSE))","v":0},{"$f":"AS$56*(-HLOOKUP($B$54,'04_Wirtschaftlichkeit'!$E$44:$L$57,7,FALSE)-HLOOKUP($B$54,'04_Wirtschaftlichkeit'!$E$44:$L$57,5,FALSE))","v":0},{"$f":"AT$56*(-HLOOKUP($B$54,'04_Wirtschaftlichkeit'!$E$44:$L$57,7,FALSE)-HLOOKUP($B$54,'04_Wirtschaftlichkeit'!$E$44:$L$57,5,FALSE))","v":0},{"$f":"AU$56*(-HLOOKUP($B$54,'04_Wirtschaftlichkeit'!$E$44:$L$57,7,FALSE)-HLOOKUP($B$54,'04_Wirtschaftlichkeit'!$E$44:$L$57,5,FALSE))","v":0},{"$f":"AV$56*(-HLOOKUP($B$54,'04_Wirtschaftlichkeit'!$E$44:$L$57,7,FALSE)-HLOOKUP($B$54,'04_Wirtschaftlichkeit'!$E$44:$L$57,5,FALSE))","v":0},{"$f":"AW$56*(-HLOOKUP($B$54,'04_Wirtschaftlichkeit'!$E$44:$L$57,7,FALSE)-HLOOKUP($B$54,'04_Wirtschaftlichkeit'!$E$44:$L$57,5,FALSE))","v":0},{"$f":"AX$56*(-HLOOKUP($B$54,'04_Wirtschaftlichkeit'!$E$44:$L$57,7,FALSE)-HLOOKUP($B$54,'04_Wirtschaftlichkeit'!$E$44:$L$57,5,FALSE))","v":0},{"$f":"AY$56*(-HLOOKUP($B$54,'04_Wirtschaftlichkeit'!$E$44:$L$57,7,FALSE)-HLOOKUP($B$54,'04_Wirtschaftlichkeit'!$E$44:$L$57,5,FALSE))","v":0},{"$f":"AZ$56*(-HLOOKUP($B$54,'04_Wirtschaftlichkeit'!$E$44:$L$57,7,FALSE)-HLOOKUP($B$54,'04_Wirtschaftlichkeit'!$E$44:$L$57,5,FALSE))","v":0},{"$f":"BA$56*(-HLOOKUP($B$54,'04_Wirtschaftlichkeit'!$E$44:$L$57,7,FALSE)-HLOOKUP($B$54,'04_Wirtschaftlichkeit'!$E$44:$L$57,5,FALSE))","v":0}]
[null,0.3,{"$f":"-HLOOKUP($B$54,'04_Wirtschaftlichkeit'!$E$44:$L$57,6,FALSE)*(1+B66)","v":-1375179.9319384999},{"$f":"D$56*(-HLOOKUP($B$54,'04_Wirtschaftlichkeit'!$E$44:$L$57,7,FALSE)-HLOOKUP($B$54,'04_Wirtschaftlichkeit'!$E$44:$L$57,5,FALSE))","v":-84207.9},{"$f":"E$56*(-HLOOKUP($B$54,'04_Wirtschaftlichkeit'!$E$44:$L$57,7,FALSE)-HLOOKUP($B$54,'04_Wirtschaftlichkeit'!$E$44:$L$57,5,FALSE))","v":-84207.9},{"$f":"F$56*(-HLOOKUP($B$54,'04_Wirtschaftlichkeit'!$E$44:$L$57,7,FALSE)-HLOOKUP($B$54,'04_Wirtschaftlichkeit'!$E$44:$L$57,5,FALSE))","v":-84207.9},{"$f":"G$56*(-HLOOKUP($B$54,'04_Wirtschaftlichkeit'!$E$44:$L$57,7,FALSE)-HLOOKUP($B$54,'04_Wirtschaftlichkeit'!$E$44:$L$57,5,FALSE))","v":-84207.9},{"$f":"H$56*(-HLOOKUP($B$54,'04_Wirtschaftlichkeit'!$E$44:$L$57,7,FALSE)-HLOOKUP($B$54,'04_Wirtschaftlichkeit'!$E$44:$L$57,5,FALSE))","v":-84207.9},{"$f":"I$56*(-HLOOKUP($B$54,'04_Wirtschaftlichkeit'!$E$44:$L$57,7,FALSE)-HLOOKUP($B$54,'04_Wirtschaftlichkeit'!$E$44:$L$57,5,FALSE))","v":-84207.9},{"$f":"J$56*(-HLOOKUP($B$54,'04_Wirtschaftlichkeit'!$E$44:$L$57,7,FALSE)-HLOOKUP($B$54,'04_Wirtschaftlichkeit'!$E$44:$L$57,5,FALSE))","v":-84207.9},{"$f":"K$56*(-HLOOKUP($B$54,'04_Wirtschaftlichkeit'!$E$44:$L$57,7,FALSE)-HLOOKUP($B$54,'04_Wirtschaftlichkeit'!$E$44:$L$57,5,FALSE))","v":-84207.9},{"$f":"L$56*(-HLOOKUP($B$54,'04_Wirtschaftlichkeit'!$E$44:$L$57,7,FALSE)-HLOOKUP($B$54,'04_Wirtschaftlichkeit'!$E$44:$L$57,5,FALSE))","v":-84207.9},{"$f":"M$56*(-HLOOKUP($B$54,'04_Wirtschaftlichkeit'!$E$44:$L$57,7,FALSE)-HLOOKUP($B$54,'04_Wirtschaftlichkeit'!$E$44:$L$57,5,FALSE))","v":-84207.9},{"$f":"N$56*(-HLOOKUP($B$54,'04_Wirtschaftlichkeit'!$E$44:$L$57,7,FALSE)-HLOOKUP($B$54,'04_Wirtschaftlichkeit'!$E$44:$L$57,5,FALSE))","v":-84207.9},{"$f":"O$56*(-HLOOKUP($B$54,'04_Wirtschaftlichkeit'!$E$44:$L$57,7,FALSE)-HLOOKUP($B$54,'04_Wirtschaftlichkeit'!$E$44:$L$57,5,FALSE))","v":-84207.9},{"$f":"P$56*(-HLOOKUP($B$54,'04_Wirtschaftlichkeit'!$E$44:$L$57,7,FALSE)-HLOOKUP($B$54,'04_Wirtschaftlichkeit'!$E$44:$L$57,5,FALSE))","v":-84207.9},{"$f":"Q$56*(-HLOOKUP($B$54,'04_Wirtschaftlichkeit'!$E$44:$L$57,7,FALSE)-HLOOKUP($B$54,'04_Wirtschaftlichkeit'!$E$44:$L$57,5,FALSE))","v":-84207.9},{"$f":"R$56*(-HLOOKUP($B$54,'04_Wirtschaftlichkeit'!$E$44:$L$57,7,FALSE)-HLOOKUP($B$54,'04_Wirtschaftlichkeit'!$E$44:$L$57,5,FALSE))","v":-84207.9},{"$f":"S$56*(-HLOOKUP($B$54,'04_Wirtschaftlichkeit'!$E$44:$L$57,7,FALSE)-HLOOKUP($B$54,'04_Wirtschaftlichkeit'!$E$44:$L$57,5,FALSE))","v":-84207.9},{"$f":"T$56*(-HLOOKUP($B$54,'04_Wirtschaftlichkeit'!$E$44:$L$57,7,FALSE)-HLOOKUP($B$54,'04_Wirtschaftlichkeit'!$E$44:$L$57,5,FALSE))","v":-84207.9},{"$f":"U$56*(-HLOOKUP($B$54,'04_Wirtschaftlichkeit'!$E$44:$L$57,7,FALSE)-HLOOKUP($B$54,'04_Wirtschaftlichkeit'!$E$44:$L$57,5,FALSE))","v":-84207.9},{"$f":"V$56*(-HLOOKUP($B$54,'04_Wirtschaftlichkeit'!$E$44:$L$57,7,FALSE)-HLOOKUP($B$54,'04_Wirtschaftlichkeit'!$E$44:$L$57,5,FALSE))","v":-84207.9},{"$f":"W$56*(-HLOOKUP($B$54,'04_Wirtschaftlichkeit'!$E$44:$L$57,7,FALSE)-HLOOKUP($B$54,'04_Wirtschaftlichkeit'!$E$44:$L$57,5,FALSE))","v":-84207.9},{"$f":"X$56*(-HLOOKUP($B$54,'04_Wirtschaftlichkeit'!$E$44:$L$57,7,FALSE)-HLOOKUP($B$54,'04_Wirtschaftlichkeit'!$E$44:$L$57,5,FALSE))","v":0},{"$f":"Y$56*(-HLOOKUP($B$54,'04_Wirtschaftlichkeit'!$E$44:$L$57,7,FALSE)-HLOOKUP($B$54,'04_Wirtschaftlichkeit'!$E$44:$L$57,5,FALSE))","v":0},{"$f":"Z$56*(-HLOOKUP($B$54,'04_Wirtschaftlichkeit'!$E$44:$L$57,7,FALSE)-HLOOKUP($B$54,'04_Wirtschaftlichkeit'!$E$44:$L$57,5,FALSE))","v":0},{"$f":"AA$56*(-HLOOKUP($B$54,'04_Wirtschaftlichkeit'!$E$44:$L$57,7,FALSE)-HLOOKUP($B$54,'04_Wirtschaftlichkeit'!$E$44:$L$57,5,FALSE))","v":0},{"$f":"AB$56*(-HLOOKUP($B$54,'04_Wirtschaftlichkeit'!$E$44:$L$57,7,FALSE)-HLOOKUP($B$54,'04_Wirtschaftlichkeit'!$E$44:$L$57,5,FALSE))","v":0},{"$f":"AC$56*(-HLOOKUP($B$54,'04_Wirtschaftlichkeit'!$E$44:$L$57,7,FALSE)-HLOOKUP($B$54,'04_Wirtschaftlichkeit'!$E$44:$L$57,5,FALSE))","v":0},{"$f":"AD$56*(-HLOOKUP($B$54,'04_Wirtschaftlichkeit'!$E$44:$L$57,7,FALSE)-HLOOKUP($B$54,'04_Wirtschaftlichkeit'!$E$44:$L$57,5,FALSE))","v":0},{"$f":"AE$56*(-HLOOKUP($B$54,'04_Wirtschaftlichkeit'!$E$44:$L$57,7,FALSE)-HLOOKUP($B$54,'04_Wirtschaftlichkeit'!$E$44:$L$57,5,FALSE))","v":0},{"$f":"AF$56*(-HLOOKUP($B$54,'04_Wirtschaftlichkeit'!$E$44:$L$57,7,FALSE)-HLOOKUP($B$54,'04_Wirtschaftlichkeit'!$E$44:$L$57,5,FALSE))","v":0},{"$f":"AG$56*(-HLOOKUP($B$54,'04_Wirtschaftlichkeit'!$E$44:$L$57,7,FALSE)-HLOOKUP($B$54,'04_Wirtschaftlichkeit'!$E$44:$L$57,5,FALSE))","v":0},{"$f":"AH$56*(-HLOOKUP($B$54,'04_Wirtschaftlichkeit'!$E$44:$L$57,7,FALSE)-HLOOKUP($B$54,'04_Wirtschaftlichkeit'!$E$44:$L$57,5,FALSE))","v":0},{"$f":"AI$56*(-HLOOKUP($B$54,'04_Wirtschaftlichkeit'!$E$44:$L$57,7,FALSE)-HLOOKUP($B$54,'04_Wirtschaftlichkeit'!$E$44:$L$57,5,FALSE))","v":0},{"$f":"AJ$56*(-HLOOKUP($B$54,'04_Wirtschaftlichkeit'!$E$44:$L$57,7,FALSE)-HLOOKUP($B$54,'04_Wirtschaftlichkeit'!$E$44:$L$57,5,FALSE))","v":0},{"$f":"AK$56*(-HLOOKUP($B$54,'04_Wirtschaftlichkeit'!$E$44:$L$57,7,FALSE)-HLOOKUP($B$54,'04_Wirtschaftlichkeit'!$E$44:$L$57,5,FALSE))","v":0},{"$f":"AL$56*(-HLOOKUP($B$54,'04_Wirtschaftlichkeit'!$E$44:$L$57,7,FALSE)-HLOOKUP($B$54,'04_Wirtschaftlichkeit'!$E$44:$L$57,5,FALSE))","v":0},{"$f":"AM$56*(-HLOOKUP($B$54,'04_Wirtschaftlichkeit'!$E$44:$L$57,7,FALSE)-HLOOKUP($B$54,'04_Wirtschaftlichkeit'!$E$44:$L$57,5,FALSE))","v":0},{"$f":"AN$56*(-HLOOKUP($B$54,'04_Wirtschaftlichkeit'!$E$44:$L$57,7,FALSE)-HLOOKUP($B$54,'04_Wirtschaftlichkeit'!$E$44:$L$57,5,FALSE))","v":0},{"$f":"AO$56*(-HLOOKUP($B$54,'04_Wirtschaftlichkeit'!$E$44:$L$57,7,FALSE)-HLOOKUP($B$54,'04_Wirtschaftlichkeit'!$E$44:$L$57,5,FALSE))","v":0},{"$f":"AP$56*(-HLOOKUP($B$54,'04_Wirtschaftlichkeit'!$E$44:$L$57,7,FALSE)-HLOOKUP($B$54,'04_Wirtschaftlichkeit'!$E$44:$L$57,5,FALSE))","v":0},{"$f":"AQ$56*(-HLOOKUP($B$54,'04_Wirtschaftlichkeit'!$E$44:$L$57,7,FALSE)-HLOOKUP($B$54,'04_Wirtschaftlichkeit'!$E$44:$L$57,5,FALSE))","v":0},{"$f":"AR$56*(-HLOOKUP($B$54,'04_Wirtschaftlichkeit'!$E$44:$L$57,7,FALSE)-HLOOKUP($B$54,'04_Wirtschaftlichkeit'!$E$44:$L$57,5,FALSE))","v":0},{"$f":"AS$56*(-HLOOKUP($B$54,'04_Wirtschaftlichkeit'!$E$44:$L$57,7,FALSE)-HLOOKUP($B$54,'04_Wirtschaftlichkeit'!$E$44:$L$57,5,FALSE))","v":0},{"$f":"AT$56*(-HLOOKUP($B$54,'04_Wirtschaftlichkeit'!$E$44:$L$57,7,FALSE)-HLOOKUP($B$54,'04_Wirtschaftlichkeit'!$E$44:$L$57,5,FALSE))","v":0},{"$f":"AU$56*(-HLOOKUP($B$54,'04_Wirtschaftlichkeit'!$E$44:$L$57,7,FALSE)-HLOOKUP($B$54,'04_Wirtschaftlichkeit'!$E$44:$L$57,5,FALSE))","v":0},{"$f":"AV$56*(-HLOOKUP($B$54,'04_Wirtschaftlichkeit'!$E$44:$L$57,7,FALSE)-HLOOKUP($B$54,'04_Wirtschaftlichkeit'!$E$44:$L$57,5,FALSE))","v":0},{"$f":"AW$56*(-HLOOKUP($B$54,'04_Wirtschaftlichkeit'!$E$44:$L$57,7,FALSE)-HLOOKUP($B$54,'04_Wirtschaftlichkeit'!$E$44:$L$57,5,FALSE))","v":0},{"$f":"AX$56*(-HLOOKUP($B$54,'04_Wirtschaftlichkeit'!$E$44:$L$57,7,FALSE)-HLOOKUP($B$54,'04_Wirtschaftlichkeit'!$E$44:$L$57,5,FALSE))","v":0},{"$f":"AY$56*(-HLOOKUP($B$54,'04_Wirtschaftlichkeit'!$E$44:$L$57,7,FALSE)-HLOOKUP($B$54,'04_Wirtschaftlichkeit'!$E$44:$L$57,5,FALSE))","v":0},{"$f":"AZ$56*(-HLOOKUP($B$54,'04_Wirtschaftlichkeit'!$E$44:$L$57,7,FALSE)-HLOOKUP($B$54,'04_Wirtschaftlichkeit'!$E$44:$L$57,5,FALSE))","v":0},{"$f":"BA$56*(-HLOOKUP($B$54,'04_Wirtschaftlichkeit'!$E$44:$L$57,7,FALSE)-HLOOKUP($B$54,'04_Wirtschaftlichkeit'!$E$44:$L$57,5,FALSE))","v":0}]
[null,0.4,{"$f":"-HLOOKUP($B$54,'04_Wirtschaftlichkeit'!$E$44:$L$57,6,FALSE)*(1+B67)","v":-1480963.0036260767},{"$f":"D$56*(-HLOOKUP($B$54,'04_Wirtschaftlichkeit'!$E$44:$L$57,7,FALSE)-HLOOKUP($B$54,'04_Wirtschaftlichkeit'!$E$44:$L$57,5,FALSE))","v":-84207.9},{"$f":"E$56*(-HLOOKUP($B$54,'04_Wirtschaftlichkeit'!$E$44:$L$57,7,FALSE)-HLOOKUP($B$54,'04_Wirtschaftlichkeit'!$E$44:$L$57,5,FALSE))","v":-84207.9},{"$f":"F$56*(-HLOOKUP($B$54,'04_Wirtschaftlichkeit'!$E$44:$L$57,7,FALSE)-HLOOKUP($B$54,'04_Wirtschaftlichkeit'!$E$44:$L$57,5,FALSE))","v":-84207.9},{"$f":"G$56*(-HLOOKUP($B$54,'04_Wirtschaftlichkeit'!$E$44:$L$57,7,FALSE)-HLOOKUP($B$54,'04_Wirtschaftlichkeit'!$E$44:$L$57,5,FALSE))","v":-84207.9},{"$f":"H$56*(-HLOOKUP($B$54,'04_Wirtschaftlichkeit'!$E$44:$L$57,7,FALSE)-HLOOKUP($B$54,'04_Wirtschaftlichkeit'!$E$44:$L$57,5,FALSE))","v":-84207.9},{"$f":"I$56*(-HLOOKUP($B$54,'04_Wirtschaftlichkeit'!$E$44:$L$57,7,FALSE)-HLOOKUP($B$54,'04_Wirtschaftlichkeit'!$E$44:$L$57,5,FALSE))","v":-84207.9},{"$f":"J$56*(-HLOOKUP($B$54,'04_Wirtschaftlichkeit'!$E$44:$L$57,7,FALSE)-HLOOKUP($B$54,'04_Wirtschaftlichkeit'!$E$44:$L$57,5,FALSE))","v":-84207.9},{"$f":"K$56*(-HLOOKUP($B$54,'04_Wirtschaftlichkeit'!$E$44:$L$57,7,FALSE)-HLOOKUP($B$54,'04_Wirtschaftlichkeit'!$E$44:$L$57,5,FALSE))","v":-84207.9},{"$f":"L$56*(-HLOOKUP($B$54,'04_Wirtschaftlichkeit'!$E$44:$L$57,7,FALSE)-HLOOKUP($B$54,'04_Wirtschaftlichkeit'!$E$44:$L$57,5,FALSE))","v":-84207.9},{"$f":"M$56*(-HLOOKUP($B$54,'04_Wirtschaftlichkeit'!$E$44:$L$57,7,FALSE)-HLOOKUP($B$54,'04_Wirtschaftlichkeit'!$E$44:$L$57,5,FALSE))","v":-84207.9},{"$f":"N$56*(-HLOOKUP($B$54,'04_Wirtschaftlichkeit'!$E$44:$L$57,7,FALSE)-HLOOKUP($B$54,'04_Wirtschaftlichkeit'!$E$44:$L$57,5,FALSE))","v":-84207.9},{"$f":"O$56*(-HLOOKUP($B$54,'04_Wirtschaftlichkeit'!$E$44:$L$57,7,FALSE)-HLOOKUP($B$54,'04_Wirtschaftlichkeit'!$E$44:$L$57,5,FALSE))","v":-84207.9},{"$f":"P$56*(-HLOOKUP($B$54,'04_Wirtschaftlichkeit'!$E$44:$L$57,7,FALSE)-HLOOKUP($B$54,'04_Wirtschaftlichkeit'!$E$44:$L$57,5,FALSE))","v":-84207.9},{"$f":"Q$56*(-HLOOKUP($B$54,'04_Wirtschaftlichkeit'!$E$44:$L$57,7,FALSE)-HLOOKUP($B$54,'04_Wirtschaftlichkeit'!$E$44:$L$57,5,FALSE))","v":-84207.9},{"$f":"R$56*(-HLOOKUP($B$54,'04_Wirtschaftlichkeit'!$E$44:$L$57,7,FALSE)-HLOOKUP($B$54,'04_Wirtschaftlichkeit'!$E$44:$L$57,5,FALSE))","v":-84207.9},{"$f":"S$56*(-HLOOKUP($B$54,'04_Wirtschaftlichkeit'!$E$44:$L$57,7,FALSE)-HLOOKUP($B$54,'04_Wirtschaftlichkeit'!$E$44:$L$57,5,FALSE))","v":-84207.9},{"$f":"T$56*(-HLOOKUP($B$54,'04_Wirtschaftlichkeit'!$E$44:$L$57,7,FALSE)-HLOOKUP($B$54,'04_Wirtschaftlichkeit'!$E$44:$L$57,5,FALSE))","v":-84207.9},{"$f":"U$56*(-HLOOKUP($B$54,'04_Wirtschaftlichkeit'!$E$44:$L$57,7,FALSE)-HLOOKUP($B$54,'04_Wirtschaftlichkeit'!$E$44:$L$57,5,FALSE))","v":-84207.9},{"$f":"V$56*(-HLOOKUP($B$54,'04_Wirtschaftlichkeit'!$E$44:$L$57,7,FALSE)-HLOOKUP($B$54,'04_Wirtschaftlichkeit'!$E$44:$L$57,5,FALSE))","v":-84207.9},{"$f":"W$56*(-HLOOKUP($B$54,'04_Wirtschaftlichkeit'!$E$44:$L$57,7,FALSE)-HLOOKUP($B$54,'04_Wirtschaftlichkeit'!$E$44:$L$57,5,FALSE))","v":-84207.9},{"$f":"X$56*(-HLOOKUP($B$54,'04_Wirtschaftlichkeit'!$E$44:$L$57,7,FALSE)-HLOOKUP($B$54,'04_Wirtschaftlichkeit'!$E$44:$L$57,5,FALSE))","v":0},{"$f":"Y$56*(-HLOOKUP($B$54,'04_Wirtschaftlichkeit'!$E$44:$L$57,7,FALSE)-HLOOKUP($B$54,'04_Wirtschaftlichkeit'!$E$44:$L$57,5,FALSE))","v":0},{"$f":"Z$56*(-HLOOKUP($B$54,'04_Wirtschaftlichkeit'!$E$44:$L$57,7,FALSE)-HLOOKUP($B$54,'04_Wirtschaftlichkeit'!$E$44:$L$57,5,FALSE))","v":0},{"$f":"AA$56*(-HLOOKUP($B$54,'04_Wirtschaftlichkeit'!$E$44:$L$57,7,FALSE)-HLOOKUP($B$54,'04_Wirtschaftlichkeit'!$E$44:$L$57,5,FALSE))","v":0},{"$f":"AB$56*(-HLOOKUP($B$54,'04_Wirtschaftlichkeit'!$E$44:$L$57,7,FALSE)-HLOOKUP($B$54,'04_Wirtschaftlichkeit'!$E$44:$L$57,5,FALSE))","v":0},{"$f":"AC$56*(-HLOOKUP($B$54,'04_Wirtschaftlichkeit'!$E$44:$L$57,7,FALSE)-HLOOKUP($B$54,'04_Wirtschaftlichkeit'!$E$44:$L$57,5,FALSE))","v":0},{"$f":"AD$56*(-HLOOKUP($B$54,'04_Wirtschaftlichkeit'!$E$44:$L$57,7,FALSE)-HLOOKUP($B$54,'04_Wirtschaftlichkeit'!$E$44:$L$57,5,FALSE))","v":0},{"$f":"AE$56*(-HLOOKUP($B$54,'04_Wirtschaftlichkeit'!$E$44:$L$57,7,FALSE)-HLOOKUP($B$54,'04_Wirtschaftlichkeit'!$E$44:$L$57,5,FALSE))","v":0},{"$f":"AF$56*(-HLOOKUP($B$54,'04_Wirtschaftlichkeit'!$E$44:$L$57,7,FALSE)-HLOOKUP($B$54,'04_Wirtschaftlichkeit'!$E$44:$L$57,5,FALSE))","v":0},{"$f":"AG$56*(-HLOOKUP($B$54,'04_Wirtschaftlichkeit'!$E$44:$L$57,7,FALSE)-HLOOKUP($B$54,'04_Wirtschaftlichkeit'!$E$44:$L$57,5,FALSE))","v":0},{"$f":"AH$56*(-HLOOKUP($B$54,'04_Wirtschaftlichkeit'!$E$44:$L$57,7,FALSE)-HLOOKUP($B$54,'04_Wirtschaftlichkeit'!$E$44:$L$57,5,FALSE))","v":0},{"$f":"AI$56*(-HLOOKUP($B$54,'04_Wirtschaftlichkeit'!$E$44:$L$57,7,FALSE)-HLOOKUP($B$54,'04_Wirtschaftlichkeit'!$E$44:$L$57,5,FALSE))","v":0},{"$f":"AJ$56*(-HLOOKUP($B$54,'04_Wirtschaftlichkeit'!$E$44:$L$57,7,FALSE)-HLOOKUP($B$54,'04_Wirtschaftlichkeit'!$E$44:$L$57,5,FALSE))","v":0},{"$f":"AK$56*(-HLOOKUP($B$54,'04_Wirtschaftlichkeit'!$E$44:$L$57,7,FALSE)-HLOOKUP($B$54,'04_Wirtschaftlichkeit'!$E$44:$L$57,5,FALSE))","v":0},{"$f":"AL$56*(-HLOOKUP($B$54,'04_Wirtschaftlichkeit'!$E$44:$L$57,7,FALSE)-HLOOKUP($B$54,'04_Wirtschaftlichkeit'!$E$44:$L$57,5,FALSE))","v":0},{"$f":"AM$56*(-HLOOKUP($B$54,'04_Wirtschaftlichkeit'!$E$44:$L$57,7,FALSE)-HLOOKUP($B$54,'04_Wirtschaftlichkeit'!$E$44:$L$57,5,FALSE))","v":0},{"$f":"AN$56*(-HLOOKUP($B$54,'04_Wirtschaftlichkeit'!$E$44:$L$57,7,FALSE)-HLOOKUP($B$54,'04_Wirtschaftlichkeit'!$E$44:$L$57,5,FALSE))","v":0},{"$f":"AO$56*(-HLOOKUP($B$54,'04_Wirtschaftlichkeit'!$E$44:$L$57,7,FALSE)-HLOOKUP($B$54,'04_Wirtschaftlichkeit'!$E$44:$L$57,5,FALSE))","v":0},{"$f":"AP$56*(-HLOOKUP($B$54,'04_Wirtschaftlichkeit'!$E$44:$L$57,7,FALSE)-HLOOKUP($B$54,'04_Wirtschaftlichkeit'!$E$44:$L$57,5,FALSE))","v":0},{"$f":"AQ$56*(-HLOOKUP($B$54,'04_Wirtschaftlichkeit'!$E$44:$L$57,7,FALSE)-HLOOKUP($B$54,'04_Wirtschaftlichkeit'!$E$44:$L$57,5,FALSE))","v":0},{"$f":"AR$56*(-HLOOKUP($B$54,'04_Wirtschaftlichkeit'!$E$44:$L$57,7,FALSE)-HLOOKUP($B$54,'04_Wirtschaftlichkeit'!$E$44:$L$57,5,FALSE))","v":0},{"$f":"AS$56*(-HLOOKUP($B$54,'04_Wirtschaftlichkeit'!$E$44:$L$57,7,FALSE)-HLOOKUP($B$54,'04_Wirtschaftlichkeit'!$E$44:$L$57,5,FALSE))","v":0},{"$f":"AT$56*(-HLOOKUP($B$54,'04_Wirtschaftlichkeit'!$E$44:$L$57,7,FALSE)-HLOOKUP($B$54,'04_Wirtschaftlichkeit'!$E$44:$L$57,5,FALSE))","v":0},{"$f":"AU$56*(-HLOOKUP($B$54,'04_Wirtschaftlichkeit'!$E$44:$L$57,7,FALSE)-HLOOKUP($B$54,'04_Wirtschaftlichkeit'!$E$44:$L$57,5,FALSE))","v":0},{"$f":"AV$56*(-HLOOKUP($B$54,'04_Wirtschaftlichkeit'!$E$44:$L$57,7,FALSE)-HLOOKUP($B$54,'04_Wirtschaftlichkeit'!$E$44:$L$57,5,FALSE))","v":0},{"$f":"AW$56*(-HLOOKUP($B$54,'04_Wirtschaftlichkeit'!$E$44:$L$57,7,FALSE)-HLOOKUP($B$54,'04_Wirtschaftlichkeit'!$E$44:$L$57,5,FALSE))","v":0},{"$f":"AX$56*(-HLOOKUP($B$54,'04_Wirtschaftlichkeit'!$E$44:$L$57,7,FALSE)-HLOOKUP($B$54,'04_Wirtschaftlichkeit'!$E$44:$L$57,5,FALSE))","v":0},{"$f":"AY$56*(-HLOOKUP($B$54,'04_Wirtschaftlichkeit'!$E$44:$L$57,7,FALSE)-HLOOKUP($B$54,'04_Wirtschaftlichkeit'!$E$44:$L$57,5,FALSE))","v":0},{"$f":"AZ$56*(-HLOOKUP($B$54,'04_Wirtschaftlichkeit'!$E$44:$L$57,7,FALSE)-HLOOKUP($B$54,'04_Wirtschaftlichkeit'!$E$44:$L$57,5,FALSE))","v":0},{"$f":"BA$56*(-HLOOKUP($B$54,'04_Wirtschaftlichkeit'!$E$44:$L$57,7,FALSE)-HLOOKUP($B$54,'04_Wirtschaftlichkeit'!$E$44:$L$57,5,FALSE))","v":0}]
[null,0.5,{"$f":"-HLOOKUP($B$54,'04_Wirtschaftlichkeit'!$E$44:$L$57,6,FALSE)*(1+B68)","v":-1586746.0753136538},{"$f":"D$56*(-HLOOKUP($B$54,'04_Wirtschaftlichkeit'!$E$44:$L$57,7,FALSE)-HLOOKUP($B$54,'04_Wirtschaftlichkeit'!$E$44:$L$57,5,FALSE))","v":-84207.9},{"$f":"E$56*(-HLOOKUP($B$54,'04_Wirtschaftlichkeit'!$E$44:$L$57,7,FALSE)-HLOOKUP($B$54,'04_Wirtschaftlichkeit'!$E$44:$L$57,5,FALSE))","v":-84207.9},{"$f":"F$56*(-HLOOKUP($B$54,'04_Wirtschaftlichkeit'!$E$44:$L$57,7,FALSE)-HLOOKUP($B$54,'04_Wirtschaftlichkeit'!$E$44:$L$57,5,FALSE))","v":-84207.9},{"$f":"G$56*(-HLOOKUP($B$54,'04_Wirtschaftlichkeit'!$E$44:$L$57,7,FALSE)-HLOOKUP($B$54,'04_Wirtschaftlichkeit'!$E$44:$L$57,5,FALSE))","v":-84207.9},{"$f":"H$56*(-HLOOKUP($B$54,'04_Wirtschaftlichkeit'!$E$44:$L$57,7,FALSE)-HLOOKUP($B$54,'04_Wirtschaftlichkeit'!$E$44:$L$57,5,FALSE))","v":-84207.9},{"$f":"I$56*(-HLOOKUP($B$54,'04_Wirtschaftlichkeit'!$E$44:$L$57,7,FALSE)-HLOOKUP($B$54,'04_Wirtschaftlichkeit'!$E$44:$L$57,5,FALSE))","v":-84207.9},{"$f":"J$56*(-HLOOKUP($B$54,'04_Wirtschaftlichkeit'!$E$44:$L$57,7,FALSE)-HLOOKUP($B$54,'04_Wirtschaftlichkeit'!$E$44:$L$57,5,FALSE))","v":-84207.9},{"$f":"K$56*(-HLOOKUP($B$54,'04_Wirtschaftlichkeit'!$E$44:$L$57,7,FALSE)-HLOOKUP($B$54,'04_Wirtschaftlichkeit'!$E$44:$L$57,5,FALSE))","v":-84207.9},{"$f":"L$56*(-HLOOKUP($B$54,'04_Wirtschaftlichkeit'!$E$44:$L$57,7,FALSE)-HLOOKUP($B$54,'04_Wirtschaftlichkeit'!$E$44:$L$57,5,FALSE))","v":-84207.9},{"$f":"M$56*(-HLOOKUP($B$54,'04_Wirtschaftlichkeit'!$E$44:$L$57,7,FALSE)-HLOOKUP($B$54,'04_Wirtschaftlichkeit'!$E$44:$L$57,5,FALSE))","v":-84207.9},{"$f":"N$56*(-HLOOKUP($B$54,'04_Wirtschaftlichkeit'!$E$44:$L$57,7,FALSE)-HLOOKUP($B$54,'04_Wirtschaftlichkeit'!$E$44:$L$57,5,FALSE))","v":-84207.9},{"$f":"O$56*(-HLOOKUP($B$54,'04_Wirtschaftlichkeit'!$E$44:$L$57,7,FALSE)-HLOOKUP($B$54,'04_Wirtschaftlichkeit'!$E$44:$L$57,5,FALSE))","v":-84207.9},{"$f":"P$56*(-HLOOKUP($B$54,'04_Wirtschaftlichkeit'!$E$44:$L$57,7,FALSE)-HLOOKUP($B$54,'04_Wirtschaftlichkeit'!$E$44:$L$57,5,FALSE))","v":-84207.9},{"$f":"Q$56*(-HLOOKUP($B$54,'04_Wirtschaftlichkeit'!$E$44:$L$57,7,FALSE)-HLOOKUP($B$54,'04_Wirtschaftlichkeit'!$E$44:$L$57,5,FALSE))","v":-84207.9},{"$f":"R$56*(-HLOOKUP($B$54,'04_Wirtschaftlichkeit'!$E$44:$L$57,7,FALSE)-HLOOKUP($B$54,'04_Wirtschaftlichkeit'!$E$44:$L$57,5,FALSE))","v":-84207.9},{"$f":"S$56*(-HLOOKUP($B$54,'04_Wirtschaftlichkeit'!$E$44:$L$57,7,FALSE)-HLOOKUP($B$54,'04_Wirtschaftlichkeit'!$E$44:$L$57,5,FALSE))","v":-84207.9},{"$f":"T$56*(-HLOOKUP($B$54,'04_Wirtschaftlichkeit'!$E$44:$L$57,7,FALSE)-HLOOKUP($B$54,'04_Wirtschaftlichkeit'!$E$44:$L$57,5,FALSE))","v":-84207.9},{"$f":"U$56*(-HLOOKUP($B$54,'04_Wirtschaftlichkeit'!$E$44:$L$57,7,FALSE)-HLOOKUP($B$54,'04_Wirtschaftlichkeit'!$E$44:$L$57,5,FALSE))","v":-84207.9},{"$f":"V$56*(-HLOOKUP($B$54,'04_Wirtschaftlichkeit'!$E$44:$L$57,7,FALSE)-HLOOKUP($B$54,'04_Wirtschaftlichkeit'!$E$44:$L$57,5,FALSE))","v":-84207.9},{"$f":"W$56*(-HLOOKUP($B$54,'04_Wirtschaftlichkeit'!$E$44:$L$57,7,FALSE)-HLOOKUP($B$54,'04_Wirtschaftlichkeit'!$E$44:$L$57,5,FALSE))","v":-84207.9},{"$f":"X$56*(-HLOOKUP($B$54,'04_Wirtschaftlichkeit'!$E$44:$L$57,7,FALSE)-HLOOKUP($B$54,'04_Wirtschaftlichkeit'!$E$44:$L$57,5,FALSE))","v":0},{"$f":"Y$56*(-HLOOKUP($B$54,'04_Wirtschaftlichkeit'!$E$44:$L$57,7,FALSE)-HLOOKUP($B$54,'04_Wirtschaftlichkeit'!$E$44:$L$57,5,FALSE))","v":0},{"$f":"Z$56*(-HLOOKUP($B$54,'04_Wirtschaftlichkeit'!$E$44:$L$57,7,FALSE)-HLOOKUP($B$54,'04_Wirtschaftlichkeit'!$E$44:$L$57,5,FALSE))","v":0},{"$f":"AA$56*(-HLOOKUP($B$54,'04_Wirtschaftlichkeit'!$E$44:$L$57,7,FALSE)-HLOOKUP($B$54,'04_Wirtschaftlichkeit'!$E$44:$L$57,5,FALSE))","v":0},{"$f":"AB$56*(-HLOOKUP($B$54,'04_Wirtschaftlichkeit'!$E$44:$L$57,7,FALSE)-HLOOKUP($B$54,'04_Wirtschaftlichkeit'!$E$44:$L$57,5,FALSE))","v":0},{"$f":"AC$56*(-HLOOKUP($B$54,'04_Wirtschaftlichkeit'!$E$44:$L$57,7,FALSE)-HLOOKUP($B$54,'04_Wirtschaftlichkeit'!$E$44:$L$57,5,FALSE))","v":0},{"$f":"AD$56*(-HLOOKUP($B$54,'04_Wirtschaftlichkeit'!$E$44:$L$57,7,FALSE)-HLOOKUP($B$54,'04_Wirtschaftlichkeit'!$E$44:$L$57,5,FALSE))","v":0},{"$f":"AE$56*(-HLOOKUP($B$54,'04_Wirtschaftlichkeit'!$E$44:$L$57,7,FALSE)-HLOOKUP($B$54,'04_Wirtschaftlichkeit'!$E$44:$L$57,5,FALSE))","v":0},{"$f":"AF$56*(-HLOOKUP($B$54,'04_Wirtschaftlichkeit'!$E$44:$L$57,7,FALSE)-HLOOKUP($B$54,'04_Wirtschaftlichkeit'!$E$44:$L$57,5,FALSE))","v":0},{"$f":"AG$56*(-HLOOKUP($B$54,'04_Wirtschaftlichkeit'!$E$44:$L$57,7,FALSE)-HLOOKUP($B$54,'04_Wirtschaftlichkeit'!$E$44:$L$57,5,FALSE))","v":0},{"$f":"AH$56*(-HLOOKUP($B$54,'04_Wirtschaftlichkeit'!$E$44:$L$57,7,FALSE)-HLOOKUP($B$54,'04_Wirtschaftlichkeit'!$E$44:$L$57,5,FALSE))","v":0},{"$f":"AI$56*(-HLOOKUP($B$54,'04_Wirtschaftlichkeit'!$E$44:$L$57,7,FALSE)-HLOOKUP($B$54,'04_Wirtschaftlichkeit'!$E$44:$L$57,5,FALSE))","v":0},{"$f":"AJ$56*(-HLOOKUP($B$54,'04_Wirtschaftlichkeit'!$E$44:$L$57,7,FALSE)-HLOOKUP($B$54,'04_Wirtschaftlichkeit'!$E$44:$L$57,5,FALSE))","v":0},{"$f":"AK$56*(-HLOOKUP($B$54,'04_Wirtschaftlichkeit'!$E$44:$L$57,7,FALSE)-HLOOKUP($B$54,'04_Wirtschaftlichkeit'!$E$44:$L$57,5,FALSE))","v":0},{"$f":"AL$56*(-HLOOKUP($B$54,'04_Wirtschaftlichkeit'!$E$44:$L$57,7,FALSE)-HLOOKUP($B$54,'04_Wirtschaftlichkeit'!$E$44:$L$57,5,FALSE))","v":0},{"$f":"AM$56*(-HLOOKUP($B$54,'04_Wirtschaftlichkeit'!$E$44:$L$57,7,FALSE)-HLOOKUP($B$54,'04_Wirtschaftlichkeit'!$E$44:$L$57,5,FALSE))","v":0},{"$f":"AN$56*(-HLOOKUP($B$54,'04_Wirtschaftlichkeit'!$E$44:$L$57,7,FALSE)-HLOOKUP($B$54,'04_Wirtschaftlichkeit'!$E$44:$L$57,5,FALSE))","v":0},{"$f":"AO$56*(-HLOOKUP($B$54,'04_Wirtschaftlichkeit'!$E$44:$L$57,7,FALSE)-HLOOKUP($B$54,'04_Wirtschaftlichkeit'!$E$44:$L$57,5,FALSE))","v":0},{"$f":"AP$56*(-HLOOKUP($B$54,'04_Wirtschaftlichkeit'!$E$44:$L$57,7,FALSE)-HLOOKUP($B$54,'04_Wirtschaftlichkeit'!$E$44:$L$57,5,FALSE))","v":0},{"$f":"AQ$56*(-HLOOKUP($B$54,'04_Wirtschaftlichkeit'!$E$44:$L$57,7,FALSE)-HLOOKUP($B$54,'04_Wirtschaftlichkeit'!$E$44:$L$57,5,FALSE))","v":0},{"$f":"AR$56*(-HLOOKUP($B$54,'04_Wirtschaftlichkeit'!$E$44:$L$57,7,FALSE)-HLOOKUP($B$54,'04_Wirtschaftlichkeit'!$E$44:$L$57,5,FALSE))","v":0},{"$f":"AS$56*(-HLOOKUP($B$54,'04_Wirtschaftlichkeit'!$E$44:$L$57,7,FALSE)-HLOOKUP($B$54,'04_Wirtschaftlichkeit'!$E$44:$L$57,5,FALSE))","v":0},{"$f":"AT$56*(-HLOOKUP($B$54,'04_Wirtschaftlichkeit'!$E$44:$L$57,7,FALSE)-HLOOKUP($B$54,'04_Wirtschaftlichkeit'!$E$44:$L$57,5,FALSE))","v":0},{"$f":"AU$56*(-HLOOKUP($B$54,'04_Wirtschaftlichkeit'!$E$44:$L$57,7,FALSE)-HLOOKUP($B$54,'04_Wirtschaftlichkeit'!$E$44:$L$57,5,FALSE))","v":0},{"$f":"AV$56*(-HLOOKUP($B$54,'04_Wirtschaftlichkeit'!$E$44:$L$57,7,FALSE)-HLOOKUP($B$54,'04_Wirtschaftlichkeit'!$E$44:$L$57,5,FALSE))","v":0},{"$f":"AW$56*(-HLOOKUP($B$54,'04_Wirtschaftlichkeit'!$E$44:$L$57,7,FALSE)-HLOOKUP($B$54,'04_Wirtschaftlichkeit'!$E$44:$L$57,5,FALSE))","v":0},{"$f":"AX$56*(-HLOOKUP($B$54,'04_Wirtschaftlichkeit'!$E$44:$L$57,7,FALSE)-HLOOKUP($B$54,'04_Wirtschaftlichkeit'!$E$44:$L$57,5,FALSE))","v":0},{"$f":"AY$56*(-HLOOKUP($B$54,'04_Wirtschaftlichkeit'!$E$44:$L$57,7,FALSE)-HLOOKUP($B$54,'04_Wirtschaftlichkeit'!$E$44:$L$57,5,FALSE))","v":0},{"$f":"AZ$56*(-HLOOKUP($B$54,'04_Wirtschaftlichkeit'!$E$44:$L$57,7,FALSE)-HLOOKUP($B$54,'04_Wirtschaftlichkeit'!$E$44:$L$57,5,FALSE))","v":0},{"$f":"BA$56*(-HLOOKUP($B$54,'04_Wirtschaftlichkeit'!$E$44:$L$57,7,FALSE)-HLOOKUP($B$54,'04_Wirtschaftlichkeit'!$E$44:$L$57,5,FALSE))","v":0}]
[null,"Zinssatz"]
[null,0,{"$f":"-HLOOKUP($B$54,'04_Wirtschaftlichkeit'!$E$44:$L$57,6,FALSE)*(1+B70)","v":-1057830.7168757692},{"$f":"D$56*(-HLOOKUP($B$54,'04_Wirtschaftlichkeit'!$E$44:$L$57,7,FALSE)-HLOOKUP($B$54,'04_Wirtschaftlichkeit'!$E$44:$L$57,5,FALSE))","v":-84207.9},{"$f":"E$56*(-HLOOKUP($B$54,'04_Wirtschaftlichkeit'!$E$44:$L$57,7,FALSE)-HLOOKUP($B$54,'04_Wirtschaftlichkeit'!$E$44:$L$57,5,FALSE))","v":-84207.9},{"$f":"F$56*(-HLOOKUP($B$54,'04_Wirtschaftlichkeit'!$E$44:$L$57,7,FALSE)-HLOOKUP($B$54,'04_Wirtschaftlichkeit'!$E$44:$L$57,5,FALSE))","v":-84207.9},{"$f":"G$56*(-HLOOKUP($B$54,'04_Wirtschaftlichkeit'!$E$44:$L$57,7,FALSE)-HLOOKUP($B$54,'04_Wirtschaftlichkeit'!$E$44:$L$57,5,FALSE))","v":-84207.9},{"$f":"H$56*(-HLOOKUP($B$54,'04_Wirtschaftlichkeit'!$E$44:$L$57,7,FALSE)-HLOOKUP($B$54,'04_Wirtschaftlichkeit'!$E$44:$L$57,5,FALSE))","v":-84207.9},{"$f":"I$56*(-HLOOKUP($B$54,'04_Wirtschaftlichkeit'!$E$44:$L$57,7,FALSE)-HLOOKUP($B$54,'04_Wirtschaftlichkeit'!$E$44:$L$57,5,FALSE))","v":-84207.9},{"$f":"J$56*(-HLOOKUP($B$54,'04_Wirtschaftlichkeit'!$E$44:$L$57,7,FALSE)-HLOOKUP($B$54,'04_Wirtschaftlichkeit'!$E$44:$L$57,5,FALSE))","v":-84207.9},{"$f":"K$56*(-HLOOKUP($B$54,'04_Wirtschaftlichkeit'!$E$44:$L$57,7,FALSE)-HLOOKUP($B$54,'04_Wirtschaftlichkeit'!$E$44:$L$57,5,FALSE))","v":-84207.9},{"$f":"L$56*(-HLOOKUP($B$54,'04_Wirtschaftlichkeit'!$E$44:$L$57,7,FALSE)-HLOOKUP($B$54,'04_Wirtschaftlichkeit'!$E$44:$L$57,5,FALSE))","v":-84207.9},{"$f":"M$56*(-HLOOKUP($B$54,'04_Wirtschaftlichkeit'!$E$44:$L$57,7,FALSE)-HLOOKUP($B$54,'04_Wirtschaftlichkeit'!$E$44:$L$57,5,FALSE))","v":-84207.9},{"$f":"N$56*(-HLOOKUP($B$54,'04_Wirtschaftlichkeit'!$E$44:$L$57,7,FALSE)-HLOOKUP($B$54,'04_Wirtschaftlichkeit'!$E$44:$L$57,5,FALSE))","v":-84207.9},{"$f":"O$56*(-HLOOKUP($B$54,'04_Wirtschaftlichkeit'!$E$44:$L$57,7,FALSE)-HLOOKUP($B$54,'04_Wirtschaftlichkeit'!$E$44:$L$57,5,FALSE))","v":-84207.9},{"$f":"P$56*(-HLOOKUP($B$54,'04_Wirtschaftlichkeit'!$E$44:$L$57,7,FALSE)-HLOOKUP($B$54,'04_Wirtschaftlichkeit'!$E$44:$L$57,5,FALSE))","v":-84207.9},{"$f":"Q$56*(-HLOOKUP($B$54,'04_Wirtschaftlichkeit'!$E$44:$L$57,7,FALSE)-HLOOKUP($B$54,'04_Wirtschaftlichkeit'!$E$44:$L$57,5,FALSE))","v":-84207.9},{"$f":"R$56*(-HLOOKUP($B$54,'04_Wirtschaftlichkeit'!$E$44:$L$57,7,FALSE)-HLOOKUP($B$54,'04_Wirtschaftlichkeit'!$E$44:$L$57,5,FALSE))","v":-84207.9},{"$f":"S$56*(-HLOOKUP($B$54,'04_Wirtschaftlichkeit'!$E$44:$L$57,7,FALSE)-HLOOKUP($B$54,'04_Wirtschaftlichkeit'!$E$44:$L$57,5,FALSE))","v":-84207.9},{"$f":"T$56*(-HLOOKUP($B$54,'04_Wirtschaftlichkeit'!$E$44:$L$57,7,FALSE)-HLOOKUP($B$54,'04_Wirtschaftlichkeit'!$E$44:$L$57,5,FALSE))","v":-84207.9},{"$f":"U$56*(-HLOOKUP($B$54,'04_Wirtschaftlichkeit'!$E$44:$L$57,7,FALSE)-HLOOKUP($B$54,'04_Wirtschaftlichkeit'!$E$44:$L$57,5,FALSE))","v":-84207.9},{"$f":"V$56*(-HLOOKUP($B$54,'04_Wirtschaftlichkeit'!$E$44:$L$57,7,FALSE)-HLOOKUP($B$54,'04_Wirtschaftlichkeit'!$E$44:$L$57,5,FALSE))","v":-84207.9},{"$f":"W$56*(-HLOOKUP($B$54,'04_Wirtschaftlichkeit'!$E$44:$L$57,7,FALSE)-HLOOKUP($B$54,'04_Wirtschaftlichkeit'!$E$44:$L$57,5,FALSE))","v":-84207.9},{"$f":"X$56*(-HLOOKUP($B$54,'04_Wirtschaftlichkeit'!$E$44:$L$57,7,FALSE)-HLOOKUP($B$54,'04_Wirtschaftlichkeit'!$E$44:$L$57,5,FALSE))","v":0},{"$f":"Y$56*(-HLOOKUP($B$54,'04_Wirtschaftlichkeit'!$E$44:$L$57,7,FALSE)-HLOOKUP($B$54,'04_Wirtschaftlichkeit'!$E$44:$L$57,5,FALSE))","v":0},{"$f":"Z$56*(-HLOOKUP($B$54,'04_Wirtschaftlichkeit'!$E$44:$L$57,7,FALSE)-HLOOKUP($B$54,'04_Wirtschaftlichkeit'!$E$44:$L$57,5,FALSE))","v":0},{"$f":"AA$56*(-HLOOKUP($B$54,'04_Wirtschaftlichkeit'!$E$44:$L$57,7,FALSE)-HLOOKUP($B$54,'04_Wirtschaftlichkeit'!$E$44:$L$57,5,FALSE))","v":0},{"$f":"AB$56*(-HLOOKUP($B$54,'04_Wirtschaftlichkeit'!$E$44:$L$57,7,FALSE)-HLOOKUP($B$54,'04_Wirtschaftlichkeit'!$E$44:$L$57,5,FALSE))","v":0},{"$f":"AC$56*(-HLOOKUP($B$54,'04_Wirtschaftlichkeit'!$E$44:$L$57,7,FALSE)-HLOOKUP($B$54,'04_Wirtschaftlichkeit'!$E$44:$L$57,5,FALSE))","v":0},{"$f":"AD$56*(-HLOOKUP($B$54,'04_Wirtschaftlichkeit'!$E$44:$L$57,7,FALSE)-HLOOKUP($B$54,'04_Wirtschaftlichkeit'!$E$44:$L$57,5,FALSE))","v":0},{"$f":"AE$56*(-HLOOKUP($B$54,'04_Wirtschaftlichkeit'!$E$44:$L$57,7,FALSE)-HLOOKUP($B$54,'04_Wirtschaftlichkeit'!$E$44:$L$57,5,FALSE))","v":0},{"$f":"AF$56*(-HLOOKUP($B$54,'04_Wirtschaftlichkeit'!$E$44:$L$57,7,FALSE)-HLOOKUP($B$54,'04_Wirtschaftlichkeit'!$E$44:$L$57,5,FALSE))","v":0},{"$f":"AG$56*(-HLOOKUP($B$54,'04_Wirtschaftlichkeit'!$E$44:$L$57,7,FALSE)-HLOOKUP($B$54,'04_Wirtschaftlichkeit'!$E$44:$L$57,5,FALSE))","v":0},{"$f":"AH$56*(-HLOOKUP($B$54,'04_Wirtschaftlichkeit'!$E$44:$L$57,7,FALSE)-HLOOKUP($B$54,'04_Wirtschaftlichkeit'!$E$44:$L$57,5,FALSE))","v":0},{"$f":"AI$56*(-HLOOKUP($B$54,'04_Wirtschaftlichkeit'!$E$44:$L$57,7,FALSE)-HLOOKUP($B$54,'04_Wirtschaftlichkeit'!$E$44:$L$57,5,FALSE))","v":0},{"$f":"AJ$56*(-HLOOKUP($B$54,'04_Wirtschaftlichkeit'!$E$44:$L$57,7,FALSE)-HLOOKUP($B$54,'04_Wirtschaftlichkeit'!$E$44:$L$57,5,FALSE))","v":0},{"$f":"AK$56*(-HLOOKUP($B$54,'04_Wirtschaftlichkeit'!$E$44:$L$57,7,FALSE)-HLOOKUP($B$54,'04_Wirtschaftlichkeit'!$E$44:$L$57,5,FALSE))","v":0},{"$f":"AL$56*(-HLOOKUP($B$54,'04_Wirtschaftlichkeit'!$E$44:$L$57,7,FALSE)-HLOOKUP($B$54,'04_Wirtschaftlichkeit'!$E$44:$L$57,5,FALSE))","v":0},{"$f":"AM$56*(-HLOOKUP($B$54,'04_Wirtschaftlichkeit'!$E$44:$L$57,7,FALSE)-HLOOKUP($B$54,'04_Wirtschaftlichkeit'!$E$44:$L$57,5,FALSE))","v":0},{"$f":"AN$56*(-HLOOKUP($B$54,'04_Wirtschaftlichkeit'!$E$44:$L$57,7,FALSE)-HLOOKUP($B$54,'04_Wirtschaftlichkeit'!$E$44:$L$57,5,FALSE))","v":0},{"$f":"AO$56*(-HLOOKUP($B$54,'04_Wirtschaftlichkeit'!$E$44:$L$57,7,FALSE)-HLOOKUP($B$54,'04_Wirtschaftlichkeit'!$E$44:$L$57,5,FALSE))","v":0},{"$f":"AP$56*(-HLOOKUP($B$54,'04_Wirtschaftlichkeit'!$E$44:$L$57,7,FALSE)-HLOOKUP($B$54,'04_Wirtschaftlichkeit'!$E$44:$L$57,5,FALSE))","v":0},{"$f":"AQ$56*(-HLOOKUP($B$54,'04_Wirtschaftlichkeit'!$E$44:$L$57,7,FALSE)-HLOOKUP($B$54,'04_Wirtschaftlichkeit'!$E$44:$L$57,5,FALSE))","v":0},{"$f":"AR$56*(-HLOOKUP($B$54,'04_Wirtschaftlichkeit'!$E$44:$L$57,7,FALSE)-HLOOKUP($B$54,'04_Wirtschaftlichkeit'!$E$44:$L$57,5,FALSE))","v":0},{"$f":"AS$56*(-HLOOKUP($B$54,'04_Wirtschaftlichkeit'!$E$44:$L$57,7,FALSE)-HLOOKUP($B$54,'04_Wirtschaftlichkeit'!$E$44:$L$57,5,FALSE))","v":0},{"$f":"AT$56*(-HLOOKUP($B$54,'04_Wirtschaftlichkeit'!$E$44:$L$57,7,FALSE)-HLOOKUP($B$54,'04_Wirtschaftlichkeit'!$E$44:$L$57,5,FALSE))","v":0},{"$f":"AU$56*(-HLOOKUP($B$54,'04_Wirtschaftlichkeit'!$E$44:$L$57,7,FALSE)-HLOOKUP($B$54,'04_Wirtschaftlichkeit'!$E$44:$L$57,5,FALSE))","v":0},{"$f":"AV$56*(-HLOOKUP($B$54,'04_Wirtschaftlichkeit'!$E$44:$L$57,7,FALSE)-HLOOKUP($B$54,'04_Wirtschaftlichkeit'!$E$44:$L$57,5,FALSE))","v":0},{"$f":"AW$56*(-HLOOKUP($B$54,'04_Wirtschaftlichkeit'!$E$44:$L$57,7,FALSE)-HLOOKUP($B$54,'04_Wirtschaftlichkeit'!$E$44:$L$57,5,FALSE))","v":0},{"$f":"AX$56*(-HLOOKUP($B$54,'04_Wirtschaftlichkeit'!$E$44:$L$57,7,FALSE)-HLOOKUP($B$54,'04_Wirtschaftlichkeit'!$E$44:$L$57,5,FALSE))","v":0},{"$f":"AY$56*(-HLOOKUP($B$54,'04_Wirtschaftlichkeit'!$E$44:$L$57,7,FALSE)-HLOOKUP($B$54,'04_Wirtschaftlichkeit'!$E$44:$L$57,5,FALSE))","v":0},{"$f":"AZ$56*(-HLOOKUP($B$54,'04_Wirtschaftlichkeit'!$E$44:$L$57,7,FALSE)-HLOOKUP($B$54,'04_Wirtschaftlichkeit'!$E$44:$L$57,5,FALSE))","v":0},{"$f":"BA$56*(-HLOOKUP($B$54,'04_Wirtschaftlichkeit'!$E$44:$L$57,7,FALSE)-HLOOKUP($B$54,'04_Wirtschaftlichkeit'!$E$44:$L$57,5,FALSE))","v":0}]
[null,"CO2 Kosten"]
[null,-0.5,{"$f":"-HLOOKUP($B$54,'04_Wirtschaftlichkeit'!$E$44:$L$57,6,FALSE)","v":-1057830.7168757692},{"$f":"D$56*(-HLOOKUP($B$54,'04_Wirtschaftlichkeit'!$E$44:$L$57,7,FALSE)-HLOOKUP($B$54,'04_Wirtschaftlichkeit'!$E$44:$L$57,5,FALSE)*(1+$B72))","v":-83948.45},{"$f":"E$56*(-HLOOKUP($B$54,'04_Wirtschaftlichkeit'!$E$44:$L$57,7,FALSE)-HLOOKUP($B$54,'04_Wirtschaftlichkeit'!$E$44:$L$57,5,FALSE)*(1+$B72))","v":-83948.45},{"$f":"F$56*(-HLOOKUP($B$54,'04_Wirtschaftlichkeit'!$E$44:$L$57,7,FALSE)-HLOOKUP($B$54,'04_Wirtschaftlichkeit'!$E$44:$L$57,5,FALSE)*(1+$B72))","v":-83948.45},{"$f":"G$56*(-HLOOKUP($B$54,'04_Wirtschaftlichkeit'!$E$44:$L$57,7,FALSE)-HLOOKUP($B$54,'04_Wirtschaftlichkeit'!$E$44:$L$57,5,FALSE)*(1+$B72))","v":-83948.45},{"$f":"H$56*(-HLOOKUP($B$54,'04_Wirtschaftlichkeit'!$E$44:$L$57,7,FALSE)-HLOOKUP($B$54,'04_Wirtschaftlichkeit'!$E$44:$L$57,5,FALSE)*(1+$B72))","v":-83948.45},{"$f":"I$56*(-HLOOKUP($B$54,'04_Wirtschaftlichkeit'!$E$44:$L$57,7,FALSE)-HLOOKUP($B$54,'04_Wirtschaftlichkeit'!$E$44:$L$57,5,FALSE)*(1+$B72))","v":-83948.45},{"$f":"J$56*(-HLOOKUP($B$54,'04_Wirtschaftlichkeit'!$E$44:$L$57,7,FALSE)-HLOOKUP($B$54,'04_Wirtschaftlichkeit'!$E$44:$L$57,5,FALSE)*(1+$B72))","v":-83948.45},{"$f":"K$56*(-HLOOKUP($B$54,'04_Wirtschaftlichkeit'!$E$44:$L$57,7,FALSE)-HLOOKUP($B$54,'04_Wirtschaftlichkeit'!$E$44:$L$57,5,FALSE)*(1+$B72))","v":-83948.45},{"$f":"L$56*(-HLOOKUP($B$54,'04_Wirtschaftlichkeit'!$E$44:$L$57,7,FALSE)-HLOOKUP($B$54,'04_Wirtschaftlichkeit'!$E$44:$L$57,5,FALSE)*(1+$B72))","v":-83948.45},{"$f":"M$56*(-HLOOKUP($B$54,'04_Wirtschaftlichkeit'!$E$44:$L$57,7,FALSE)-HLOOKUP($B$54,'04_Wirtschaftlichkeit'!$E$44:$L$57,5,FALSE)*(1+$B72))","v":-83948.45},{"$f":"N$56*(-HLOOKUP($B$54,'04_Wirtschaftlichkeit'!$E$44:$L$57,7,FALSE)-HLOOKUP($B$54,'04_Wirtschaftlichkeit'!$E$44:$L$57,5,FALSE)*(1+$B72))","v":-83948.45},{"$f":"O$56*(-HLOOKUP($B$54,'04_Wirtschaftlichkeit'!$E$44:$L$57,7,FALSE)-HLOOKUP($B$54,'04_Wirtschaftlichkeit'!$E$44:$L$57,5,FALSE)*(1+$B72))","v":-83948.45},{"$f":"P$56*(-HLOOKUP($B$54,'04_Wirtschaftlichkeit'!$E$44:$L$57,7,FALSE)-HLOOKUP($B$54,'04_Wirtschaftlichkeit'!$E$44:$L$57,5,FALSE)*(1+$B72))","v":-83948.45},{"$f":"Q$56*(-HLOOKUP($B$54,'04_Wirtschaftlichkeit'!$E$44:$L$57,7,FALSE)-HLOOKUP($B$54,'04_Wirtschaftlichkeit'!$E$44:$L$57,5,FALSE)*(1+$B72))","v":-83948.45},{"$f":"R$56*(-HLOOKUP($B$54,'04_Wirtschaftlichkeit'!$E$44:$L$57,7,FALSE)-HLOOKUP($B$54,'04_Wirtschaftlichkeit'!$E$44:$L$57,5,FALSE)*(1+$B72))","v":-83948.45},{"$f":"S$56*(-HLOOKUP($B$54,'04_Wirtschaftlichkeit'!$E$44:$L$57,7,FALSE)-HLOOKUP($B$54,'04_Wirtschaftlichkeit'!$E$44:$L$57,5,FALSE)*(1+$B72))","v":-83948.45},{"$f":"T$56*(-HLOOKUP($B$54,'04_Wirtschaftlichkeit'!$E$44:$L$57,7,FALSE)-HLOOKUP($B$54,'04_Wirtschaftlichkeit'!$E$44:$L$57,5,FALSE)*(1+$B72))","v":-83948.45},{"$f":"U$56*(-HLOOKUP($B$54,'04_Wirtschaftlichkeit'!$E$44:$L$57,7,FALSE)-HLOOKUP($B$54,'04_Wirtschaftlichkeit'!$E$44:$L$57,5,FALSE)*(1+$B72))","v":-83948.45},{"$f":"V$56*(-HLOOKUP($B$54,'04_Wirtschaftlichkeit'!$E$44:$L$57,7,FALSE)-HLOOKUP($B$54,'04_Wirtschaftlichkeit'!$E$44:$L$57,5,FALSE)*(1+$B72))","v":-83948.45},{"$f":"W$56*(-HLOOKUP($B$54,'04_Wirtschaftlichkeit'!$E$44:$L$57,7,FALSE)-HLOOKUP($B$54,'04_Wirtschaftlichkeit'!$E$44:$L$57,5,FALSE)*(1+$B72))","v":-83948.45},{"$f":"X$56*(-HLOOKUP($B$54,'04_Wirtschaftlichkeit'!$E$44:$L$57,7,FALSE)-HLOOKUP($B$54,'04_Wirtschaftlichkeit'!$E$44:$L$57,5,FALSE)*(1+$B72))","v":0},{"$f":"Y$56*(-HLOOKUP($B$54,'04_Wirtschaftlichkeit'!$E$44:$L$57,7,FALSE)-HLOOKUP($B$54,'04_Wirtschaftlichkeit'!$E$44:$L$57,5,FALSE)*(1+$B72))","v":0},{"$f":"Z$56*(-HLOOKUP($B$54,'04_Wirtschaftlichkeit'!$E$44:$L$57,7,FALSE)-HLOOKUP($B$54,'04_Wirtschaftlichkeit'!$E$44:$L$57,5,FALSE)*(1+$B72))","v":0},{"$f":"AA$56*(-HLOOKUP($B$54,'04_Wirtschaftlichkeit'!$E$44:$L$57,7,FALSE)-HLOOKUP($B$54,'04_Wirtschaftlichkeit'!$E$44:$L$57,5,FALSE)*(1+$B72))","v":0},{"$f":"AB$56*(-HLOOKUP($B$54,'04_Wirtschaftlichkeit'!$E$44:$L$57,7,FALSE)-HLOOKUP($B$54,'04_Wirtschaftlichkeit'!$E$44:$L$57,5,FALSE)*(1+$B72))","v":0},{"$f":"AC$56*(-HLOOKUP($B$54,'04_Wirtschaftlichkeit'!$E$44:$L$57,7,FALSE)-HLOOKUP($B$54,'04_Wirtschaftlichkeit'!$E$44:$L$57,5,FALSE)*(1+$B72))","v":0},{"$f":"AD$56*(-HLOOKUP($B$54,'04_Wirtschaftlichkeit'!$E$44:$L$57,7,FALSE)-HLOOKUP($B$54,'04_Wirtschaftlichkeit'!$E$44:$L$57,5,FALSE)*(1+$B72))","v":0},{"$f":"AE$56*(-HLOOKUP($B$54,'04_Wirtschaftlichkeit'!$E$44:$L$57,7,FALSE)-HLOOKUP($B$54,'04_Wirtschaftlichkeit'!$E$44:$L$57,5,FALSE)*(1+$B72))","v":0},{"$f":"AF$56*(-HLOOKUP($B$54,'04_Wirtschaftlichkeit'!$E$44:$L$57,7,FALSE)-HLOOKUP($B$54,'04_Wirtschaftlichkeit'!$E$44:$L$57,5,FALSE)*(1+$B72))","v":0},{"$f":"AG$56*(-HLOOKUP($B$54,'04_Wirtschaftlichkeit'!$E$44:$L$57,7,FALSE)-HLOOKUP($B$54,'04_Wirtschaftlichkeit'!$E$44:$L$57,5,FALSE)*(1+$B72))","v":0},{"$f":"AH$56*(-HLOOKUP($B$54,'04_Wirtschaftlichkeit'!$E$44:$L$57,7,FALSE)-HLOOKUP($B$54,'04_Wirtschaftlichkeit'!$E$44:$L$57,5,FALSE)*(1+$B72))","v":0},{"$f":"AI$56*(-HLOOKUP($B$54,'04_Wirtschaftlichkeit'!$E$44:$L$57,7,FALSE)-HLOOKUP($B$54,'04_Wirtschaftlichkeit'!$E$44:$L$57,5,FALSE)*(1+$B72))","v":0},{"$f":"AJ$56*(-HLOOKUP($B$54,'04_Wirtschaftlichkeit'!$E$44:$L$57,7,FALSE)-HLOOKUP($B$54,'04_Wirtschaftlichkeit'!$E$44:$L$57,5,FALSE)*(1+$B72))","v":0},{"$f":"AK$56*(-HLOOKUP($B$54,'04_Wirtschaftlichkeit'!$E$44:$L$57,7,FALSE)-HLOOKUP($B$54,'04_Wirtschaftlichkeit'!$E$44:$L$57,5,FALSE)*(1+$B72))","v":0},{"$f":"AL$56*(-HLOOKUP($B$54,'04_Wirtschaftlichkeit'!$E$44:$L$57,7,FALSE)-HLOOKUP($B$54,'04_Wirtschaftlichkeit'!$E$44:$L$57,5,FALSE)*(1+$B72))","v":0},{"$f":"AM$56*(-HLOOKUP($B$54,'04_Wirtschaftlichkeit'!$E$44:$L$57,7,FALSE)-HLOOKUP($B$54,'04_Wirtschaftlichkeit'!$E$44:$L$57,5,FALSE)*(1+$B72))","v":0},{"$f":"AN$56*(-HLOOKUP($B$54,'04_Wirtschaftlichkeit'!$E$44:$L$57,7,FALSE)-HLOOKUP($B$54,'04_Wirtschaftlichkeit'!$E$44:$L$57,5,FALSE)*(1+$B72))","v":0},{"$f":"AO$56*(-HLOOKUP($B$54,'04_Wirtschaftlichkeit'!$E$44:$L$57,7,FALSE)-HLOOKUP($B$54,'04_Wirtschaftlichkeit'!$E$44:$L$57,5,FALSE)*(1+$B72))","v":0},{"$f":"AP$56*(-HLOOKUP($B$54,'04_Wirtschaftlichkeit'!$E$44:$L$57,7,FALSE)-HLOOKUP($B$54,'04_Wirtschaftlichkeit'!$E$44:$L$57,5,FALSE)*(1+$B72))","v":0},{"$f":"AQ$56*(-HLOOKUP($B$54,'04_Wirtschaftlichkeit'!$E$44:$L$57,7,FALSE)-HLOOKUP($B$54,'04_Wirtschaftlichkeit'!$E$44:$L$57,5,FALSE)*(1+$B72))","v":0},{"$f":"AR$56*(-HLOOKUP($B$54,'04_Wirtschaftlichkeit'!$E$44:$L$57,7,FALSE)-HLOOKUP($B$54,'04_Wirtschaftlichkeit'!$E$44:$L$57,5,FALSE)*(1+$B72))","v":0},{"$f":"AS$56*(-HLOOKUP($B$54,'04_Wirtschaftlichkeit'!$E$44:$L$57,7,FALSE)-HLOOKUP($B$54,'04_Wirtschaftlichkeit'!$E$44:$L$57,5,FALSE)*(1+$B72))","v":0},{"$f":"AT$56*(-HLOOKUP($B$54,'04_Wirtschaftlichkeit'!$E$44:$L$57,7,FALSE)-HLOOKUP($B$54,'04_Wirtschaftlichkeit'!$E$44:$L$57,5,FALSE)*(1+$B72))","v":0},{"$f":"AU$56*(-HLOOKUP($B$54,'04_Wirtschaftlichkeit'!$E$44:$L$57,7,FALSE)-HLOOKUP($B$54,'04_Wirtschaftlichkeit'!$E$44:$L$57,5,FALSE)*(1+$B72))","v":0},{"$f":"AV$56*(-HLOOKUP($B$54,'04_Wirtschaftlichkeit'!$E$44:$L$57,7,FALSE)-HLOOKUP($B$54,'04_Wirtschaftlichkeit'!$E$44:$L$57,5,FALSE)*(1+$B72))","v":0},{"$f":"AW$56*(-HLOOKUP($B$54,'04_Wirtschaftlichkeit'!$E$44:$L$57,7,FALSE)-HLOOKUP($B$54,'04_Wirtschaftlichkeit'!$E$44:$L$57,5,FALSE)*(1+$B72))","v":0},{"$f":"AX$56*(-HLOOKUP($B$54,'04_Wirtschaftlichkeit'!$E$44:$L$57,7,FALSE)-HLOOKUP($B$54,'04_Wirtschaftlichkeit'!$E$44:$L$57,5,FALSE)*(1+$B72))","v":0},{"$f":"AY$56*(-HLOOKUP($B$54,'04_Wirtschaftlichkeit'!$E$44:$L$57,7,FALSE)-HLOOKUP($B$54,'04_Wirtschaftlichkeit'!$E$44:$L$57,5,FALSE)*(1+$B72))","v":0},{"$f":"AZ$56*(-HLOOKUP($B$54,'04_Wirtschaftlichkeit'!$E$44:$L$57,7,FALSE)-HLOOKUP($B$54,'04_Wirtschaftlichkeit'!$E$44:$L$57,5,FALSE)*(1+$B72))","v":0},{"$f":"BA$56*(-HLOOKUP($B$54,'04_Wirtschaftlichkeit'!$E$44:$L$57,7,FALSE)-HLOOKUP($B$54,'04_Wirtschaftlichkeit'!$E$44:$L$57,5,FALSE)*(1+$B72))","v":0}]
[null,-0.4,{"$f":"-HLOOKUP($B$54,'04_Wirtschaftlichkeit'!$E$44:$L$57,6,FALSE)","v":-1057830.7168757692},{"$f":"D$56*(-HLOOKUP($B$54,'04_Wirtschaftlichkeit'!$E$44:$L$57,7,FALSE)-HLOOKUP($B$54,'04_Wirtschaftlichkeit'!$E$44:$L$57,5,FALSE)*(1+$B73))","v":-84000.34},{"$f":"E$56*(-HLOOKUP($B$54,'04_Wirtschaftlichkeit'!$E$44:$L$57,7,FALSE)-HLOOKUP($B$54,'04_Wirtschaftlichkeit'!$E$44:$L$57,5,FALSE)*(1+$B73))","v":-84000.34},{"$f":"F$56*(-HLOOKUP($B$54,'04_Wirtschaftlichkeit'!$E$44:$L$57,7,FALSE)-HLOOKUP($B$54,'04_Wirtschaftlichkeit'!$E$44:$L$57,5,FALSE)*(1+$B73))","v":-84000.34},{"$f":"G$56*(-HLOOKUP($B$54,'04_Wirtschaftlichkeit'!$E$44:$L$57,7,FALSE)-HLOOKUP($B$54,'04_Wirtschaftlichkeit'!$E$44:$L$57,5,FALSE)*(1+$B73))","v":-84000.34},{"$f":"H$56*(-HLOOKUP($B$54,'04_Wirtschaftlichkeit'!$E$44:$L$57,7,FALSE)-HLOOKUP($B$54,'04_Wirtschaftlichkeit'!$E$44:$L$57,5,FALSE)*(1+$B73))","v":-84000.34},{"$f":"I$56*(-HLOOKUP($B$54,'04_Wirtschaftlichkeit'!$E$44:$L$57,7,FALSE)-HLOOKUP($B$54,'04_Wirtschaftlichkeit'!$E$44:$L$57,5,FALSE)*(1+$B73))","v":-84000.34},{"$f":"J$56*(-HLOOKUP($B$54,'04_Wirtschaftlichkeit'!$E$44:$L$57,7,FALSE)-HLOOKUP($B$54,'04_Wirtschaftlichkeit'!$E$44:$L$57,5,FALSE)*(1+$B73))","v":-84000.34},{"$f":"K$56*(-HLOOKUP($B$54,'04_Wirtschaftlichkeit'!$E$44:$L$57,7,FALSE)-HLOOKUP($B$54,'04_Wirtschaftlichkeit'!$E$44:$L$57,5,FALSE)*(1+$B73))","v":-84000.34},{"$f":"L$56*(-HLOOKUP($B$54,'04_Wirtschaftlichkeit'!$E$44:$L$57,7,FALSE)-HLOOKUP($B$54,'04_Wirtschaftlichkeit'!$E$44:$L$57,5,FALSE)*(1+$B73))","v":-84000.34},{"$f":"M$56*(-HLOOKUP($B$54,'04_Wirtschaftlichkeit'!$E$44:$L$57,7,FALSE)-HLOOKUP($B$54,'04_Wirtschaftlichkeit'!$E$44:$L$57,5,FALSE)*(1+$B73))","v":-84000.34},{"$f":"N$56*(-HLOOKUP($B$54,'04_Wirtschaftlichkeit'!$E$44:$L$57,7,FALSE)-HLOOKUP($B$54,'04_Wirtschaftlichkeit'!$E$44:$L$57,5,FALSE)*(1+$B73))","v":-84000.34},{"$f":"O$56*(-HLOOKUP($B$54,'04_Wirtschaftlichkeit'!$E$44:$L$57,7,FALSE)-HLOOKUP($B$54,'04_Wirtschaftlichkeit'!$E$44:$L$57,5,FALSE)*(1+$B73))","v":-84000.34},{"$f":"P$56*(-HLOOKUP($B$54,'04_Wirtschaftlichkeit'!$E$44:$L$57,7,FALSE)-HLOOKUP($B$54,'04_Wirtschaftlichkeit'!$E$44:$L$57,5,FALSE)*(1+$B73))","v":-84000.34},{"$f":"Q$56*(-HLOOKUP($B$54,'04_Wirtschaftlichkeit'!$E$44:$L$57,7,FALSE)-HLOOKUP($B$54,'04_Wirtschaftlichkeit'!$E$44:$L$57,5,FALSE)*(1+$B73))","v":-84000.34},{"$f":"R$56*(-HLOOKUP($B$54,'04_Wirtschaftlichkeit'!$E$44:$L$57,7,FALSE)-HLOOKUP($B$54,'04_Wirtschaftlichkeit'!$E$44:$L$57,5,FALSE)*(1+$B73))","v":-84000.34},{"$f":"S$56*(-HLOOKUP($B$54,'04_Wirtschaftlichkeit'!$E$44:$L$57,7,FALSE)-HLOOKUP($B$54,'04_Wirtschaftlichkeit'!$E$44:$L$57,5,FALSE)*(1+$B73))","v":-84000.34},{"$f":"T$56*(-HLOOKUP($B$54,'04_Wirtschaftlichkeit'!$E$44:$L$57,7,FALSE)-HLOOKUP($B$54,'04_Wirtschaftlichkeit'!$E$44:$L$57,5,FALSE)*(1+$B73))","v":-84000.34},{"$f":"U$56*(-HLOOKUP($B$54,'04_Wirtschaftlichkeit'!$E$44:$L$57,7,FALSE)-HLOOKUP($B$54,'04_Wirtschaftlichkeit'!$E$44:$L$57,5,FALSE)*(1+$B73))","v":-84000.34},{"$f":"V$56*(-HLOOKUP($B$54,'04_Wirtschaftlichkeit'!$E$44:$L$57,7,FALSE)-HLOOKUP($B$54,'04_Wirtschaftlichkeit'!$E$44:$L$57,5,FALSE)*(1+$B73))","v":-84000.34},{"$f":"W$56*(-HLOOKUP($B$54,'04_Wirtschaftlichkeit'!$E$44:$L$57,7,FALSE)-HLOOKUP($B$54,'04_Wirtschaftlichkeit'!$E$44:$L$57,5,FALSE)*(1+$B73))","v":-84000.34},{"$f":"X$56*(-HLOOKUP($B$54,'04_Wirtschaftlichkeit'!$E$44:$L$57,7,FALSE)-HLOOKUP($B$54,'04_Wirtschaftlichkeit'!$E$44:$L$57,5,FALSE)*(1+$B73))","v":0},{"$f":"Y$56*(-HLOOKUP($B$54,'04_Wirtschaftlichkeit'!$E$44:$L$57,7,FALSE)-HLOOKUP($B$54,'04_Wirtschaftlichkeit'!$E$44:$L$57,5,FALSE)*(1+$B73))","v":0},{"$f":"Z$56*(-HLOOKUP($B$54,'04_Wirtschaftlichkeit'!$E$44:$L$57,7,FALSE)-HLOOKUP($B$54,'04_Wirtschaftlichkeit'!$E$44:$L$57,5,FALSE)*(1+$B73))","v":0},{"$f":"AA$56*(-HLOOKUP($B$54,'04_Wirtschaftlichkeit'!$E$44:$L$57,7,FALSE)-HLOOKUP($B$54,'04_Wirtschaftlichkeit'!$E$44:$L$57,5,FALSE)*(1+$B73))","v":0},{"$f":"AB$56*(-HLOOKUP($B$54,'04_Wirtschaftlichkeit'!$E$44:$L$57,7,FALSE)-HLOOKUP($B$54,'04_Wirtschaftlichkeit'!$E$44:$L$57,5,FALSE)*(1+$B73))","v":0},{"$f":"AC$56*(-HLOOKUP($B$54,'04_Wirtschaftlichkeit'!$E$44:$L$57,7,FALSE)-HLOOKUP($B$54,'04_Wirtschaftlichkeit'!$E$44:$L$57,5,FALSE)*(1+$B73))","v":0},{"$f":"AD$56*(-HLOOKUP($B$54,'04_Wirtschaftlichkeit'!$E$44:$L$57,7,FALSE)-HLOOKUP($B$54,'04_Wirtschaftlichkeit'!$E$44:$L$57,5,FALSE)*(1+$B73))","v":0},{"$f":"AE$56*(-HLOOKUP($B$54,'04_Wirtschaftlichkeit'!$E$44:$L$57,7,FALSE)-HLOOKUP($B$54,'04_Wirtschaftlichkeit'!$E$44:$L$57,5,FALSE)*(1+$B73))","v":0},{"$f":"AF$56*(-HLOOKUP($B$54,'04_Wirtschaftlichkeit'!$E$44:$L$57,7,FALSE)-HLOOKUP($B$54,'04_Wirtschaftlichkeit'!$E$44:$L$57,5,FALSE)*(1+$B73))","v":0},{"$f":"AG$56*(-HLOOKUP($B$54,'04_Wirtschaftlichkeit'!$E$44:$L$57,7,FALSE)-HLOOKUP($B$54,'04_Wirtschaftlichkeit'!$E$44:$L$57,5,FALSE)*(1+$B73))","v":0},{"$f":"AH$56*(-HLOOKUP($B$54,'04_Wirtschaftlichkeit'!$E$44:$L$57,7,FALSE)-HLOOKUP($B$54,'04_Wirtschaftlichkeit'!$E$44:$L$57,5,FALSE)*(1+$B73))","v":0},{"$f":"AI$56*(-HLOOKUP($B$54,'04_Wirtschaftlichkeit'!$E$44:$L$57,7,FALSE)-HLOOKUP($B$54,'04_Wirtschaftlichkeit'!$E$44:$L$57,5,FALSE)*(1+$B73))","v":0},{"$f":"AJ$56*(-HLOOKUP($B$54,'04_Wirtschaftlichkeit'!$E$44:$L$57,7,FALSE)-HLOOKUP($B$54,'04_Wirtschaftlichkeit'!$E$44:$L$57,5,FALSE)*(1+$B73))","v":0},{"$f":"AK$56*(-HLOOKUP($B$54,'04_Wirtschaftlichkeit'!$E$44:$L$57,7,FALSE)-HLOOKUP($B$54,'04_Wirtschaftlichkeit'!$E$44:$L$57,5,FALSE)*(1+$B73))","v":0},{"$f":"AL$56*(-HLOOKUP($B$54,'04_Wirtschaftlichkeit'!$E$44:$L$57,7,FALSE)-HLOOKUP($B$54,'04_Wirtschaftlichkeit'!$E$44:$L$57,5,FALSE)*(1+$B73))","v":0},{"$f":"AM$56*(-HLOOKUP($B$54,'04_Wirtschaftlichkeit'!$E$44:$L$57,7,FALSE)-HLOOKUP($B$54,'04_Wirtschaftlichkeit'!$E$44:$L$57,5,FALSE)*(1+$B73))","v":0},{"$f":"AN$56*(-HLOOKUP($B$54,'04_Wirtschaftlichkeit'!$E$44:$L$57,7,FALSE)-HLOOKUP($B$54,'04_Wirtschaftlichkeit'!$E$44:$L$57,5,FALSE)*(1+$B73))","v":0},{"$f":"AO$56*(-HLOOKUP($B$54,'04_Wirtschaftlichkeit'!$E$44:$L$57,7,FALSE)-HLOOKUP($B$54,'04_Wirtschaftlichkeit'!$E$44:$L$57,5,FALSE)*(1+$B73))","v":0},{"$f":"AP$56*(-HLOOKUP($B$54,'04_Wirtschaftlichkeit'!$E$44:$L$57,7,FALSE)-HLOOKUP($B$54,'04_Wirtschaftlichkeit'!$E$44:$L$57,5,FALSE)*(1+$B73))","v":0},{"$f":"AQ$56*(-HLOOKUP($B$54,'04_Wirtschaftlichkeit'!$E$44:$L$57,7,FALSE)-HLOOKUP($B$54,'04_Wirtschaftlichkeit'!$E$44:$L$57,5,FALSE)*(1+$B73))","v":0},{"$f":"AR$56*(-HLOOKUP($B$54,'04_Wirtschaftlichkeit'!$E$44:$L$57,7,FALSE)-HLOOKUP($B$54,'04_Wirtschaftlichkeit'!$E$44:$L$57,5,FALSE)*(1+$B73))","v":0},{"$f":"AS$56*(-HLOOKUP($B$54,'04_Wirtschaftlichkeit'!$E$44:$L$57,7,FALSE)-HLOOKUP($B$54,'04_Wirtschaftlichkeit'!$E$44:$L$57,5,FALSE)*(1+$B73))","v":0},{"$f":"AT$56*(-HLOOKUP($B$54,'04_Wirtschaftlichkeit'!$E$44:$L$57,7,FALSE)-HLOOKUP($B$54,'04_Wirtschaftlichkeit'!$E$44:$L$57,5,FALSE)*(1+$B73))","v":0},{"$f":"AU$56*(-HLOOKUP($B$54,'04_Wirtschaftlichkeit'!$E$44:$L$57,7,FALSE)-HLOOKUP($B$54,'04_Wirtschaftlichkeit'!$E$44:$L$57,5,FALSE)*(1+$B73))","v":0},{"$f":"AV$56*(-HLOOKUP($B$54,'04_Wirtschaftlichkeit'!$E$44:$L$57,7,FALSE)-HLOOKUP($B$54,'04_Wirtschaftlichkeit'!$E$44:$L$57,5,FALSE)*(1+$B73))","v":0},{"$f":"AW$56*(-HLOOKUP($B$54,'04_Wirtschaftlichkeit'!$E$44:$L$57,7,FALSE)-HLOOKUP($B$54,'04_Wirtschaftlichkeit'!$E$44:$L$57,5,FALSE)*(1+$B73))","v":0},{"$f":"AX$56*(-HLOOKUP($B$54,'04_Wirtschaftlichkeit'!$E$44:$L$57,7,FALSE)-HLOOKUP($B$54,'04_Wirtschaftlichkeit'!$E$44:$L$57,5,FALSE)*(1+$B73))","v":0},{"$f":"AY$56*(-HLOOKUP($B$54,'04_Wirtschaftlichkeit'!$E$44:$L$57,7,FALSE)-HLOOKUP($B$54,'04_Wirtschaftlichkeit'!$E$44:$L$57,5,FALSE)*(1+$B73))","v":0},{"$f":"AZ$56*(-HLOOKUP($B$54,'04_Wirtschaftlichkeit'!$E$44:$L$57,7,FALSE)-HLOOKUP($B$54,'04_Wirtschaftlichkeit'!$E$44:$L$57,5,FALSE)*(1+$B73))","v":0},{"$f":"BA$56*(-HLOOKUP($B$54,'04_Wirtschaftlichkeit'!$E$44:$L$57,7,FALSE)-HLOOKUP($B$54,'04_Wirtschaftlichkeit'!$E$44:$L$57,5,FALSE)*(1+$B73))","v":0}]
[null,-0.3,{"$f":"-HLOOKUP($B$54,'04_Wirtschaftlichkeit'!$E$44:$L$57,6,FALSE)","v":-1057830.7168757692},{"$f":"D$56*(-HLOOKUP($B$54,'04_Wirtschaftlichkeit'!$E$44:$L$57,7,FALSE)-HLOOKUP($B$54,'04_Wirtschaftlichkeit'!$E$44:$L$57,5,FALSE)*(1+$B74))","v":-84052.23},{"$f":"E$56*(-HLOOKUP($B$54,'04_Wirtschaftlichkeit'!$E$44:$L$57,7,FALSE)-HLOOKUP($B$54,'04_Wirtschaftlichkeit'!$E$44:$L$57,5,FALSE)*(1+$B74))","v":-84052.23},{"$f":"F$56*(-HLOOKUP($B$54,'04_Wirtschaftlichkeit'!$E$44:$L$57,7,FALSE)-HLOOKUP($B$54,'04_Wirtschaftlichkeit'!$E$44:$L$57,5,FALSE)*(1+$B74))","v":-84052.23},{"$f":"G$56*(-HLOOKUP($B$54,'04_Wirtschaftlichkeit'!$E$44:$L$57,7,FALSE)-HLOOKUP($B$54,'04_Wirtschaftlichkeit'!$E$44:$L$57,5,FALSE)*(1+$B74))","v":-84052.23},{"$f":"H$56*(-HLOOKUP($B$54,'04_Wirtschaftlichkeit'!$E$44:$L$57,7,FALSE)-HLOOKUP($B$54,'04_Wirtschaftlichkeit'!$E$44:$L$57,5,FALSE)*(1+$B74))","v":-84052.23},{"$f":"I$56*(-HLOOKUP($B$54,'04_Wirtschaftlichkeit'!$E$44:$L$57,7,FALSE)-HLOOKUP($B$54,'04_Wirtschaftlichkeit'!$E$44:$L$57,5,FALSE)*(1+$B74))","v":-84052.23},{"$f":"J$56*(-HLOOKUP($B$54,'04_Wirtschaftlichkeit'!$E$44:$L$57,7,FALSE)-HLOOKUP($B$54,'04_Wirtschaftlichkeit'!$E$44:$L$57,5,FALSE)*(1+$B74))","v":-84052.23},{"$f":"K$56*(-HLOOKUP($B$54,'04_Wirtschaftlichkeit'!$E$44:$L$57,7,FALSE)-HLOOKUP($B$54,'04_Wirtschaftlichkeit'!$E$44:$L$57,5,FALSE)*(1+$B74))","v":-84052.23},{"$f":"L$56*(-HLOOKUP($B$54,'04_Wirtschaftlichkeit'!$E$44:$L$57,7,FALSE)-HLOOKUP($B$54,'04_Wirtschaftlichkeit'!$E$44:$L$57,5,FALSE)*(1+$B74))","v":-84052.23},{"$f":"M$56*(-HLOOKUP($B$54,'04_Wirtschaftlichkeit'!$E$44:$L$57,7,FALSE)-HLOOKUP($B$54,'04_Wirtschaftlichkeit'!$E$44:$L$57,5,FALSE)*(1+$B74))","v":-84052.23},{"$f":"N$56*(-HLOOKUP($B$54,'04_Wirtschaftlichkeit'!$E$44:$L$57,7,FALSE)-HLOOKUP($B$54,'04_Wirtschaftlichkeit'!$E$44:$L$57,5,FALSE)*(1+$B74))","v":-84052.23},{"$f":"O$56*(-HLOOKUP($B$54,'04_Wirtschaftlichkeit'!$E$44:$L$57,7,FALSE)-HLOOKUP($B$54,'04_Wirtschaftlichkeit'!$E$44:$L$57,5,FALSE)*(1+$B74))","v":-84052.23},{"$f":"P$56*(-HLOOKUP($B$54,'04_Wirtschaftlichkeit'!$E$44:$L$57,7,FALSE)-HLOOKUP($B$54,'04_Wirtschaftlichkeit'!$E$44:$L$57,5,FALSE)*(1+$B74))","v":-84052.23},{"$f":"Q$56*(-HLOOKUP($B$54,'04_Wirtschaftlichkeit'!$E$44:$L$57,7,FALSE)-HLOOKUP($B$54,'04_Wirtschaftlichkeit'!$E$44:$L$57,5,FALSE)*(1+$B74))","v":-84052.23},{"$f":"R$56*(-HLOOKUP($B$54,'04_Wirtschaftlichkeit'!$E$44:$L$57,7,FALSE)-HLOOKUP($B$54,'04_Wirtschaftlichkeit'!$E$44:$L$57,5,FALSE)*(1+$B74))","v":-84052.23},{"$f":"S$56*(-HLOOKUP($B$54,'04_Wirtschaftlichkeit'!$E$44:$L$57,7,FALSE)-HLOOKUP($B$54,'04_Wirtschaftlichkeit'!$E$44:$L$57,5,FALSE)*(1+$B74))","v":-84052.23},{"$f":"T$56*(-HLOOKUP($B$54,'04_Wirtschaftlichkeit'!$E$44:$L$57,7,FALSE)-HLOOKUP($B$54,'04_Wirtschaftlichkeit'!$E$44:$L$57,5,FALSE)*(1+$B74))","v":-84052.23},{"$f":"U$56*(-HLOOKUP($B$54,'04_Wirtschaftlichkeit'!$E$44:$L$57,7,FALSE)-HLOOKUP($B$54,'04_Wirtschaftlichkeit'!$E$44:$L$57,5,FALSE)*(1+$B74))","v":-84052.23},{"$f":"V$56*(-HLOOKUP($B$54,'04_Wirtschaftlichkeit'!$E$44:$L$57,7,FALSE)-HLOOKUP($B$54,'04_Wirtschaftlichkeit'!$E$44:$L$57,5,FALSE)*(1+$B74))","v":-84052.23},{"$f":"W$56*(-HLOOKUP($B$54,'04_Wirtschaftlichkeit'!$E$44:$L$57,7,FALSE)-HLOOKUP($B$54,'04_Wirtschaftlichkeit'!$E$44:$L$57,5,FALSE)*(1+$B74))","v":-84052.23},{"$f":"X$56*(-HLOOKUP($B$54,'04_Wirtschaftlichkeit'!$E$44:$L$57,7,FALSE)-HLOOKUP($B$54,'04_Wirtschaftlichkeit'!$E$44:$L$57,5,FALSE)*(1+$B74))","v":0},{"$f":"Y$56*(-HLOOKUP($B$54,'04_Wirtschaftlichkeit'!$E$44:$L$57,7,FALSE)-HLOOKUP($B$54,'04_Wirtschaftlichkeit'!$E$44:$L$57,5,FALSE)*(1+$B74))","v":0},{"$f":"Z$56*(-HLOOKUP($B$54,'04_Wirtschaftlichkeit'!$E$44:$L$57,7,FALSE)-HLOOKUP($B$54,'04_Wirtschaftlichkeit'!$E$44:$L$57,5,FALSE)*(1+$B74))","v":0},{"$f":"AA$56*(-HLOOKUP($B$54,'04_Wirtschaftlichkeit'!$E$44:$L$57,7,FALSE)-HLOOKUP($B$54,'04_Wirtschaftlichkeit'!$E$44:$L$57,5,FALSE)*(1+$B74))","v":0},{"$f":"AB$56*(-HLOOKUP($B$54,'04_Wirtschaftlichkeit'!$E$44:$L$57,7,FALSE)-HLOOKUP($B$54,'04_Wirtschaftlichkeit'!$E$44:$L$57,5,FALSE)*(1+$B74))","v":0},{"$f":"AC$56*(-HLOOKUP($B$54,'04_Wirtschaftlichkeit'!$E$44:$L$57,7,FALSE)-HLOOKUP($B$54,'04_Wirtschaftlichkeit'!$E$44:$L$57,5,FALSE)*(1+$B74))","v":0},{"$f":"AD$56*(-HLOOKUP($B$54,'04_Wirtschaftlichkeit'!$E$44:$L$57,7,FALSE)-HLOOKUP($B$54,'04_Wirtschaftlichkeit'!$E$44:$L$57,5,FALSE)*(1+$B74))","v":0},{"$f":"AE$56*(-HLOOKUP($B$54,'04_Wirtschaftlichkeit'!$E$44:$L$57,7,FALSE)-HLOOKUP($B$54,'04_Wirtschaftlichkeit'!$E$44:$L$57,5,FALSE)*(1+$B74))","v":0},{"$f":"AF$56*(-HLOOKUP($B$54,'04_Wirtschaftlichkeit'!$E$44:$L$57,7,FALSE)-HLOOKUP($B$54,'04_Wirtschaftlichkeit'!$E$44:$L$57,5,FALSE)*(1+$B74))","v":0},{"$f":"AG$56*(-HLOOKUP($B$54,'04_Wirtschaftlichkeit'!$E$44:$L$57,7,FALSE)-HLOOKUP($B$54,'04_Wirtschaftlichkeit'!$E$44:$L$57,5,FALSE)*(1+$B74))","v":0},{"$f":"AH$56*(-HLOOKUP($B$54,'04_Wirtschaftlichkeit'!$E$44:$L$57,7,FALSE)-HLOOKUP($B$54,'04_Wirtschaftlichkeit'!$E$44:$L$57,5,FALSE)*(1+$B74))","v":0},{"$f":"AI$56*(-HLOOKUP($B$54,'04_Wirtschaftlichkeit'!$E$44:$L$57,7,FALSE)-HLOOKUP($B$54,'04_Wirtschaftlichkeit'!$E$44:$L$57,5,FALSE)*(1+$B74))","v":0},{"$f":"AJ$56*(-HLOOKUP($B$54,'04_Wirtschaftlichkeit'!$E$44:$L$57,7,FALSE)-HLOOKUP($B$54,'04_Wirtschaftlichkeit'!$E$44:$L$57,5,FALSE)*(1+$B74))","v":0},{"$f":"AK$56*(-HLOOKUP($B$54,'04_Wirtschaftlichkeit'!$E$44:$L$57,7,FALSE)-HLOOKUP($B$54,'04_Wirtschaftlichkeit'!$E$44:$L$57,5,FALSE)*(1+$B74))","v":0},{"$f":"AL$56*(-HLOOKUP($B$54,'04_Wirtschaftlichkeit'!$E$44:$L$57,7,FALSE)-HLOOKUP($B$54,'04_Wirtschaftlichkeit'!$E$44:$L$57,5,FALSE)*(1+$B74))","v":0},{"$f":"AM$56*(-HLOOKUP($B$54,'04_Wirtschaftlichkeit'!$E$44:$L$57,7,FALSE)-HLOOKUP($B$54,'04_Wirtschaftlichkeit'!$E$44:$L$57,5,FALSE)*(1+$B74))","v":0},{"$f":"AN$56*(-HLOOKUP($B$54,'04_Wirtschaftlichkeit'!$E$44:$L$57,7,FALSE)-HLOOKUP($B$54,'04_Wirtschaftlichkeit'!$E$44:$L$57,5,FALSE)*(1+$B74))","v":0},{"$f":"AO$56*(-HLOOKUP($B$54,'04_Wirtschaftlichkeit'!$E$44:$L$57,7,FALSE)-HLOOKUP($B$54,'04_Wirtschaftlichkeit'!$E$44:$L$57,5,FALSE)*(1+$B74))","v":0},{"$f":"AP$56*(-HLOOKUP($B$54,'04_Wirtschaftlichkeit'!$E$44:$L$57,7,FALSE)-HLOOKUP($B$54,'04_Wirtschaftlichkeit'!$E$44:$L$57,5,FALSE)*(1+$B74))","v":0},{"$f":"AQ$56*(-HLOOKUP($B$54,'04_Wirtschaftlichkeit'!$E$44:$L$57,7,FALSE)-HLOOKUP($B$54,'04_Wirtschaftlichkeit'!$E$44:$L$57,5,FALSE)*(1+$B74))","v":0},{"$f":"AR$56*(-HLOOKUP($B$54,'04_Wirtschaftlichkeit'!$E$44:$L$57,7,FALSE)-HLOOKUP($B$54,'04_Wirtschaftlichkeit'!$E$44:$L$57,5,FALSE)*(1+$B74))","v":0},{"$f":"AS$56*(-HLOOKUP($B$54,'04_Wirtschaftlichkeit'!$E$44:$L$57,7,FALSE)-HLOOKUP($B$54,'04_Wirtschaftlichkeit'!$E$44:$L$57,5,FALSE)*(1+$B74))","v":0},{"$f":"AT$56*(-HLOOKUP($B$54,'04_Wirtschaftlichkeit'!$E$44:$L$57,7,FALSE)-HLOOKUP($B$54,'04_Wirtschaftlichkeit'!$E$44:$L$57,5,FALSE)*(1+$B74))","v":0},{"$f":"AU$56*(-HLOOKUP($B$54,'04_Wirtschaftlichkeit'!$E$44:$L$57,7,FALSE)-HLOOKUP($B$54,'04_Wirtschaftlichkeit'!$E$44:$L$57,5,FALSE)*(1+$B74))","v":0},{"$f":"AV$56*(-HLOOKUP($B$54,'04_Wirtschaftlichkeit'!$E$44:$L$57,7,FALSE)-HLOOKUP($B$54,'04_Wirtschaftlichkeit'!$E$44:$L$57,5,FALSE)*(1+$B74))","v":0},{"$f":"AW$56*(-HLOOKUP($B$54,'04_Wirtschaftlichkeit'!$E$44:$L$57,7,FALSE)-HLOOKUP($B$54,'04_Wirtschaftlichkeit'!$E$44:$L$57,5,FALSE)*(1+$B74))","v":0},{"$f":"AX$56*(-HLOOKUP($B$54,'04_Wirtschaftlichkeit'!$E$44:$L$57,7,FALSE)-HLOOKUP($B$54,'04_Wirtschaftlichkeit'!$E$44:$L$57,5,FALSE)*(1+$B74))","v":0},{"$f":"AY$56*(-HLOOKUP($B$54,'04_Wirtschaftlichkeit'!$E$44:$L$57,7,FALSE)-HLOOKUP($B$54,'04_Wirtschaftlichkeit'!$E$44:$L$57,5,FALSE)*(1+$B74))","v":0},{"$f":"AZ$56*(-HLOOKUP($B$54,'04_Wirtschaftlichkeit'!$E$44:$L$57,7,FALSE)-HLOOKUP($B$54,'04_Wirtschaftlichkeit'!$E$44:$L$57,5,FALSE)*(1+$B74))","v":0},{"$f":"BA$56*(-HLOOKUP($B$54,'04_Wirtschaftlichkeit'!$E$44:$L$57,7,FALSE)-HLOOKUP($B$54,'04_Wirtschaftlichkeit'!$E$44:$L$57,5,FALSE)*(1+$B74))","v":0}]
[null,-0.2,{"$f":"-HLOOKUP($B$54,'04_Wirtschaftlichkeit'!$E$44:$L$57,6,FALSE)","v":-1057830.7168757692},{"$f":"D$56*(-HLOOKUP($B$54,'04_Wirtschaftlichkeit'!$E$44:$L$57,7,FALSE)-HLOOKUP($B$54,'04_Wirtschaftlichkeit'!$E$44:$L$57,5,FALSE)*(1+$B75))","v":-84104.12},{"$f":"E$56*(-HLOOKUP($B$54,'04_Wirtschaftlichkeit'!$E$44:$L$57,7,FALSE)-HLOOKUP($B$54,'04_Wirtschaftlichkeit'!$E$44:$L$57,5,FALSE)*(1+$B75))","v":-84104.12},{"$f":"F$56*(-HLOOKUP($B$54,'04_Wirtschaftlichkeit'!$E$44:$L$57,7,FALSE)-HLOOKUP($B$54,'04_Wirtschaftlichkeit'!$E$44:$L$57,5,FALSE)*(1+$B75))","v":-84104.12},{"$f":"G$56*(-HLOOKUP($B$54,'04_Wirtschaftlichkeit'!$E$44:$L$57,7,FALSE)-HLOOKUP($B$54,'04_Wirtschaftlichkeit'!$E$44:$L$57,5,FALSE)*(1+$B75))","v":-84104.12},{"$f":"H$56*(-HLOOKUP($B$54,'04_Wirtschaftlichkeit'!$E$44:$L$57,7,FALSE)-HLOOKUP($B$54,'04_Wirtschaftlichkeit'!$E$44:$L$57,5,FALSE)*(1+$B75))","v":-84104.12},{"$f":"I$56*(-HLOOKUP($B$54,'04_Wirtschaftlichkeit'!$E$44:$L$57,7,FALSE)-HLOOKUP($B$54,'04_Wirtschaftlichkeit'!$E$44:$L$57,5,FALSE)*(1+$B75))","v":-84104.12},{"$f":"J$56*(-HLOOKUP($B$54,'04_Wirtschaftlichkeit'!$E$44:$L$57,7,FALSE)-HLOOKUP($B$54,'04_Wirtschaftlichkeit'!$E$44:$L$57,5,FALSE)*(1+$B75))","v":-84104.12},{"$f":"K$56*(-HLOOKUP($B$54,'04_Wirtschaftlichkeit'!$E$44:$L$57,7,FALSE)-HLOOKUP($B$54,'04_Wirtschaftlichkeit'!$E$44:$L$57,5,FALSE)*(1+$B75))","v":-84104.12},{"$f":"L$56*(-HLOOKUP($B$54,'04_Wirtschaftlichkeit'!$E$44:$L$57,7,FALSE)-HLOOKUP($B$54,'04_Wirtschaftlichkeit'!$E$44:$L$57,5,FALSE)*(1+$B75))","v":-84104.12},{"$f":"M$56*(-HLOOKUP($B$54,'04_Wirtschaftlichkeit'!$E$44:$L$57,7,FALSE)-HLOOKUP($B$54,'04_Wirtschaftlichkeit'!$E$44:$L$57,5,FALSE)*(1+$B75))","v":-84104.12},{"$f":"N$56*(-HLOOKUP($B$54,'04_Wirtschaftlichkeit'!$E$44:$L$57,7,FALSE)-HLOOKUP($B$54,'04_Wirtschaftlichkeit'!$E$44:$L$57,5,FALSE)*(1+$B75))","v":-84104.12},{"$f":"O$56*(-HLOOKUP($B$54,'04_Wirtschaftlichkeit'!$E$44:$L$57,7,FALSE)-HLOOKUP($B$54,'04_Wirtschaftlichkeit'!$E$44:$L$57,5,FALSE)*(1+$B75))","v":-84104.12},{"$f":"P$56*(-HLOOKUP($B$54,'04_Wirtschaftlichkeit'!$E$44:$L$57,7,FALSE)-HLOOKUP($B$54,'04_Wirtschaftlichkeit'!$E$44:$L$57,5,FALSE)*(1+$B75))","v":-84104.12},{"$f":"Q$56*(-HLOOKUP($B$54,'04_Wirtschaftlichkeit'!$E$44:$L$57,7,FALSE)-HLOOKUP($B$54,'04_Wirtschaftlichkeit'!$E$44:$L$57,5,FALSE)*(1+$B75))","v":-84104.12},{"$f":"R$56*(-HLOOKUP($B$54,'04_Wirtschaftlichkeit'!$E$44:$L$57,7,FALSE)-HLOOKUP($B$54,'04_Wirtschaftlichkeit'!$E$44:$L$57,5,FALSE)*(1+$B75))","v":-84104.12},{"$f":"S$56*(-HLOOKUP($B$54,'04_Wirtschaftlichkeit'!$E$44:$L$57,7,FALSE)-HLOOKUP($B$54,'04_Wirtschaftlichkeit'!$E$44:$L$57,5,FALSE)*(1+$B75))","v":-84104.12},{"$f":"T$56*(-HLOOKUP($B$54,'04_Wirtschaftlichkeit'!$E$44:$L$57,7,FALSE)-HLOOKUP($B$54,'04_Wirtschaftlichkeit'!$E$44:$L$57,5,FALSE)*(1+$B75))","v":-84104.12},{"$f":"U$56*(-HLOOKUP($B$54,'04_Wirtschaftlichkeit'!$E$44:$L$57,7,FALSE)-HLOOKUP($B$54,'04_Wirtschaftlichkeit'!$E$44:$L$57,5,FALSE)*(1+$B75))","v":-84104.12},{"$f":"V$56*(-HLOOKUP($B$54,'04_Wirtschaftlichkeit'!$E$44:$L$57,7,FALSE)-HLOOKUP($B$54,'04_Wirtschaftlichkeit'!$E$44:$L$57,5,FALSE)*(1+$B75))","v":-84104.12},{"$f":"W$56*(-HLOOKUP($B$54,'04_Wirtschaftlichkeit'!$E$44:$L$57,7,FALSE)-HLOOKUP($B$54,'04_Wirtschaftlichkeit'!$E$44:$L$57,5,FALSE)*(1+$B75))","v":-84104.12},{"$f":"X$56*(-HLOOKUP($B$54,'04_Wirtschaftlichkeit'!$E$44:$L$57,7,FALSE)-HLOOKUP($B$54,'04_Wirtschaftlichkeit'!$E$44:$L$57,5,FALSE)*(1+$B75))","v":0},{"$f":"Y$56*(-HLOOKUP($B$54,'04_Wirtschaftlichkeit'!$E$44:$L$57,7,FALSE)-HLOOKUP($B$54,'04_Wirtschaftlichkeit'!$E$44:$L$57,5,FALSE)*(1+$B75))","v":0},{"$f":"Z$56*(-HLOOKUP($B$54,'04_Wirtschaftlichkeit'!$E$44:$L$57,7,FALSE)-HLOOKUP($B$54,'04_Wirtschaftlichkeit'!$E$44:$L$57,5,FALSE)*(1+$B75))","v":0},{"$f":"AA$56*(-HLOOKUP($B$54,'04_Wirtschaftlichkeit'!$E$44:$L$57,7,FALSE)-HLOOKUP($B$54,'04_Wirtschaftlichkeit'!$E$44:$L$57,5,FALSE)*(1+$B75))","v":0},{"$f":"AB$56*(-HLOOKUP($B$54,'04_Wirtschaftlichkeit'!$E$44:$L$57,7,FALSE)-HLOOKUP($B$54,'04_Wirtschaftlichkeit'!$E$44:$L$57,5,FALSE)*(1+$B75))","v":0},{"$f":"AC$56*(-HLOOKUP($B$54,'04_Wirtschaftlichkeit'!$E$44:$L$57,7,FALSE)-HLOOKUP($B$54,'04_Wirtschaftlichkeit'!$E$44:$L$57,5,FALSE)*(1+$B75))","v":0},{"$f":"AD$56*(-HLOOKUP($B$54,'04_Wirtschaftlichkeit'!$E$44:$L$57,7,FALSE)-HLOOKUP($B$54,'04_Wirtschaftlichkeit'!$E$44:$L$57,5,FALSE)*(1+$B75))","v":0},{"$f":"AE$56*(-HLOOKUP($B$54,'04_Wirtschaftlichkeit'!$E$44:$L$57,7,FALSE)-HLOOKUP($B$54,'04_Wirtschaftlichkeit'!$E$44:$L$57,5,FALSE)*(1+$B75))","v":0},{"$f":"AF$56*(-HLOOKUP($B$54,'04_Wirtschaftlichkeit'!$E$44:$L$57,7,FALSE)-HLOOKUP($B$54,'04_Wirtschaftlichkeit'!$E$44:$L$57,5,FALSE)*(1+$B75))","v":0},{"$f":"AG$56*(-HLOOKUP($B$54,'04_Wirtschaftlichkeit'!$E$44:$L$57,7,FALSE)-HLOOKUP($B$54,'04_Wirtschaftlichkeit'!$E$44:$L$57,5,FALSE)*(1+$B75))","v":0},{"$f":"AH$56*(-HLOOKUP($B$54,'04_Wirtschaftlichkeit'!$E$44:$L$57,7,FALSE)-HLOOKUP($B$54,'04_Wirtschaftlichkeit'!$E$44:$L$57,5,FALSE)*(1+$B75))","v":0},{"$f":"AI$56*(-HLOOKUP($B$54,'04_Wirtschaftlichkeit'!$E$44:$L$57,7,FALSE)-HLOOKUP($B$54,'04_Wirtschaftlichkeit'!$E$44:$L$57,5,FALSE)*(1+$B75))","v":0},{"$f":"AJ$56*(-HLOOKUP($B$54,'04_Wirtschaftlichkeit'!$E$44:$L$57,7,FALSE)-HLOOKUP($B$54,'04_Wirtschaftlichkeit'!$E$44:$L$57,5,FALSE)*(1+$B75))","v":0},{"$f":"AK$56*(-HLOOKUP($B$54,'04_Wirtschaftlichkeit'!$E$44:$L$57,7,FALSE)-HLOOKUP($B$54,'04_Wirtschaftlichkeit'!$E$44:$L$57,5,FALSE)*(1+$B75))","v":0},{"$f":"AL$56*(-HLOOKUP($B$54,'04_Wirtschaftlichkeit'!$E$44:$L$57,7,FALSE)-HLOOKUP($B$54,'04_Wirtschaftlichkeit'!$E$44:$L$57,5,FALSE)*(1+$B75))","v":0},{"$f":"AM$56*(-HLOOKUP($B$54,'04_Wirtschaftlichkeit'!$E$44:$L$57,7,FALSE)-HLOOKUP($B$54,'04_Wirtschaftlichkeit'!$E$44:$L$57,5,FALSE)*(1+$B75))","v":0},{"$f":"AN$56*(-HLOOKUP($B$54,'04_Wirtschaftlichkeit'!$E$44:$L$57,7,FALSE)-HLOOKUP($B$54,'04_Wirtschaftlichkeit'!$E$44:$L$57,5,FALSE)*(1+$B75))","v":0},{"$f":"AO$56*(-HLOOKUP($B$54,'04_Wirtschaftlichkeit'!$E$44:$L$57,7,FALSE)-HLOOKUP($B$54,'04_Wirtschaftlichkeit'!$E$44:$L$57,5,FALSE)*(1+$B75))","v":0},{"$f":"AP$56*(-HLOOKUP($B$54,'04_Wirtschaftlichkeit'!$E$44:$L$57,7,FALSE)-HLOOKUP($B$54,'04_Wirtschaftlichkeit'!$E$44:$L$57,5,FALSE)*(1+$B75))","v":0},{"$f":"AQ$56*(-HLOOKUP($B$54,'04_Wirtschaftlichkeit'!$E$44:$L$57,7,FALSE)-HLOOKUP($B$54,'04_Wirtschaftlichkeit'!$E$44:$L$57,5,FALSE)*(1+$B75))","v":0},{"$f":"AR$56*(-HLOOKUP($B$54,'04_Wirtschaftlichkeit'!$E$44:$L$57,7,FALSE)-HLOOKUP($B$54,'04_Wirtschaftlichkeit'!$E$44:$L$57,5,FALSE)*(1+$B75))","v":0},{"$f":"AS$56*(-HLOOKUP($B$54,'04_Wirtschaftlichkeit'!$E$44:$L$57,7,FALSE)-HLOOKUP($B$54,'04_Wirtschaftlichkeit'!$E$44:$L$57,5,FALSE)*(1+$B75))","v":0},{"$f":"AT$56*(-HLOOKUP($B$54,'04_Wirtschaftlichkeit'!$E$44:$L$57,7,FALSE)-HLOOKUP($B$54,'04_Wirtschaftlichkeit'!$E$44:$L$57,5,FALSE)*(1+$B75))","v":0},{"$f":"AU$56*(-HLOOKUP($B$54,'04_Wirtschaftlichkeit'!$E$44:$L$57,7,FALSE)-HLOOKUP($B$54,'04_Wirtschaftlichkeit'!$E$44:$L$57,5,FALSE)*(1+$B75))","v":0},{"$f":"AV$56*(-HLOOKUP($B$54,'04_Wirtschaftlichkeit'!$E$44:$L$57,7,FALSE)-HLOOKUP($B$54,'04_Wirtschaftlichkeit'!$E$44:$L$57,5,FALSE)*(1+$B75))","v":0},{"$f":"AW$56*(-HLOOKUP($B$54,'04_Wirtschaftlichkeit'!$E$44:$L$57,7,FALSE)-HLOOKUP($B$54,'04_Wirtschaftlichkeit'!$E$44:$L$57,5,FALSE)*(1+$B75))","v":0},{"$f":"AX$56*(-HLOOKUP($B$54,'04_Wirtschaftlichkeit'!$E$44:$L$57,7,FALSE)-HLOOKUP($B$54,'04_Wirtschaftlichkeit'!$E$44:$L$57,5,FALSE)*(1+$B75))","v":0},{"$f":"AY$56*(-HLOOKUP($B$54,'04_Wirtschaftlichkeit'!$E$44:$L$57,7,FALSE)-HLOOKUP($B$54,'04_Wirtschaftlichkeit'!$E$44:$L$57,5,FALSE)*(1+$B75))","v":0},{"$f":"AZ$56*(-HLOOKUP($B$54,'04_Wirtschaftlichkeit'!$E$44:$L$57,7,FALSE)-HLOOKUP($B$54,'04_Wirtschaftlichkeit'!$E$44:$L$57,5,FALSE)*(1+$B75))","v":0},{"$f":"BA$56*(-HLOOKUP($B$54,'04_Wirtschaftlichkeit'!$E$44:$L$57,7,FALSE)-HLOOKUP($B$54,'04_Wirtschaftlichkeit'!$E$44:$L$57,5,FALSE)*(1+$B75))","v":0}]
[null,-0.1,{"$f":"-HLOOKUP($B$54,'04_Wirtschaftlichkeit'!$E$44:$L$57,6,FALSE)","v":-1057830.7168757692},{"$f":"D$56*(-HLOOKUP($B$54,'04_Wirtschaftlichkeit'!$E$44:$L$57,7,FALSE)-HLOOKUP($B$54,'04_Wirtschaftlichkeit'!$E$44:$L$57,5,FALSE)*(1+$B76))","v":-84156.01},{"$f":"E$56*(-HLOOKUP($B$54,'04_Wirtschaftlichkeit'!$E$44:$L$57,7,FALSE)-HLOOKUP($B$54,'04_Wirtschaftlichkeit'!$E$44:$L$57,5,FALSE)*(1+$B76))","v":-84156.01},{"$f":"F$56*(-HLOOKUP($B$54,'04_Wirtschaftlichkeit'!$E$44:$L$57,7,FALSE)-HLOOKUP($B$54,'04_Wirtschaftlichkeit'!$E$44:$L$57,5,FALSE)*(1+$B76))","v":-84156.01},{"$f":"G$56*(-HLOOKUP($B$54,'04_Wirtschaftlichkeit'!$E$44:$L$57,7,FALSE)-HLOOKUP($B$54,'04_Wirtschaftlichkeit'!$E$44:$L$57,5,FALSE)*(1+$B76))","v":-84156.01},{"$f":"H$56*(-HLOOKUP($B$54,'04_Wirtschaftlichkeit'!$E$44:$L$57,7,FALSE)-HLOOKUP($B$54,'04_Wirtschaftlichkeit'!$E$44:$L$57,5,FALSE)*(1+$B76))","v":-84156.01},{"$f":"I$56*(-HLOOKUP($B$54,'04_Wirtschaftlichkeit'!$E$44:$L$57,7,FALSE)-HLOOKUP($B$54,'04_Wirtschaftlichkeit'!$E$44:$L$57,5,FALSE)*(1+$B76))","v":-84156.01},{"$f":"J$56*(-HLOOKUP($B$54,'04_Wirtschaftlichkeit'!$E$44:$L$57,7,FALSE)-HLOOKUP($B$54,'04_Wirtschaftlichkeit'!$E$44:$L$57,5,FALSE)*(1+$B76))","v":-84156.01},{"$f":"K$56*(-HLOOKUP($B$54,'04_Wirtschaftlichkeit'!$E$44:$L$57,7,FALSE)-HLOOKUP($B$54,'04_Wirtschaftlichkeit'!$E$44:$L$57,5,FALSE)*(1+$B76))","v":-84156.01},{"$f":"L$56*(-HLOOKUP($B$54,'04_Wirtschaftlichkeit'!$E$44:$L$57,7,FALSE)-HLOOKUP($B$54,'04_Wirtschaftlichkeit'!$E$44:$L$57,5,FALSE)*(1+$B76))","v":-84156.01},{"$f":"M$56*(-HLOOKUP($B$54,'04_Wirtschaftlichkeit'!$E$44:$L$57,7,FALSE)-HLOOKUP($B$54,'04_Wirtschaftlichkeit'!$E$44:$L$57,5,FALSE)*(1+$B76))","v":-84156.01},{"$f":"N$56*(-HLOOKUP($B$54,'04_Wirtschaftlichkeit'!$E$44:$L$57,7,FALSE)-HLOOKUP($B$54,'04_Wirtschaftlichkeit'!$E$44:$L$57,5,FALSE)*(1+$B76))","v":-84156.01},{"$f":"O$56*(-HLOOKUP($B$54,'04_Wirtschaftlichkeit'!$E$44:$L$57,7,FALSE)-HLOOKUP($B$54,'04_Wirtschaftlichkeit'!$E$44:$L$57,5,FALSE)*(1+$B76))","v":-84156.01},{"$f":"P$56*(-HLOOKUP($B$54,'04_Wirtschaftlichkeit'!$E$44:$L$57,7,FALSE)-HLOOKUP($B$54,'04_Wirtschaftlichkeit'!$E$44:$L$57,5,FALSE)*(1+$B76))","v":-84156.01},{"$f":"Q$56*(-HLOOKUP($B$54,'04_Wirtschaftlichkeit'!$E$44:$L$57,7,FALSE)-HLOOKUP($B$54,'04_Wirtschaftlichkeit'!$E$44:$L$57,5,FALSE)*(1+$B76))","v":-84156.01},{"$f":"R$56*(-HLOOKUP($B$54,'04_Wirtschaftlichkeit'!$E$44:$L$57,7,FALSE)-HLOOKUP($B$54,'04_Wirtschaftlichkeit'!$E$44:$L$57,5,FALSE)*(1+$B76))","v":-84156.01},{"$f":"S$56*(-HLOOKUP($B$54,'04_Wirtschaftlichkeit'!$E$44:$L$57,7,FALSE)-HLOOKUP($B$54,'04_Wirtschaftlichkeit'!$E$44:$L$57,5,FALSE)*(1+$B76))","v":-84156.01},{"$f":"T$56*(-HLOOKUP($B$54,'04_Wirtschaftlichkeit'!$E$44:$L$57,7,FALSE)-HLOOKUP($B$54,'04_Wirtschaftlichkeit'!$E$44:$L$57,5,FALSE)*(1+$B76))","v":-84156.01},{"$f":"U$56*(-HLOOKUP($B$54,'04_Wirtschaftlichkeit'!$E$44:$L$57,7,FALSE)-HLOOKUP($B$54,'04_Wirtschaftlichkeit'!$E$44:$L$57,5,FALSE)*(1+$B76))","v":-84156.01},{"$f":"V$56*(-HLOOKUP($B$54,'04_Wirtschaftlichkeit'!$E$44:$L$57,7,FALSE)-HLOOKUP($B$54,'04_Wirtschaftlichkeit'!$E$44:$L$57,5,FALSE)*(1+$B76))","v":-84156.01},{"$f":"W$56*(-HLOOKUP($B$54,'04_Wirtschaftlichkeit'!$E$44:$L$57,7,FALSE)-HLOOKUP($B$54,'04_Wirtschaftlichkeit'!$E$44:$L$57,5,FALSE)*(1+$B76))","v":-84156.01},{"$f":"X$56*(-HLOOKUP($B$54,'04_Wirtschaftlichkeit'!$E$44:$L$57,7,FALSE)-HLOOKUP($B$54,'04_Wirtschaftlichkeit'!$E$44:$L$57,5,FALSE)*(1+$B76))","v":0},{"$f":"Y$56*(-HLOOKUP($B$54,'04_Wirtschaftlichkeit'!$E$44:$L$57,7,FALSE)-HLOOKUP($B$54,'04_Wirtschaftlichkeit'!$E$44:$L$57,5,FALSE)*(1+$B76))","v":0},{"$f":"Z$56*(-HLOOKUP($B$54,'04_Wirtschaftlichkeit'!$E$44:$L$57,7,FALSE)-HLOOKUP($B$54,'04_Wirtschaftlichkeit'!$E$44:$L$57,5,FALSE)*(1+$B76))","v":0},{"$f":"AA$56*(-HLOOKUP($B$54,'04_Wirtschaftlichkeit'!$E$44:$L$57,7,FALSE)-HLOOKUP($B$54,'04_Wirtschaftlichkeit'!$E$44:$L$57,5,FALSE)*(1+$B76))","v":0},{"$f":"AB$56*(-HLOOKUP($B$54,'04_Wirtschaftlichkeit'!$E$44:$L$57,7,FALSE)-HLOOKUP($B$54,'04_Wirtschaftlichkeit'!$E$44:$L$57,5,FALSE)*(1+$B76))","v":0},{"$f":"AC$56*(-HLOOKUP($B$54,'04_Wirtschaftlichkeit'!$E$44:$L$57,7,FALSE)-HLOOKUP($B$54,'04_Wirtschaftlichkeit'!$E$44:$L$57,5,FALSE)*(1+$B76))","v":0},{"$f":"AD$56*(-HLOOKUP($B$54,'04_Wirtschaftlichkeit'!$E$44:$L$57,7,FALSE)-HLOOKUP($B$54,'04_Wirtschaftlichkeit'!$E$44:$L$57,5,FALSE)*(1+$B76))","v":0},{"$f":"AE$56*(-HLOOKUP($B$54,'04_Wirtschaftlichkeit'!$E$44:$L$57,7,FALSE)-HLOOKUP($B$54,'04_Wirtschaftlichkeit'!$E$44:$L$57,5,FALSE)*(1+$B76))","v":0},{"$f":"AF$56*(-HLOOKUP($B$54,'04_Wirtschaftlichkeit'!$E$44:$L$57,7,FALSE)-HLOOKUP($B$54,'04_Wirtschaftlichkeit'!$E$44:$L$57,5,FALSE)*(1+$B76))","v":0},{"$f":"AG$56*(-HLOOKUP($B$54,'04_Wirtschaftlichkeit'!$E$44:$L$57,7,FALSE)-HLOOKUP($B$54,'04_Wirtschaftlichkeit'!$E$44:$L$57,5,FALSE)*(1+$B76))","v":0},{"$f":"AH$56*(-HLOOKUP($B$54,'04_Wirtschaftlichkeit'!$E$44:$L$57,7,FALSE)-HLOOKUP($B$54,'04_Wirtschaftlichkeit'!$E$44:$L$57,5,FALSE)*(1+$B76))","v":0},{"$f":"AI$56*(-HLOOKUP($B$54,'04_Wirtschaftlichkeit'!$E$44:$L$57,7,FALSE)-HLOOKUP($B$54,'04_Wirtschaftlichkeit'!$E$44:$L$57,5,FALSE)*(1+$B76))","v":0},{"$f":"AJ$56*(-HLOOKUP($B$54,'04_Wirtschaftlichkeit'!$E$44:$L$57,7,FALSE)-HLOOKUP($B$54,'04_Wirtschaftlichkeit'!$E$44:$L$57,5,FALSE)*(1+$B76))","v":0},{"$f":"AK$56*(-HLOOKUP($B$54,'04_Wirtschaftlichkeit'!$E$44:$L$57,7,FALSE)-HLOOKUP($B$54,'04_Wirtschaftlichkeit'!$E$44:$L$57,5,FALSE)*(1+$B76))","v":0},{"$f":"AL$56*(-HLOOKUP($B$54,'04_Wirtschaftlichkeit'!$E$44:$L$57,7,FALSE)-HLOOKUP($B$54,'04_Wirtschaftlichkeit'!$E$44:$L$57,5,FALSE)*(1+$B76))","v":0},{"$f":"AM$56*(-HLOOKUP($B$54,'04_Wirtschaftlichkeit'!$E$44:$L$57,7,FALSE)-HLOOKUP($B$54,'04_Wirtschaftlichkeit'!$E$44:$L$57,5,FALSE)*(1+$B76))","v":0},{"$f":"AN$56*(-HLOOKUP($B$54,'04_Wirtschaftlichkeit'!$E$44:$L$57,7,FALSE)-HLOOKUP($B$54,'04_Wirtschaftlichkeit'!$E$44:$L$57,5,FALSE)*(1+$B76))","v":0},{"$f":"AO$56*(-HLOOKUP($B$54,'04_Wirtschaftlichkeit'!$E$44:$L$57,7,FALSE)-HLOOKUP($B$54,'04_Wirtschaftlichkeit'!$E$44:$L$57,5,FALSE)*(1+$B76))","v":0},{"$f":"AP$56*(-HLOOKUP($B$54,'04_Wirtschaftlichkeit'!$E$44:$L$57,7,FALSE)-HLOOKUP($B$54,'04_Wirtschaftlichkeit'!$E$44:$L$57,5,FALSE)*(1+$B76))","v":0},{"$f":"AQ$56*(-HLOOKUP($B$54,'04_Wirtschaftlichkeit'!$E$44:$L$57,7,FALSE)-HLOOKUP($B$54,'04_Wirtschaftlichkeit'!$E$44:$L$57,5,FALSE)*(1+$B76))","v":0},{"$f":"AR$56*(-HLOOKUP($B$54,'04_Wirtschaftlichkeit'!$E$44:$L$57,7,FALSE)-HLOOKUP($B$54,'04_Wirtschaftlichkeit'!$E$44:$L$57,5,FALSE)*(1+$B76))","v":0},{"$f":"AS$56*(-HLOOKUP($B$54,'04_Wirtschaftlichkeit'!$E$44:$L$57,7,FALSE)-HLOOKUP($B$54,'04_Wirtschaftlichkeit'!$E$44:$L$57,5,FALSE)*(1+$B76))","v":0},{"$f":"AT$56*(-HLOOKUP($B$54,'04_Wirtschaftlichkeit'!$E$44:$L$57,7,FALSE)-HLOOKUP($B$54,'04_Wirtschaftlichkeit'!$E$44:$L$57,5,FALSE)*(1+$B76))","v":0},{"$f":"AU$56*(-HLOOKUP($B$54,'04_Wirtschaftlichkeit'!$E$44:$L$57,7,FALSE)-HLOOKUP($B$54,'04_Wirtschaftlichkeit'!$E$44:$L$57,5,FALSE)*(1+$B76))","v":0},{"$f":"AV$56*(-HLOOKUP($B$54,'04_Wirtschaftlichkeit'!$E$44:$L$57,7,FALSE)-HLOOKUP($B$54,'04_Wirtschaftlichkeit'!$E$44:$L$57,5,FALSE)*(1+$B76))","v":0},{"$f":"AW$56*(-HLOOKUP($B$54,'04_Wirtschaftlichkeit'!$E$44:$L$57,7,FALSE)-HLOOKUP($B$54,'04_Wirtschaftlichkeit'!$E$44:$L$57,5,FALSE)*(1+$B76))","v":0},{"$f":"AX$56*(-HLOOKUP($B$54,'04_Wirtschaftlichkeit'!$E$44:$L$57,7,FALSE)-HLOOKUP($B$54,'04_Wirtschaftlichkeit'!$E$44:$L$57,5,FALSE)*(1+$B76))","v":0},{"$f":"AY$56*(-HLOOKUP($B$54,'04_Wirtschaftlichkeit'!$E$44:$L$57,7,FALSE)-HLOOKUP($B$54,'04_Wirtschaftlichkeit'!$E$44:$L$57,5,FALSE)*(1+$B76))","v":0},{"$f":"AZ$56*(-HLOOKUP($B$54,'04_Wirtschaftlichkeit'!$E$44:$L$57,7,FALSE)-HLOOKUP($B$54,'04_Wirtschaftlichkeit'!$E$44:$L$57,5,FALSE)*(1+$B76))","v":0},{"$f":"BA$56*(-HLOOKUP($B$54,'04_Wirtschaftlichkeit'!$E$44:$L$57,7,FALSE)-HLOOKUP($B$54,'04_Wirtschaftlichkeit'!$E$44:$L$57,5,FALSE)*(1+$B76))","v":0}]
[null,0,{"$f":"-HLOOKUP($B$54,'04_Wirtschaftlichkeit'!$E$44:$L$57,6,FALSE)","v":-1057830.7168757692},{"$f":"D$56*(-HLOOKUP($B$54,'04_Wirtschaftlichkeit'!$E$44:$L$57,7,FALSE)-HLOOKUP($B$54,'04_Wirtschaftlichkeit'!$E$44:$L$57,5,FALSE)*(1+$B77))","v":-84207.9},{"$f":"E$56*(-HLOOKUP($B$54,'04_Wirtschaftlichkeit'!$E$44:$L$57,7,FALSE)-HLOOKUP($B$54,'04_Wirtschaftlichkeit'!$E$44:$L$57,5,FALSE)*(1+$B77))","v":-84207.9},{"$f":"F$56*(-HLOOKUP($B$54,'04_Wirtschaftlichkeit'!$E$44:$L$57,7,FALSE)-HLOOKUP($B$54,'04_Wirtschaftlichkeit'!$E$44:$L$57,5,FALSE)*(1+$B77))","v":-84207.9},{"$f":"G$56*(-HLOOKUP($B$54,'04_Wirtschaftlichkeit'!$E$44:$L$57,7,FALSE)-HLOOKUP($B$54,'04_Wirtschaftlichkeit'!$E$44:$L$57,5,FALSE)*(1+$B77))","v":-84207.9},{"$f":"H$56*(-HLOOKUP($B$54,'04_Wirtschaftlichkeit'!$E$44:$L$57,7,FALSE)-HLOOKUP($B$54,'04_Wirtschaftlichkeit'!$E$44:$L$57,5,FALSE)*(1+$B77))","v":-84207.9},{"$f":"I$56*(-HLOOKUP($B$54,'04_Wirtschaftlichkeit'!$E$44:$L$57,7,FALSE)-HLOOKUP($B$54,'04_Wirtschaftlichkeit'!$E$44:$L$57,5,FALSE)*(1+$B77))","v":-84207.9},{"$f":"J$56*(-HLOOKUP($B$54,'04_Wirtschaftlichkeit'!$E$44:$L$57,7,FALSE)-HLOOKUP($B$54,'04_Wirtschaftlichkeit'!$E$44:$L$57,5,FALSE)*(1+$B77))","v":-84207.9},{"$f":"K$56*(-HLOOKUP($B$54,'04_Wirtschaftlichkeit'!$E$44:$L$57,7,FALSE)-HLOOKUP($B$54,'04_Wirtschaftlichkeit'!$E$44:$L$57,5,FALSE)*(1+$B77))","v":-84207.9},{"$f":"L$56*(-HLOOKUP($B$54,'04_Wirtschaftlichkeit'!$E$44:$L$57,7,FALSE)-HLOOKUP($B$54,'04_Wirtschaftlichkeit'!$E$44:$L$57,5,FALSE)*(1+$B77))","v":-84207.9},{"$f":"M$56*(-HLOOKUP($B$54,'04_Wirtschaftlichkeit'!$E$44:$L$57,7,FALSE)-HLOOKUP($B$54,'04_Wirtschaftlichkeit'!$E$44:$L$57,5,FALSE)*(1+$B77))","v":-84207.9},{"$f":"N$56*(-HLOOKUP($B$54,'04_Wirtschaftlichkeit'!$E$44:$L$57,7,FALSE)-HLOOKUP($B$54,'04_Wirtschaftlichkeit'!$E$44:$L$57,5,FALSE)*(1+$B77))","v":-84207.9},{"$f":"O$56*(-HLOOKUP($B$54,'04_Wirtschaftlichkeit'!$E$44:$L$57,7,FALSE)-HLOOKUP($B$54,'04_Wirtschaftlichkeit'!$E$44:$L$57,5,FALSE)*(1+$B77))","v":-84207.9},{"$f":"P$56*(-HLOOKUP($B$54,'04_Wirtschaftlichkeit'!$E$44:$L$57,7,FALSE)-HLOOKUP($B$54,'04_Wirtschaftlichkeit'!$E$44:$L$57,5,FALSE)*(1+$B77))","v":-84207.9},{"$f":"Q$56*(-HLOOKUP($B$54,'04_Wirtschaftlichkeit'!$E$44:$L$57,7,FALSE)-HLOOKUP($B$54,'04_Wirtschaftlichkeit'!$E$44:$L$57,5,FALSE)*(1+$B77))","v":-84207.9},{"$f":"R$56*(-HLOOKUP($B$54,'04_Wirtschaftlichkeit'!$E$44:$L$57,7,FALSE)-HLOOKUP($B$54,'04_Wirtschaftlichkeit'!$E$44:$L$57,5,FALSE)*(1+$B77))","v":-84207.9},{"$f":"S$56*(-HLOOKUP($B$54,'04_Wirtschaftlichkeit'!$E$44:$L$57,7,FALSE)-HLOOKUP($B$54,'04_Wirtschaftlichkeit'!$E$44:$L$57,5,FALSE)*(1+$B77))","v":-84207.9},{"$f":"T$56*(-HLOOKUP($B$54,'04_Wirtschaftlichkeit'!$E$44:$L$57,7,FALSE)-HLOOKUP($B$54,'04_Wirtschaftlichkeit'!$E$44:$L$57,5,FALSE)*(1+$B77))","v":-84207.9},{"$f":"U$56*(-HLOOKUP($B$54,'04_Wirtschaftlichkeit'!$E$44:$L$57,7,FALSE)-HLOOKUP($B$54,'04_Wirtschaftlichkeit'!$E$44:$L$57,5,FALSE)*(1+$B77))","v":-84207.9},{"$f":"V$56*(-HLOOKUP($B$54,'04_Wirtschaftlichkeit'!$E$44:$L$57,7,FALSE)-HLOOKUP($B$54,'04_Wirtschaftlichkeit'!$E$44:$L$57,5,FALSE)*(1+$B77))","v":-84207.9},{"$f":"W$56*(-HLOOKUP($B$54,'04_Wirtschaftlichkeit'!$E$44:$L$57,7,FALSE)-HLOOKUP($B$54,'04_Wirtschaftlichkeit'!$E$44:$L$57,5,FALSE)*(1+$B77))","v":-84207.9},{"$f":"X$56*(-HLOOKUP($B$54,'04_Wirtschaftlichkeit'!$E$44:$L$57,7,FALSE)-HLOOKUP($B$54,'04_Wirtschaftlichkeit'!$E$44:$L$57,5,FALSE)*(1+$B77))","v":0},{"$f":"Y$56*(-HLOOKUP($B$54,'04_Wirtschaftlichkeit'!$E$44:$L$57,7,FALSE)-HLOOKUP($B$54,'04_Wirtschaftlichkeit'!$E$44:$L$57,5,FALSE)*(1+$B77))","v":0},{"$f":"Z$56*(-HLOOKUP($B$54,'04_Wirtschaftlichkeit'!$E$44:$L$57,7,FALSE)-HLOOKUP($B$54,'04_Wirtschaftlichkeit'!$E$44:$L$57,5,FALSE)*(1+$B77))","v":0},{"$f":"AA$56*(-HLOOKUP($B$54,'04_Wirtschaftlichkeit'!$E$44:$L$57,7,FALSE)-HLOOKUP($B$54,'04_Wirtschaftlichkeit'!$E$44:$L$57,5,FALSE)*(1+$B77))","v":0},{"$f":"AB$56*(-HLOOKUP($B$54,'04_Wirtschaftlichkeit'!$E$44:$L$57,7,FALSE)-HLOOKUP($B$54,'04_Wirtschaftlichkeit'!$E$44:$L$57,5,FALSE)*(1+$B77))","v":0},{"$f":"AC$56*(-HLOOKUP($B$54,'04_Wirtschaftlichkeit'!$E$44:$L$57,7,FALSE)-HLOOKUP($B$54,'04_Wirtschaftlichkeit'!$E$44:$L$57,5,FALSE)*(1+$B77))","v":0},{"$f":"AD$56*(-HLOOKUP($B$54,'04_Wirtschaftlichkeit'!$E$44:$L$57,7,FALSE)-HLOOKUP($B$54,'04_Wirtschaftlichkeit'!$E$44:$L$57,5,FALSE)*(1+$B77))","v":0},{"$f":"AE$56*(-HLOOKUP($B$54,'04_Wirtschaftlichkeit'!$E$44:$L$57,7,FALSE)-HLOOKUP($B$54,'04_Wirtschaftlichkeit'!$E$44:$L$57,5,FALSE)*(1+$B77))","v":0},{"$f":"AF$56*(-HLOOKUP($B$54,'04_Wirtschaftlichkeit'!$E$44:$L$57,7,FALSE)-HLOOKUP($B$54,'04_Wirtschaftlichkeit'!$E$44:$L$57,5,FALSE)*(1+$B77))","v":0},{"$f":"AG$56*(-HLOOKUP($B$54,'04_Wirtschaftlichkeit'!$E$44:$L$57,7,FALSE)-HLOOKUP($B$54,'04_Wirtschaftlichkeit'!$E$44:$L$57,5,FALSE)*(1+$B77))","v":0},{"$f":"AH$56*(-HLOOKUP($B$54,'04_Wirtschaftlichkeit'!$E$44:$L$57,7,FALSE)-HLOOKUP($B$54,'04_Wirtschaftlichkeit'!$E$44:$L$57,5,FALSE)*(1+$B77))","v":0},{"$f":"AI$56*(-HLOOKUP($B$54,'04_Wirtschaftlichkeit'!$E$44:$L$57,7,FALSE)-HLOOKUP($B$54,'04_Wirtschaftlichkeit'!$E$44:$L$57,5,FALSE)*(1+$B77))","v":0},{"$f":"AJ$56*(-HLOOKUP($B$54,'04_Wirtschaftlichkeit'!$E$44:$L$57,7,FALSE)-HLOOKUP($B$54,'04_Wirtschaftlichkeit'!$E$44:$L$57,5,FALSE)*(1+$B77))","v":0},{"$f":"AK$56*(-HLOOKUP($B$54,'04_Wirtschaftlichkeit'!$E$44:$L$57,7,FALSE)-HLOOKUP($B$54,'04_Wirtschaftlichkeit'!$E$44:$L$57,5,FALSE)*(1+$B77))","v":0},{"$f":"AL$56*(-HLOOKUP($B$54,'04_Wirtschaftlichkeit'!$E$44:$L$57,7,FALSE)-HLOOKUP($B$54,'04_Wirtschaftlichkeit'!$E$44:$L$57,5,FALSE)*(1+$B77))","v":0},{"$f":"AM$56*(-HLOOKUP($B$54,'04_Wirtschaftlichkeit'!$E$44:$L$57,7,FALSE)-HLOOKUP($B$54,'04_Wirtschaftlichkeit'!$E$44:$L$57,5,FALSE)*(1+$B77))","v":0},{"$f":"AN$56*(-HLOOKUP($B$54,'04_Wirtschaftlichkeit'!$E$44:$L$57,7,FALSE)-HLOOKUP($B$54,'04_Wirtschaftlichkeit'!$E$44:$L$57,5,FALSE)*(1+$B77))","v":0},{"$f":"AO$56*(-HLOOKUP($B$54,'04_Wirtschaftlichkeit'!$E$44:$L$57,7,FALSE)-HLOOKUP($B$54,'04_Wirtschaftlichkeit'!$E$44:$L$57,5,FALSE)*(1+$B77))","v":0},{"$f":"AP$56*(-HLOOKUP($B$54,'04_Wirtschaftlichkeit'!$E$44:$L$57,7,FALSE)-HLOOKUP($B$54,'04_Wirtschaftlichkeit'!$E$44:$L$57,5,FALSE)*(1+$B77))","v":0},{"$f":"AQ$56*(-HLOOKUP($B$54,'04_Wirtschaftlichkeit'!$E$44:$L$57,7,FALSE)-HLOOKUP($B$54,'04_Wirtschaftlichkeit'!$E$44:$L$57,5,FALSE)*(1+$B77))","v":0},{"$f":"AR$56*(-HLOOKUP($B$54,'04_Wirtschaftlichkeit'!$E$44:$L$57,7,FALSE)-HLOOKUP($B$54,'04_Wirtschaftlichkeit'!$E$44:$L$57,5,FALSE)*(1+$B77))","v":0},{"$f":"AS$56*(-HLOOKUP($B$54,'04_Wirtschaftlichkeit'!$E$44:$L$57,7,FALSE)-HLOOKUP($B$54,'04_Wirtschaftlichkeit'!$E$44:$L$57,5,FALSE)*(1+$B77))","v":0},{"$f":"AT$56*(-HLOOKUP($B$54,'04_Wirtschaftlichkeit'!$E$44:$L$57,7,FALSE)-HLOOKUP($B$54,'04_Wirtschaftlichkeit'!$E$44:$L$57,5,FALSE)*(1+$B77))","v":0},{"$f":"AU$56*(-HLOOKUP($B$54,'04_Wirtschaftlichkeit'!$E$44:$L$57,7,FALSE)-HLOOKUP($B$54,'04_Wirtschaftlichkeit'!$E$44:$L$57,5,FALSE)*(1+$B77))","v":0},{"$f":"AV$56*(-HLOOKUP($B$54,'04_Wirtschaftlichkeit'!$E$44:$L$57,7,FALSE)-HLOOKUP($B$54,'04_Wirtschaftlichkeit'!$E$44:$L$57,5,FALSE)*(1+$B77))","v":0},{"$f":"AW$56*(-HLOOKUP($B$54,'04_Wirtschaftlichkeit'!$E$44:$L$57,7,FALSE)-HLOOKUP($B$54,'04_Wirtschaftlichkeit'!$E$44:$L$57,5,FALSE)*(1+$B77))","v":0},{"$f":"AX$56*(-HLOOKUP($B$54,'04_Wirtschaftlichkeit'!$E$44:$L$57,7,FALSE)-HLOOKUP($B$54,'04_Wirtschaftlichkeit'!$E$44:$L$57,5,FALSE)*(1+$B77))","v":0},{"$f":"AY$56*(-HLOOKUP($B$54,'04_Wirtschaftlichkeit'!$E$44:$L$57,7,FALSE)-HLOOKUP($B$54,'04_Wirtschaftlichkeit'!$E$44:$L$57,5,FALSE)*(1+$B77))","v":0},{"$f":"AZ$56*(-HLOOKUP($B$54,'04_Wirtschaftlichkeit'!$E$44:$L$57,7,FALSE)-HLOOKUP($B$54,'04_Wirtschaftlichkeit'!$E$44:$L$57,5,FALSE)*(1+$B77))","v":0},{"$f":"BA$56*(-HLOOKUP($B$54,'04_Wirtschaftlichkeit'!$E$44:$L$57,7,FALSE)-HLOOKUP($B$54,'04_Wirtschaftlichkeit'!$E$44:$L$57,5,FALSE)*(1+$B77))","v":0}]
[null,0.1,{"$f":"-HLOOKUP($B$54,'04_Wirtschaftlichkeit'!$E$44:$L$57,6,FALSE)","v":-1057830.7168757692},{"$f":"D$56*(-HLOOKUP($B$54,'04_Wirtschaftlichkeit'!$E$44:$L$57,7,FALSE)-HLOOKUP($B$54,'04_Wirtschaftlichkeit'!$E$44:$L$57,5,FALSE)*(1+$B78))","v":-84259.79},{"$f":"E$56*(-HLOOKUP($B$54,'04_Wirtschaftlichkeit'!$E$44:$L$57,7,FALSE)-HLOOKUP($B$54,'04_Wirtschaftlichkeit'!$E$44:$L$57,5,FALSE)*(1+$B78))","v":-84259.79},{"$f":"F$56*(-HLOOKUP($B$54,'04_Wirtschaftlichkeit'!$E$44:$L$57,7,FALSE)-HLOOKUP($B$54,'04_Wirtschaftlichkeit'!$E$44:$L$57,5,FALSE)*(1+$B78))","v":-84259.79},{"$f":"G$56*(-HLOOKUP($B$54,'04_Wirtschaftlichkeit'!$E$44:$L$57,7,FALSE)-HLOOKUP($B$54,'04_Wirtschaftlichkeit'!$E$44:$L$57,5,FALSE)*(1+$B78))","v":-84259.79},{"$f":"H$56*(-HLOOKUP($B$54,'04_Wirtschaftlichkeit'!$E$44:$L$57,7,FALSE)-HLOOKUP($B$54,'04_Wirtschaftlichkeit'!$E$44:$L$57,5,FALSE)*(1+$B78))","v":-84259.79},{"$f":"I$56*(-HLOOKUP($B$54,'04_Wirtschaftlichkeit'!$E$44:$L$57,7,FALSE)-HLOOKUP($B$54,'04_Wirtschaftlichkeit'!$E$44:$L$57,5,FALSE)*(1+$B78))","v":-84259.79},{"$f":"J$56*(-HLOOKUP($B$54,'04_Wirtschaftlichkeit'!$E$44:$L$57,7,FALSE)-HLOOKUP($B$54,'04_Wirtschaftlichkeit'!$E$44:$L$57,5,FALSE)*(1+$B78))","v":-84259.79},{"$f":"K$56*(-HLOOKUP($B$54,'04_Wirtschaftlichkeit'!$E$44:$L$57,7,FALSE)-HLOOKUP($B$54,'04_Wirtschaftlichkeit'!$E$44:$L$57,5,FALSE)*(1+$B78))","v":-84259.79},{"$f":"L$56*(-HLOOKUP($B$54,'04_Wirtschaftlichkeit'!$E$44:$L$57,7,FALSE)-HLOOKUP($B$54,'04_Wirtschaftlichkeit'!$E$44:$L$57,5,FALSE)*(1+$B78))","v":-84259.79},{"$f":"M$56*(-HLOOKUP($B$54,'04_Wirtschaftlichkeit'!$E$44:$L$57,7,FALSE)-HLOOKUP($B$54,'04_Wirtschaftlichkeit'!$E$44:$L$57,5,FALSE)*(1+$B78))","v":-84259.79},{"$f":"N$56*(-HLOOKUP($B$54,'04_Wirtschaftlichkeit'!$E$44:$L$57,7,FALSE)-HLOOKUP($B$54,'04_Wirtschaftlichkeit'!$E$44:$L$57,5,FALSE)*(1+$B78))","v":-84259.79},{"$f":"O$56*(-HLOOKUP($B$54,'04_Wirtschaftlichkeit'!$E$44:$L$57,7,FALSE)-HLOOKUP($B$54,'04_Wirtschaftlichkeit'!$E$44:$L$57,5,FALSE)*(1+$B78))","v":-84259.79},{"$f":"P$56*(-HLOOKUP($B$54,'04_Wirtschaftlichkeit'!$E$44:$L$57,7,FALSE)-HLOOKUP($B$54,'04_Wirtschaftlichkeit'!$E$44:$L$57,5,FALSE)*(1+$B78))","v":-84259.79},{"$f":"Q$56*(-HLOOKUP($B$54,'04_Wirtschaftlichkeit'!$E$44:$L$57,7,FALSE)-HLOOKUP($B$54,'04_Wirtschaftlichkeit'!$E$44:$L$57,5,FALSE)*(1+$B78))","v":-84259.79},{"$f":"R$56*(-HLOOKUP($B$54,'04_Wirtschaftlichkeit'!$E$44:$L$57,7,FALSE)-HLOOKUP($B$54,'04_Wirtschaftlichkeit'!$E$44:$L$57,5,FALSE)*(1+$B78))","v":-84259.79},{"$f":"S$56*(-HLOOKUP($B$54,'04_Wirtschaftlichkeit'!$E$44:$L$57,7,FALSE)-HLOOKUP($B$54,'04_Wirtschaftlichkeit'!$E$44:$L$57,5,FALSE)*(1+$B78))","v":-84259.79},{"$f":"T$56*(-HLOOKUP($B$54,'04_Wirtschaftlichkeit'!$E$44:$L$57,7,FALSE)-HLOOKUP($B$54,'04_Wirtschaftlichkeit'!$E$44:$L$57,5,FALSE)*(1+$B78))","v":-84259.79},{"$f":"U$56*(-HLOOKUP($B$54,'04_Wirtschaftlichkeit'!$E$44:$L$57,7,FALSE)-HLOOKUP($B$54,'04_Wirtschaftlichkeit'!$E$44:$L$57,5,FALSE)*(1+$B78))","v":-84259.79},{"$f":"V$56*(-HLOOKUP($B$54,'04_Wirtschaftlichkeit'!$E$44:$L$57,7,FALSE)-HLOOKUP($B$54,'04_Wirtschaftlichkeit'!$E$44:$L$57,5,FALSE)*(1+$B78))","v":-84259.79},{"$f":"W$56*(-HLOOKUP($B$54,'04_Wirtschaftlichkeit'!$E$44:$L$57,7,FALSE)-HLOOKUP($B$54,'04_Wirtschaftlichkeit'!$E$44:$L$57,5,FALSE)*(1+$B78))","v":-84259.79},{"$f":"X$56*(-HLOOKUP($B$54,'04_Wirtschaftlichkeit'!$E$44:$L$57,7,FALSE)-HLOOKUP($B$54,'04_Wirtschaftlichkeit'!$E$44:$L$57,5,FALSE)*(1+$B78))","v":0},{"$f":"Y$56*(-HLOOKUP($B$54,'04_Wirtschaftlichkeit'!$E$44:$L$57,7,FALSE)-HLOOKUP($B$54,'04_Wirtschaftlichkeit'!$E$44:$L$57,5,FALSE)*(1+$B78))","v":0},{"$f":"Z$56*(-HLOOKUP($B$54,'04_Wirtschaftlichkeit'!$E$44:$L$57,7,FALSE)-HLOOKUP($B$54,'04_Wirtschaftlichkeit'!$E$44:$L$57,5,FALSE)*(1+$B78))","v":0},{"$f":"AA$56*(-HLOOKUP($B$54,'04_Wirtschaftlichkeit'!$E$44:$L$57,7,FALSE)-HLOOKUP($B$54,'04_Wirtschaftlichkeit'!$E$44:$L$57,5,FALSE)*(1+$B78))","v":0},{"$f":"AB$56*(-HLOOKUP($B$54,'04_Wirtschaftlichkeit'!$E$44:$L$57,7,FALSE)-HLOOKUP($B$54,'04_Wirtschaftlichkeit'!$E$44:$L$57,5,FALSE)*(1+$B78))","v":0},{"$f":"AC$56*(-HLOOKUP($B$54,'04_Wirtschaftlichkeit'!$E$44:$L$57,7,FALSE)-HLOOKUP($B$54,'04_Wirtschaftlichkeit'!$E$44:$L$57,5,FALSE)*(1+$B78))","v":0},{"$f":"AD$56*(-HLOOKUP($B$54,'04_Wirtschaftlichkeit'!$E$44:$L$57,7,FALSE)-HLOOKUP($B$54,'04_Wirtschaftlichkeit'!$E$44:$L$57,5,FALSE)*(1+$B78))","v":0},{"$f":"AE$56*(-HLOOKUP($B$54,'04_Wirtschaftlichkeit'!$E$44:$L$57,7,FALSE)-HLOOKUP($B$54,'04_Wirtschaftlichkeit'!$E$44:$L$57,5,FALSE)*(1+$B78))","v":0},{"$f":"AF$56*(-HLOOKUP($B$54,'04_Wirtschaftlichkeit'!$E$44:$L$57,7,FALSE)-HLOOKUP($B$54,'04_Wirtschaftlichkeit'!$E$44:$L$57,5,FALSE)*(1+$B78))","v":0},{"$f":"AG$56*(-HLOOKUP($B$54,'04_Wirtschaftlichkeit'!$E$44:$L$57,7,FALSE)-HLOOKUP($B$54,'04_Wirtschaftlichkeit'!$E$44:$L$57,5,FALSE)*(1+$B78))","v":0},{"$f":"AH$56*(-HLOOKUP($B$54,'04_Wirtschaftlichkeit'!$E$44:$L$57,7,FALSE)-HLOOKUP($B$54,'04_Wirtschaftlichkeit'!$E$44:$L$57,5,FALSE)*(1+$B78))","v":0},{"$f":"AI$56*(-HLOOKUP($B$54,'04_Wirtschaftlichkeit'!$E$44:$L$57,7,FALSE)-HLOOKUP($B$54,'04_Wirtschaftlichkeit'!$E$44:$L$57,5,FALSE)*(1+$B78))","v":0},{"$f":"AJ$56*(-HLOOKUP($B$54,'04_Wirtschaftlichkeit'!$E$44:$L$57,7,FALSE)-HLOOKUP($B$54,'04_Wirtschaftlichkeit'!$E$44:$L$57,5,FALSE)*(1+$B78))","v":0},{"$f":"AK$56*(-HLOOKUP($B$54,'04_Wirtschaftlichkeit'!$E$44:$L$57,7,FALSE)-HLOOKUP($B$54,'04_Wirtschaftlichkeit'!$E$44:$L$57,5,FALSE)*(1+$B78))","v":0},{"$f":"AL$56*(-HLOOKUP($B$54,'04_Wirtschaftlichkeit'!$E$44:$L$57,7,FALSE)-HLOOKUP($B$54,'04_Wirtschaftlichkeit'!$E$44:$L$57,5,FALSE)*(1+$B78))","v":0},{"$f":"AM$56*(-HLOOKUP($B$54,'04_Wirtschaftlichkeit'!$E$44:$L$57,7,FALSE)-HLOOKUP($B$54,'04_Wirtschaftlichkeit'!$E$44:$L$57,5,FALSE)*(1+$B78))","v":0},{"$f":"AN$56*(-HLOOKUP($B$54,'04_Wirtschaftlichkeit'!$E$44:$L$57,7,FALSE)-HLOOKUP($B$54,'04_Wirtschaftlichkeit'!$E$44:$L$57,5,FALSE)*(1+$B78))","v":0},{"$f":"AO$56*(-HLOOKUP($B$54,'04_Wirtschaftlichkeit'!$E$44:$L$57,7,FALSE)-HLOOKUP($B$54,'04_Wirtschaftlichkeit'!$E$44:$L$57,5,FALSE)*(1+$B78))","v":0},{"$f":"AP$56*(-HLOOKUP($B$54,'04_Wirtschaftlichkeit'!$E$44:$L$57,7,FALSE)-HLOOKUP($B$54,'04_Wirtschaftlichkeit'!$E$44:$L$57,5,FALSE)*(1+$B78))","v":0},{"$f":"AQ$56*(-HLOOKUP($B$54,'04_Wirtschaftlichkeit'!$E$44:$L$57,7,FALSE)-HLOOKUP($B$54,'04_Wirtschaftlichkeit'!$E$44:$L$57,5,FALSE)*(1+$B78))","v":0},{"$f":"AR$56*(-HLOOKUP($B$54,'04_Wirtschaftlichkeit'!$E$44:$L$57,7,FALSE)-HLOOKUP($B$54,'04_Wirtschaftlichkeit'!$E$44:$L$57,5,FALSE)*(1+$B78))","v":0},{"$f":"AS$56*(-HLOOKUP($B$54,'04_Wirtschaftlichkeit'!$E$44:$L$57,7,FALSE)-HLOOKUP($B$54,'04_Wirtschaftlichkeit'!$E$44:$L$57,5,FALSE)*(1+$B78))","v":0},{"$f":"AT$56*(-HLOOKUP($B$54,'04_Wirtschaftlichkeit'!$E$44:$L$57,7,FALSE)-HLOOKUP($B$54,'04_Wirtschaftlichkeit'!$E$44:$L$57,5,FALSE)*(1+$B78))","v":0},{"$f":"AU$56*(-HLOOKUP($B$54,'04_Wirtschaftlichkeit'!$E$44:$L$57,7,FALSE)-HLOOKUP($B$54,'04_Wirtschaftlichkeit'!$E$44:$L$57,5,FALSE)*(1+$B78))","v":0},{"$f":"AV$56*(-HLOOKUP($B$54,'04_Wirtschaftlichkeit'!$E$44:$L$57,7,FALSE)-HLOOKUP($B$54,'04_Wirtschaftlichkeit'!$E$44:$L$57,5,FALSE)*(1+$B78))","v":0},{"$f":"AW$56*(-HLOOKUP($B$54,'04_Wirtschaftlichkeit'!$E$44:$L$57,7,FALSE)-HLOOKUP($B$54,'04_Wirtschaftlichkeit'!$E$44:$L$57,5,FALSE)*(1+$B78))","v":0},{"$f":"AX$56*(-HLOOKUP($B$54,'04_Wirtschaftlichkeit'!$E$44:$L$57,7,FALSE)-HLOOKUP($B$54,'04_Wirtschaftlichkeit'!$E$44:$L$57,5,FALSE)*(1+$B78))","v":0},{"$f":"AY$56*(-HLOOKUP($B$54,'04_Wirtschaftlichkeit'!$E$44:$L$57,7,FALSE)-HLOOKUP($B$54,'04_Wirtschaftlichkeit'!$E$44:$L$57,5,FALSE)*(1+$B78))","v":0},{"$f":"AZ$56*(-HLOOKUP($B$54,'04_Wirtschaftlichkeit'!$E$44:$L$57,7,FALSE)-HLOOKUP($B$54,'04_Wirtschaftlichkeit'!$E$44:$L$57,5,FALSE)*(1+$B78))","v":0},{"$f":"BA$56*(-HLOOKUP($B$54,'04_Wirtschaftlichkeit'!$E$44:$L$57,7,FALSE)-HLOOKUP($B$54,'04_Wirtschaftlichkeit'!$E$44:$L$57,5,FALSE)*(1+$B78))","v":0}]
[null,0.2,{"$f":"-HLOOKUP($B$54,'04_Wirtschaftlichkeit'!$E$44:$L$57,6,FALSE)","v":-1057830.7168757692},{"$f":"D$56*(-HLOOKUP($B$54,'04_Wirtschaftlichkeit'!$E$44:$L$57,7,FALSE)-HLOOKUP($B$54,'04_Wirtschaftlichkeit'!$E$44:$L$57,5,FALSE)*(1+$B79))","v":-84311.679999999993},{"$f":"E$56*(-HLOOKUP($B$54,'04_Wirtschaftlichkeit'!$E$44:$L$57,7,FALSE)-HLOOKUP($B$54,'04_Wirtschaftlichkeit'!$E$44:$L$57,5,FALSE)*(1+$B79))","v":-84311.679999999993},{"$f":"F$56*(-HLOOKUP($B$54,'04_Wirtschaftlichkeit'!$E$44:$L$57,7,FALSE)-HLOOKUP($B$54,'04_Wirtschaftlichkeit'!$E$44:$L$57,5,FALSE)*(1+$B79))","v":-84311.679999999993},{"$f":"G$56*(-HLOOKUP($B$54,'04_Wirtschaftlichkeit'!$E$44:$L$57,7,FALSE)-HLOOKUP($B$54,'04_Wirtschaftlichkeit'!$E$44:$L$57,5,FALSE)*(1+$B79))","v":-84311.679999999993},{"$f":"H$56*(-HLOOKUP($B$54,'04_Wirtschaftlichkeit'!$E$44:$L$57,7,FALSE)-HLOOKUP($B$54,'04_Wirtschaftlichkeit'!$E$44:$L$57,5,FALSE)*(1+$B79))","v":-84311.679999999993},{"$f":"I$56*(-HLOOKUP($B$54,'04_Wirtschaftlichkeit'!$E$44:$L$57,7,FALSE)-HLOOKUP($B$54,'04_Wirtschaftlichkeit'!$E$44:$L$57,5,FALSE)*(1+$B79))","v":-84311.679999999993},{"$f":"J$56*(-HLOOKUP($B$54,'04_Wirtschaftlichkeit'!$E$44:$L$57,7,FALSE)-HLOOKUP($B$54,'04_Wirtschaftlichkeit'!$E$44:$L$57,5,FALSE)*(1+$B79))","v":-84311.679999999993},{"$f":"K$56*(-HLOOKUP($B$54,'04_Wirtschaftlichkeit'!$E$44:$L$57,7,FALSE)-HLOOKUP($B$54,'04_Wirtschaftlichkeit'!$E$44:$L$57,5,FALSE)*(1+$B79))","v":-84311.679999999993},{"$f":"L$56*(-HLOOKUP($B$54,'04_Wirtschaftlichkeit'!$E$44:$L$57,7,FALSE)-HLOOKUP($B$54,'04_Wirtschaftlichkeit'!$E$44:$L$57,5,FALSE)*(1+$B79))","v":-84311.679999999993},{"$f":"M$56*(-HLOOKUP($B$54,'04_Wirtschaftlichkeit'!$E$44:$L$57,7,FALSE)-HLOOKUP($B$54,'04_Wirtschaftlichkeit'!$E$44:$L$57,5,FALSE)*(1+$B79))","v":-84311.679999999993},{"$f":"N$56*(-HLOOKUP($B$54,'04_Wirtschaftlichkeit'!$E$44:$L$57,7,FALSE)-HLOOKUP($B$54,'04_Wirtschaftlichkeit'!$E$44:$L$57,5,FALSE)*(1+$B79))","v":-84311.679999999993},{"$f":"O$56*(-HLOOKUP($B$54,'04_Wirtschaftlichkeit'!$E$44:$L$57,7,FALSE)-HLOOKUP($B$54,'04_Wirtschaftlichkeit'!$E$44:$L$57,5,FALSE)*(1+$B79))","v":-84311.679999999993},{"$f":"P$56*(-HLOOKUP($B$54,'04_Wirtschaftlichkeit'!$E$44:$L$57,7,FALSE)-HLOOKUP($B$54,'04_Wirtschaftlichkeit'!$E$44:$L$57,5,FALSE)*(1+$B79))","v":-84311.679999999993},{"$f":"Q$56*(-HLOOKUP($B$54,'04_Wirtschaftlichkeit'!$E$44:$L$57,7,FALSE)-HLOOKUP($B$54,'04_Wirtschaftlichkeit'!$E$44:$L$57,5,FALSE)*(1+$B79))","v":-84311.679999999993},{"$f":"R$56*(-HLOOKUP($B$54,'04_Wirtschaftlichkeit'!$E$44:$L$57,7,FALSE)-HLOOKUP($B$54,'04_Wirtschaftlichkeit'!$E$44:$L$57,5,FALSE)*(1+$B79))","v":-84311.679999999993},{"$f":"S$56*(-HLOOKUP($B$54,'04_Wirtschaftlichkeit'!$E$44:$L$57,7,FALSE)-HLOOKUP($B$54,'04_Wirtschaftlichkeit'!$E$44:$L$57,5,FALSE)*(1+$B79))","v":-84311.679999999993},{"$f":"T$56*(-HLOOKUP($B$54,'04_Wirtschaftlichkeit'!$E$44:$L$57,7,FALSE)-HLOOKUP($B$54,'04_Wirtschaftlichkeit'!$E$44:$L$57,5,FALSE)*(1+$B79))","v":-84311.679999999993},{"$f":"U$56*(-HLOOKUP($B$54,'04_Wirtschaftlichkeit'!$E$44:$L$57,7,FALSE)-HLOOKUP($B$54,'04_Wirtschaftlichkeit'!$E$44:$L$57,5,FALSE)*(1+$B79))","v":-84311.679999999993},{"$f":"V$56*(-HLOOKUP($B$54,'04_Wirtschaftlichkeit'!$E$44:$L$57,7,FALSE)-HLOOKUP($B$54,'04_Wirtschaftlichkeit'!$E$44:$L$57,5,FALSE)*(1+$B79))","v":-84311.679999999993},{"$f":"W$56*(-HLOOKUP($B$54,'04_Wirtschaftlichkeit'!$E$44:$L$57,7,FALSE)-HLOOKUP($B$54,'04_Wirtschaftlichkeit'!$E$44:$L$57,5,FALSE)*(1+$B79))","v":-84311.679999999993},{"$f":"X$56*(-HLOOKUP($B$54,'04_Wirtschaftlichkeit'!$E$44:$L$57,7,FALSE)-HLOOKUP($B$54,'04_Wirtschaftlichkeit'!$E$44:$L$57,5,FALSE)*(1+$B79))","v":0},{"$f":"Y$56*(-HLOOKUP($B$54,'04_Wirtschaftlichkeit'!$E$44:$L$57,7,FALSE)-HLOOKUP($B$54,'04_Wirtschaftlichkeit'!$E$44:$L$57,5,FALSE)*(1+$B79))","v":0},{"$f":"Z$56*(-HLOOKUP($B$54,'04_Wirtschaftlichkeit'!$E$44:$L$57,7,FALSE)-HLOOKUP($B$54,'04_Wirtschaftlichkeit'!$E$44:$L$57,5,FALSE)*(1+$B79))","v":0},{"$f":"AA$56*(-HLOOKUP($B$54,'04_Wirtschaftlichkeit'!$E$44:$L$57,7,FALSE)-HLOOKUP($B$54,'04_Wirtschaftlichkeit'!$E$44:$L$57,5,FALSE)*(1+$B79))","v":0},{"$f":"AB$56*(-HLOOKUP($B$54,'04_Wirtschaftlichkeit'!$E$44:$L$57,7,FALSE)-HLOOKUP($B$54,'04_Wirtschaftlichkeit'!$E$44:$L$57,5,FALSE)*(1+$B79))","v":0},{"$f":"AC$56*(-HLOOKUP($B$54,'04_Wirtschaftlichkeit'!$E$44:$L$57,7,FALSE)-HLOOKUP($B$54,'04_Wirtschaftlichkeit'!$E$44:$L$57,5,FALSE)*(1+$B79))","v":0},{"$f":"AD$56*(-HLOOKUP($B$54,'04_Wirtschaftlichkeit'!$E$44:$L$57,7,FALSE)-HLOOKUP($B$54,'04_Wirtschaftlichkeit'!$E$44:$L$57,5,FALSE)*(1+$B79))","v":0},{"$f":"AE$56*(-HLOOKUP($B$54,'04_Wirtschaftlichkeit'!$E$44:$L$57,7,FALSE)-HLOOKUP($B$54,'04_Wirtschaftlichkeit'!$E$44:$L$57,5,FALSE)*(1+$B79))","v":0},{"$f":"AF$56*(-HLOOKUP($B$54,'04_Wirtschaftlichkeit'!$E$44:$L$57,7,FALSE)-HLOOKUP($B$54,'04_Wirtschaftlichkeit'!$E$44:$L$57,5,FALSE)*(1+$B79))","v":0},{"$f":"AG$56*(-HLOOKUP($B$54,'04_Wirtschaftlichkeit'!$E$44:$L$57,7,FALSE)-HLOOKUP($B$54,'04_Wirtschaftlichkeit'!$E$44:$L$57,5,FALSE)*(1+$B79))","v":0},{"$f":"AH$56*(-HLOOKUP($B$54,'04_Wirtschaftlichkeit'!$E$44:$L$57,7,FALSE)-HLOOKUP($B$54,'04_Wirtschaftlichkeit'!$E$44:$L$57,5,FALSE)*(1+$B79))","v":0},{"$f":"AI$56*(-HLOOKUP($B$54,'04_Wirtschaftlichkeit'!$E$44:$L$57,7,FALSE)-HLOOKUP($B$54,'04_Wirtschaftlichkeit'!$E$44:$L$57,5,FALSE)*(1+$B79))","v":0},{"$f":"AJ$56*(-HLOOKUP($B$54,'04_Wirtschaftlichkeit'!$E$44:$L$57,7,FALSE)-HLOOKUP($B$54,'04_Wirtschaftlichkeit'!$E$44:$L$57,5,FALSE)*(1+$B79))","v":0},{"$f":"AK$56*(-HLOOKUP($B$54,'04_Wirtschaftlichkeit'!$E$44:$L$57,7,FALSE)-HLOOKUP($B$54,'04_Wirtschaftlichkeit'!$E$44:$L$57,5,FALSE)*(1+$B79))","v":0},{"$f":"AL$56*(-HLOOKUP($B$54,'04_Wirtschaftlichkeit'!$E$44:$L$57,7,FALSE)-HLOOKUP($B$54,'04_Wirtschaftlichkeit'!$E$44:$L$57,5,FALSE)*(1+$B79))","v":0},{"$f":"AM$56*(-HLOOKUP($B$54,'04_Wirtschaftlichkeit'!$E$44:$L$57,7,FALSE)-HLOOKUP($B$54,'04_Wirtschaftlichkeit'!$E$44:$L$57,5,FALSE)*(1+$B79))","v":0},{"$f":"AN$56*(-HLOOKUP($B$54,'04_Wirtschaftlichkeit'!$E$44:$L$57,7,FALSE)-HLOOKUP($B$54,'04_Wirtschaftlichkeit'!$E$44:$L$57,5,FALSE)*(1+$B79))","v":0},{"$f":"AO$56*(-HLOOKUP($B$54,'04_Wirtschaftlichkeit'!$E$44:$L$57,7,FALSE)-HLOOKUP($B$54,'04_Wirtschaftlichkeit'!$E$44:$L$57,5,FALSE)*(1+$B79))","v":0},{"$f":"AP$56*(-HLOOKUP($B$54,'04_Wirtschaftlichkeit'!$E$44:$L$57,7,FALSE)-HLOOKUP($B$54,'04_Wirtschaftlichkeit'!$E$44:$L$57,5,FALSE)*(1+$B79))","v":0},{"$f":"AQ$56*(-HLOOKUP($B$54,'04_Wirtschaftlichkeit'!$E$44:$L$57,7,FALSE)-HLOOKUP($B$54,'04_Wirtschaftlichkeit'!$E$44:$L$57,5,FALSE)*(1+$B79))","v":0},{"$f":"AR$56*(-HLOOKUP($B$54,'04_Wirtschaftlichkeit'!$E$44:$L$57,7,FALSE)-HLOOKUP($B$54,'04_Wirtschaftlichkeit'!$E$44:$L$57,5,FALSE)*(1+$B79))","v":0},{"$f":"AS$56*(-HLOOKUP($B$54,'04_Wirtschaftlichkeit'!$E$44:$L$57,7,FALSE)-HLOOKUP($B$54,'04_Wirtschaftlichkeit'!$E$44:$L$57,5,FALSE)*(1+$B79))","v":0},{"$f":"AT$56*(-HLOOKUP($B$54,'04_Wirtschaftlichkeit'!$E$44:$L$57,7,FALSE)-HLOOKUP($B$54,'04_Wirtschaftlichkeit'!$E$44:$L$57,5,FALSE)*(1+$B79))","v":0},{"$f":"AU$56*(-HLOOKUP($B$54,'04_Wirtschaftlichkeit'!$E$44:$L$57,7,FALSE)-HLOOKUP($B$54,'04_Wirtschaftlichkeit'!$E$44:$L$57,5,FALSE)*(1+$B79))","v":0},{"$f":"AV$56*(-HLOOKUP($B$54,'04_Wirtschaftlichkeit'!$E$44:$L$57,7,FALSE)-HLOOKUP($B$54,'04_Wirtschaftlichkeit'!$E$44:$L$57,5,FALSE)*(1+$B79))","v":0},{"$f":"AW$56*(-HLOOKUP($B$54,'04_Wirtschaftlichkeit'!$E$44:$L$57,7,FALSE)-HLOOKUP($B$54,'04_Wirtschaftlichkeit'!$E$44:$L$57,5,FALSE)*(1+$B79))","v":0},{"$f":"AX$56*(-HLOOKUP($B$54,'04_Wirtschaftlichkeit'!$E$44:$L$57,7,FALSE)-HLOOKUP($B$54,'04_Wirtschaftlichkeit'!$E$44:$L$57,5,FALSE)*(1+$B79))","v":0},{"$f":"AY$56*(-HLOOKUP($B$54,'04_Wirtschaftlichkeit'!$E$44:$L$57,7,FALSE)-HLOOKUP($B$54,'04_Wirtschaftlichkeit'!$E$44:$L$57,5,FALSE)*(1+$B79))","v":0},{"$f":"AZ$56*(-HLOOKUP($B$54,'04_Wirtschaftlichkeit'!$E$44:$L$57,7,FALSE)-HLOOKUP($B$54,'04_Wirtschaftlichkeit'!$E$44:$L$57,5,FALSE)*(1+$B79))","v":0},{"$f":"BA$56*(-HLOOKUP($B$54,'04_Wirtschaftlichkeit'!$E$44:$L$57,7,FALSE)-HLOOKUP($B$54,'04_Wirtschaftlichkeit'!$E$44:$L$57,5,FALSE)*(1+$B79))","v":0}]
[null,0.3,{"$f":"-HLOOKUP($B$54,'04_Wirtschaftlichkeit'!$E$44:$L$57,6,FALSE)","v":-1057830.7168757692},{"$f":"D$56*(-HLOOKUP($B$54,'04_Wirtschaftlichkeit'!$E$44:$L$57,7,FALSE)-HLOOKUP($B$54,'04_Wirtschaftlichkeit'!$E$44:$L$57,5,FALSE)*(1+$B80))","v":-84363.57},{"$f":"E$56*(-HLOOKUP($B$54,'04_Wirtschaftlichkeit'!$E$44:$L$57,7,FALSE)-HLOOKUP($B$54,'04_Wirtschaftlichkeit'!$E$44:$L$57,5,FALSE)*(1+$B80))","v":-84363.57},{"$f":"F$56*(-HLOOKUP($B$54,'04_Wirtschaftlichkeit'!$E$44:$L$57,7,FALSE)-HLOOKUP($B$54,'04_Wirtschaftlichkeit'!$E$44:$L$57,5,FALSE)*(1+$B80))","v":-84363.57},{"$f":"G$56*(-HLOOKUP($B$54,'04_Wirtschaftlichkeit'!$E$44:$L$57,7,FALSE)-HLOOKUP($B$54,'04_Wirtschaftlichkeit'!$E$44:$L$57,5,FALSE)*(1+$B80))","v":-84363.57},{"$f":"H$56*(-HLOOKUP($B$54,'04_Wirtschaftlichkeit'!$E$44:$L$57,7,FALSE)-HLOOKUP($B$54,'04_Wirtschaftlichkeit'!$E$44:$L$57,5,FALSE)*(1+$B80))","v":-84363.57},{"$f":"I$56*(-HLOOKUP($B$54,'04_Wirtschaftlichkeit'!$E$44:$L$57,7,FALSE)-HLOOKUP($B$54,'04_Wirtschaftlichkeit'!$E$44:$L$57,5,FALSE)*(1+$B80))","v":-84363.57},{"$f":"J$56*(-HLOOKUP($B$54,'04_Wirtschaftlichkeit'!$E$44:$L$57,7,FALSE)-HLOOKUP($B$54,'04_Wirtschaftlichkeit'!$E$44:$L$57,5,FALSE)*(1+$B80))","v":-84363.57},{"$f":"K$56*(-HLOOKUP($B$54,'04_Wirtschaftlichkeit'!$E$44:$L$57,7,FALSE)-HLOOKUP($B$54,'04_Wirtschaftlichkeit'!$E$44:$L$57,5,FALSE)*(1+$B80))","v":-84363.57},{"$f":"L$56*(-HLOOKUP($B$54,'04_Wirtschaftlichkeit'!$E$44:$L$57,7,FALSE)-HLOOKUP($B$54,'04_Wirtschaftlichkeit'!$E$44:$L$57,5,FALSE)*(1+$B80))","v":-84363.57},{"$f":"M$56*(-HLOOKUP($B$54,'04_Wirtschaftlichkeit'!$E$44:$L$57,7,FALSE)-HLOOKUP($B$54,'04_Wirtschaftlichkeit'!$E$44:$L$57,5,FALSE)*(1+$B80))","v":-84363.57},{"$f":"N$56*(-HLOOKUP($B$54,'04_Wirtschaftlichkeit'!$E$44:$L$57,7,FALSE)-HLOOKUP($B$54,'04_Wirtschaftlichkeit'!$E$44:$L$57,5,FALSE)*(1+$B80))","v":-84363.57},{"$f":"O$56*(-HLOOKUP($B$54,'04_Wirtschaftlichkeit'!$E$44:$L$57,7,FALSE)-HLOOKUP($B$54,'04_Wirtschaftlichkeit'!$E$44:$L$57,5,FALSE)*(1+$B80))","v":-84363.57},{"$f":"P$56*(-HLOOKUP($B$54,'04_Wirtschaftlichkeit'!$E$44:$L$57,7,FALSE)-HLOOKUP($B$54,'04_Wirtschaftlichkeit'!$E$44:$L$57,5,FALSE)*(1+$B80))","v":-84363.57},{"$f":"Q$56*(-HLOOKUP($B$54,'04_Wirtschaftlichkeit'!$E$44:$L$57,7,FALSE)-HLOOKUP($B$54,'04_Wirtschaftlichkeit'!$E$44:$L$57,5,FALSE)*(1+$B80))","v":-84363.57},{"$f":"R$56*(-HLOOKUP($B$54,'04_Wirtschaftlichkeit'!$E$44:$L$57,7,FALSE)-HLOOKUP($B$54,'04_Wirtschaftlichkeit'!$E$44:$L$57,5,FALSE)*(1+$B80))","v":-84363.57},{"$f":"S$56*(-HLOOKUP($B$54,'04_Wirtschaftlichkeit'!$E$44:$L$57,7,FALSE)-HLOOKUP($B$54,'04_Wirtschaftlichkeit'!$E$44:$L$57,5,FALSE)*(1+$B80))","v":-84363.57},{"$f":"T$56*(-HLOOKUP($B$54,'04_Wirtschaftlichkeit'!$E$44:$L$57,7,FALSE)-HLOOKUP($B$54,'04_Wirtschaftlichkeit'!$E$44:$L$57,5,FALSE)*(1+$B80))","v":-84363.57},{"$f":"U$56*(-HLOOKUP($B$54,'04_Wirtschaftlichkeit'!$E$44:$L$57,7,FALSE)-HLOOKUP($B$54,'04_Wirtschaftlichkeit'!$E$44:$L$57,5,FALSE)*(1+$B80))","v":-84363.57},{"$f":"V$56*(-HLOOKUP($B$54,'04_Wirtschaftlichkeit'!$E$44:$L$57,7,FALSE)-HLOOKUP($B$54,'04_Wirtschaftlichkeit'!$E$44:$L$57,5,FALSE)*(1+$B80))","v":-84363.57},{"$f":"W$56*(-HLOOKUP($B$54,'04_Wirtschaftlichkeit'!$E$44:$L$57,7,FALSE)-HLOOKUP($B$54,'04_Wirtschaftlichkeit'!$E$44:$L$57,5,FALSE)*(1+$B80))","v":-84363.57},{"$f":"X$56*(-HLOOKUP($B$54,'04_Wirtschaftlichkeit'!$E$44:$L$57,7,FALSE)-HLOOKUP($B$54,'04_Wirtschaftlichkeit'!$E$44:$L$57,5,FALSE)*(1+$B80))","v":0},{"$f":"Y$56*(-HLOOKUP($B$54,'04_Wirtschaftlichkeit'!$E$44:$L$57,7,FALSE)-HLOOKUP($B$54,'04_Wirtschaftlichkeit'!$E$44:$L$57,5,FALSE)*(1+$B80))","v":0},{"$f":"Z$56*(-HLOOKUP($B$54,'04_Wirtschaftlichkeit'!$E$44:$L$57,7,FALSE)-HLOOKUP($B$54,'04_Wirtschaftlichkeit'!$E$44:$L$57,5,FALSE)*(1+$B80))","v":0},{"$f":"AA$56*(-HLOOKUP($B$54,'04_Wirtschaftlichkeit'!$E$44:$L$57,7,FALSE)-HLOOKUP($B$54,'04_Wirtschaftlichkeit'!$E$44:$L$57,5,FALSE)*(1+$B80))","v":0},{"$f":"AB$56*(-HLOOKUP($B$54,'04_Wirtschaftlichkeit'!$E$44:$L$57,7,FALSE)-HLOOKUP($B$54,'04_Wirtschaftlichkeit'!$E$44:$L$57,5,FALSE)*(1+$B80))","v":0},{"$f":"AC$56*(-HLOOKUP($B$54,'04_Wirtschaftlichkeit'!$E$44:$L$57,7,FALSE)-HLOOKUP($B$54,'04_Wirtschaftlichkeit'!$E$44:$L$57,5,FALSE)*(1+$B80))","v":0},{"$f":"AD$56*(-HLOOKUP($B$54,'04_Wirtschaftlichkeit'!$E$44:$L$57,7,FALSE)-HLOOKUP($B$54,'04_Wirtschaftlichkeit'!$E$44:$L$57,5,FALSE)*(1+$B80))","v":0},{"$f":"AE$56*(-HLOOKUP($B$54,'04_Wirtschaftlichkeit'!$E$44:$L$57,7,FALSE)-HLOOKUP($B$54,'04_Wirtschaftlichkeit'!$E$44:$L$57,5,FALSE)*(1+$B80))","v":0},{"$f":"AF$56*(-HLOOKUP($B$54,'04_Wirtschaftlichkeit'!$E$44:$L$57,7,FALSE)-HLOOKUP($B$54,'04_Wirtschaftlichkeit'!$E$44:$L$57,5,FALSE)*(1+$B80))","v":0},{"$f":"AG$56*(-HLOOKUP($B$54,'04_Wirtschaftlichkeit'!$E$44:$L$57,7,FALSE)-HLOOKUP($B$54,'04_Wirtschaftlichkeit'!$E$44:$L$57,5,FALSE)*(1+$B80))","v":0},{"$f":"AH$56*(-HLOOKUP($B$54,'04_Wirtschaftlichkeit'!$E$44:$L$57,7,FALSE)-HLOOKUP($B$54,'04_Wirtschaftlichkeit'!$E$44:$L$57,5,FALSE)*(1+$B80))","v":0},{"$f":"AI$56*(-HLOOKUP($B$54,'04_Wirtschaftlichkeit'!$E$44:$L$57,7,FALSE)-HLOOKUP($B$54,'04_Wirtschaftlichkeit'!$E$44:$L$57,5,FALSE)*(1+$B80))","v":0},{"$f":"AJ$56*(-HLOOKUP($B$54,'04_Wirtschaftlichkeit'!$E$44:$L$57,7,FALSE)-HLOOKUP($B$54,'04_Wirtschaftlichkeit'!$E$44:$L$57,5,FALSE)*(1+$B80))","v":0},{"$f":"AK$56*(-HLOOKUP($B$54,'04_Wirtschaftlichkeit'!$E$44:$L$57,7,FALSE)-HLOOKUP($B$54,'04_Wirtschaftlichkeit'!$E$44:$L$57,5,FALSE)*(1+$B80))","v":0},{"$f":"AL$56*(-HLOOKUP($B$54,'04_Wirtschaftlichkeit'!$E$44:$L$57,7,FALSE)-HLOOKUP($B$54,'04_Wirtschaftlichkeit'!$E$44:$L$57,5,FALSE)*(1+$B80))","v":0},{"$f":"AM$56*(-HLOOKUP($B$54,'04_Wirtschaftlichkeit'!$E$44:$L$57,7,FALSE)-HLOOKUP($B$54,'04_Wirtschaftlichkeit'!$E$44:$L$57,5,FALSE)*(1+$B80))","v":0},{"$f":"AN$56*(-HLOOKUP($B$54,'04_Wirtschaftlichkeit'!$E$44:$L$57,7,FALSE)-HLOOKUP($B$54,'04_Wirtschaftlichkeit'!$E$44:$L$57,5,FALSE)*(1+$B80))","v":0},{"$f":"AO$56*(-HLOOKUP($B$54,'04_Wirtschaftlichkeit'!$E$44:$L$57,7,FALSE)-HLOOKUP($B$54,'04_Wirtschaftlichkeit'!$E$44:$L$57,5,FALSE)*(1+$B80))","v":0},{"$f":"AP$56*(-HLOOKUP($B$54,'04_Wirtschaftlichkeit'!$E$44:$L$57,7,FALSE)-HLOOKUP($B$54,'04_Wirtschaftlichkeit'!$E$44:$L$57,5,FALSE)*(1+$B80))","v":0},{"$f":"AQ$56*(-HLOOKUP($B$54,'04_Wirtschaftlichkeit'!$E$44:$L$57,7,FALSE)-HLOOKUP($B$54,'04_Wirtschaftlichkeit'!$E$44:$L$57,5,FALSE)*(1+$B80))","v":0},{"$f":"AR$56*(-HLOOKUP($B$54,'04_Wirtschaftlichkeit'!$E$44:$L$57,7,FALSE)-HLOOKUP($B$54,'04_Wirtschaftlichkeit'!$E$44:$L$57,5,FALSE)*(1+$B80))","v":0},{"$f":"AS$56*(-HLOOKUP($B$54,'04_Wirtschaftlichkeit'!$E$44:$L$57,7,FALSE)-HLOOKUP($B$54,'04_Wirtschaftlichkeit'!$E$44:$L$57,5,FALSE)*(1+$B80))","v":0},{"$f":"AT$56*(-HLOOKUP($B$54,'04_Wirtschaftlichkeit'!$E$44:$L$57,7,FALSE)-HLOOKUP($B$54,'04_Wirtschaftlichkeit'!$E$44:$L$57,5,FALSE)*(1+$B80))","v":0},{"$f":"AU$56*(-HLOOKUP($B$54,'04_Wirtschaftlichkeit'!$E$44:$L$57,7,FALSE)-HLOOKUP($B$54,'04_Wirtschaftlichkeit'!$E$44:$L$57,5,FALSE)*(1+$B80))","v":0},{"$f":"AV$56*(-HLOOKUP($B$54,'04_Wirtschaftlichkeit'!$E$44:$L$57,7,FALSE)-HLOOKUP($B$54,'04_Wirtschaftlichkeit'!$E$44:$L$57,5,FALSE)*(1+$B80))","v":0},{"$f":"AW$56*(-HLOOKUP($B$54,'04_Wirtschaftlichkeit'!$E$44:$L$57,7,FALSE)-HLOOKUP($B$54,'04_Wirtschaftlichkeit'!$E$44:$L$57,5,FALSE)*(1+$B80))","v":0},{"$f":"AX$56*(-HLOOKUP($B$54,'04_Wirtschaftlichkeit'!$E$44:$L$57,7,FALSE)-HLOOKUP($B$54,'04_Wirtschaftlichkeit'!$E$44:$L$57,5,FALSE)*(1+$B80))","v":0},{"$f":"AY$56*(-HLOOKUP($B$54,'04_Wirtschaftlichkeit'!$E$44:$L$57,7,FALSE)-HLOOKUP($B$54,'04_Wirtschaftlichkeit'!$E$44:$L$57,5,FALSE)*(1+$B80))","v":0},{"$f":"AZ$56*(-HLOOKUP($B$54,'04_Wirtschaftlichkeit'!$E$44:$L$57,7,FALSE)-HLOOKUP($B$54,'04_Wirtschaftlichkeit'!$E$44:$L$57,5,FALSE)*(1+$B80))","v":0},{"$f":"BA$56*(-HLOOKUP($B$54,'04_Wirtschaftlichkeit'!$E$44:$L$57,7,FALSE)-HLOOKUP($B$54,'04_Wirtschaftlichkeit'!$E$44:$L$57,5,FALSE)*(1+$B80))","v":0}]
[null,0.4,{"$f":"-HLOOKUP($B$54,'04_Wirtschaftlichkeit'!$E$44:$L$57,6,FALSE)","v":-1057830.7168757692},{"$f":"D$56*(-HLOOKUP($B$54,'04_Wirtschaftlichkeit'!$E$44:$L$57,7,FALSE)-HLOOKUP($B$54,'04_Wirtschaftlichkeit'!$E$44:$L$57,5,FALSE)*(1+$B81))","v":-84415.46},{"$f":"E$56*(-HLOOKUP($B$54,'04_Wirtschaftlichkeit'!$E$44:$L$57,7,FALSE)-HLOOKUP($B$54,'04_Wirtschaftlichkeit'!$E$44:$L$57,5,FALSE)*(1+$B81))","v":-84415.46},{"$f":"F$56*(-HLOOKUP($B$54,'04_Wirtschaftlichkeit'!$E$44:$L$57,7,FALSE)-HLOOKUP($B$54,'04_Wirtschaftlichkeit'!$E$44:$L$57,5,FALSE)*(1+$B81))","v":-84415.46},{"$f":"G$56*(-HLOOKUP($B$54,'04_Wirtschaftlichkeit'!$E$44:$L$57,7,FALSE)-HLOOKUP($B$54,'04_Wirtschaftlichkeit'!$E$44:$L$57,5,FALSE)*(1+$B81))","v":-84415.46},{"$f":"H$56*(-HLOOKUP($B$54,'04_Wirtschaftlichkeit'!$E$44:$L$57,7,FALSE)-HLOOKUP($B$54,'04_Wirtschaftlichkeit'!$E$44:$L$57,5,FALSE)*(1+$B81))","v":-84415.46},{"$f":"I$56*(-HLOOKUP($B$54,'04_Wirtschaftlichkeit'!$E$44:$L$57,7,FALSE)-HLOOKUP($B$54,'04_Wirtschaftlichkeit'!$E$44:$L$57,5,FALSE)*(1+$B81))","v":-84415.46},{"$f":"J$56*(-HLOOKUP($B$54,'04_Wirtschaftlichkeit'!$E$44:$L$57,7,FALSE)-HLOOKUP($B$54,'04_Wirtschaftlichkeit'!$E$44:$L$57,5,FALSE)*(1+$B81))","v":-84415.46},{"$f":"K$56*(-HLOOKUP($B$54,'04_Wirtschaftlichkeit'!$E$44:$L$57,7,FALSE)-HLOOKUP($B$54,'04_Wirtschaftlichkeit'!$E$44:$L$57,5,FALSE)*(1+$B81))","v":-84415.46},{"$f":"L$56*(-HLOOKUP($B$54,'04_Wirtschaftlichkeit'!$E$44:$L$57,7,FALSE)-HLOOKUP($B$54,'04_Wirtschaftlichkeit'!$E$44:$L$57,5,FALSE)*(1+$B81))","v":-84415.46},{"$f":"M$56*(-HLOOKUP($B$54,'04_Wirtschaftlichkeit'!$E$44:$L$57,7,FALSE)-HLOOKUP($B$54,'04_Wirtschaftlichkeit'!$E$44:$L$57,5,FALSE)*(1+$B81))","v":-84415.46},{"$f":"N$56*(-HLOOKUP($B$54,'04_Wirtschaftlichkeit'!$E$44:$L$57,7,FALSE)-HLOOKUP($B$54,'04_Wirtschaftlichkeit'!$E$44:$L$57,5,FALSE)*(1+$B81))","v":-84415.46},{"$f":"O$56*(-HLOOKUP($B$54,'04_Wirtschaftlichkeit'!$E$44:$L$57,7,FALSE)-HLOOKUP($B$54,'04_Wirtschaftlichkeit'!$E$44:$L$57,5,FALSE)*(1+$B81))","v":-84415.46},{"$f":"P$56*(-HLOOKUP($B$54,'04_Wirtschaftlichkeit'!$E$44:$L$57,7,FALSE)-HLOOKUP($B$54,'04_Wirtschaftlichkeit'!$E$44:$L$57,5,FALSE)*(1+$B81))","v":-84415.46},{"$f":"Q$56*(-HLOOKUP($B$54,'04_Wirtschaftlichkeit'!$E$44:$L$57,7,FALSE)-HLOOKUP($B$54,'04_Wirtschaftlichkeit'!$E$44:$L$57,5,FALSE)*(1+$B81))","v":-84415.46},{"$f":"R$56*(-HLOOKUP($B$54,'04_Wirtschaftlichkeit'!$E$44:$L$57,7,FALSE)-HLOOKUP($B$54,'04_Wirtschaftlichkeit'!$E$44:$L$57,5,FALSE)*(1+$B81))","v":-84415.46},{"$f":"S$56*(-HLOOKUP($B$54,'04_Wirtschaftlichkeit'!$E$44:$L$57,7,FALSE)-HLOOKUP($B$54,'04_Wirtschaftlichkeit'!$E$44:$L$57,5,FALSE)*(1+$B81))","v":-84415.46},{"$f":"T$56*(-HLOOKUP($B$54,'04_Wirtschaftlichkeit'!$E$44:$L$57,7,FALSE)-HLOOKUP($B$54,'04_Wirtschaftlichkeit'!$E$44:$L$57,5,FALSE)*(1+$B81))","v":-84415.46},{"$f":"U$56*(-HLOOKUP($B$54,'04_Wirtschaftlichkeit'!$E$44:$L$57,7,FALSE)-HLOOKUP($B$54,'04_Wirtschaftlichkeit'!$E$44:$L$57,5,FALSE)*(1+$B81))","v":-84415.46},{"$f":"V$56*(-HLOOKUP($B$54,'04_Wirtschaftlichkeit'!$E$44:$L$57,7,FALSE)-HLOOKUP($B$54,'04_Wirtschaftlichkeit'!$E$44:$L$57,5,FALSE)*(1+$B81))","v":-84415.46},{"$f":"W$56*(-HLOOKUP($B$54,'04_Wirtschaftlichkeit'!$E$44:$L$57,7,FALSE)-HLOOKUP($B$54,'04_Wirtschaftlichkeit'!$E$44:$L$57,5,FALSE)*(1+$B81))","v":-84415.46},{"$f":"X$56*(-HLOOKUP($B$54,'04_Wirtschaftlichkeit'!$E$44:$L$57,7,FALSE)-HLOOKUP($B$54,'04_Wirtschaftlichkeit'!$E$44:$L$57,5,FALSE)*(1+$B81))","v":0},{"$f":"Y$56*(-HLOOKUP($B$54,'04_Wirtschaftlichkeit'!$E$44:$L$57,7,FALSE)-HLOOKUP($B$54,'04_Wirtschaftlichkeit'!$E$44:$L$57,5,FALSE)*(1+$B81))","v":0},{"$f":"Z$56*(-HLOOKUP($B$54,'04_Wirtschaftlichkeit'!$E$44:$L$57,7,FALSE)-HLOOKUP($B$54,'04_Wirtschaftlichkeit'!$E$44:$L$57,5,FALSE)*(1+$B81))","v":0},{"$f":"AA$56*(-HLOOKUP($B$54,'04_Wirtschaftlichkeit'!$E$44:$L$57,7,FALSE)-HLOOKUP($B$54,'04_Wirtschaftlichkeit'!$E$44:$L$57,5,FALSE)*(1+$B81))","v":0},{"$f":"AB$56*(-HLOOKUP($B$54,'04_Wirtschaftlichkeit'!$E$44:$L$57,7,FALSE)-HLOOKUP($B$54,'04_Wirtschaftlichkeit'!$E$44:$L$57,5,FALSE)*(1+$B81))","v":0},{"$f":"AC$56*(-HLOOKUP($B$54,'04_Wirtschaftlichkeit'!$E$44:$L$57,7,FALSE)-HLOOKUP($B$54,'04_Wirtschaftlichkeit'!$E$44:$L$57,5,FALSE)*(1+$B81))","v":0},{"$f":"AD$56*(-HLOOKUP($B$54,'04_Wirtschaftlichkeit'!$E$44:$L$57,7,FALSE)-HLOOKUP($B$54,'04_Wirtschaftlichkeit'!$E$44:$L$57,5,FALSE)*(1+$B81))","v":0},{"$f":"AE$56*(-HLOOKUP($B$54,'04_Wirtschaftlichkeit'!$E$44:$L$57,7,FALSE)-HLOOKUP($B$54,'04_Wirtschaftlichkeit'!$E$44:$L$57,5,FALSE)*(1+$B81))","v":0},{"$f":"AF$56*(-HLOOKUP($B$54,'04_Wirtschaftlichkeit'!$E$44:$L$57,7,FALSE)-HLOOKUP($B$54,'04_Wirtschaftlichkeit'!$E$44:$L$57,5,FALSE)*(1+$B81))","v":0},{"$f":"AG$56*(-HLOOKUP($B$54,'04_Wirtschaftlichkeit'!$E$44:$L$57,7,FALSE)-HLOOKUP($B$54,'04_Wirtschaftlichkeit'!$E$44:$L$57,5,FALSE)*(1+$B81))","v":0},{"$f":"AH$56*(-HLOOKUP($B$54,'04_Wirtschaftlichkeit'!$E$44:$L$57,7,FALSE)-HLOOKUP($B$54,'04_Wirtschaftlichkeit'!$E$44:$L$57,5,FALSE)*(1+$B81))","v":0},{"$f":"AI$56*(-HLOOKUP($B$54,'04_Wirtschaftlichkeit'!$E$44:$L$57,7,FALSE)-HLOOKUP($B$54,'04_Wirtschaftlichkeit'!$E$44:$L$57,5,FALSE)*(1+$B81))","v":0},{"$f":"AJ$56*(-HLOOKUP($B$54,'04_Wirtschaftlichkeit'!$E$44:$L$57,7,FALSE)-HLOOKUP($B$54,'04_Wirtschaftlichkeit'!$E$44:$L$57,5,FALSE)*(1+$B81))","v":0},{"$f":"AK$56*(-HLOOKUP($B$54,'04_Wirtschaftlichkeit'!$E$44:$L$57,7,FALSE)-HLOOKUP($B$54,'04_Wirtschaftlichkeit'!$E$44:$L$57,5,FALSE)*(1+$B81))","v":0},{"$f":"AL$56*(-HLOOKUP($B$54,'04_Wirtschaftlichkeit'!$E$44:$L$57,7,FALSE)-HLOOKUP($B$54,'04_Wirtschaftlichkeit'!$E$44:$L$57,5,FALSE)*(1+$B81))","v":0},{"$f":"AM$56*(-HLOOKUP($B$54,'04_Wirtschaftlichkeit'!$E$44:$L$57,7,FALSE)-HLOOKUP($B$54,'04_Wirtschaftlichkeit'!$E$44:$L$57,5,FALSE)*(1+$B81))","v":0},{"$f":"AN$56*(-HLOOKUP($B$54,'04_Wirtschaftlichkeit'!$E$44:$L$57,7,FALSE)-HLOOKUP($B$54,'04_Wirtschaftlichkeit'!$E$44:$L$57,5,FALSE)*(1+$B81))","v":0},{"$f":"AO$56*(-HLOOKUP($B$54,'04_Wirtschaftlichkeit'!$E$44:$L$57,7,FALSE)-HLOOKUP($B$54,'04_Wirtschaftlichkeit'!$E$44:$L$57,5,FALSE)*(1+$B81))","v":0},{"$f":"AP$56*(-HLOOKUP($B$54,'04_Wirtschaftlichkeit'!$E$44:$L$57,7,FALSE)-HLOOKUP($B$54,'04_Wirtschaftlichkeit'!$E$44:$L$57,5,FALSE)*(1+$B81))","v":0},{"$f":"AQ$56*(-HLOOKUP($B$54,'04_Wirtschaftlichkeit'!$E$44:$L$57,7,FALSE)-HLOOKUP($B$54,'04_Wirtschaftlichkeit'!$E$44:$L$57,5,FALSE)*(1+$B81))","v":0},{"$f":"AR$56*(-HLOOKUP($B$54,'04_Wirtschaftlichkeit'!$E$44:$L$57,7,FALSE)-HLOOKUP($B$54,'04_Wirtschaftlichkeit'!$E$44:$L$57,5,FALSE)*(1+$B81))","v":0},{"$f":"AS$56*(-HLOOKUP($B$54,'04_Wirtschaftlichkeit'!$E$44:$L$57,7,FALSE)-HLOOKUP($B$54,'04_Wirtschaftlichkeit'!$E$44:$L$57,5,FALSE)*(1+$B81))","v":0},{"$f":"AT$56*(-HLOOKUP($B$54,'04_Wirtschaftlichkeit'!$E$44:$L$57,7,FALSE)-HLOOKUP($B$54,'04_Wirtschaftlichkeit'!$E$44:$L$57,5,FALSE)*(1+$B81))","v":0},{"$f":"AU$56*(-HLOOKUP($B$54,'04_Wirtschaftlichkeit'!$E$44:$L$57,7,FALSE)-HLOOKUP($B$54,'04_Wirtschaftlichkeit'!$E$44:$L$57,5,FALSE)*(1+$B81))","v":0},{"$f":"AV$56*(-HLOOKUP($B$54,'04_Wirtschaftlichkeit'!$E$44:$L$57,7,FALSE)-HLOOKUP($B$54,'04_Wirtschaftlichkeit'!$E$44:$L$57,5,FALSE)*(1+$B81))","v":0},{"$f":"AW$56*(-HLOOKUP($B$54,'04_Wirtschaftlichkeit'!$E$44:$L$57,7,FALSE)-HLOOKUP($B$54,'04_Wirtschaftlichkeit'!$E$44:$L$57,5,FALSE)*(1+$B81))","v":0},{"$f":"AX$56*(-HLOOKUP($B$54,'04_Wirtschaftlichkeit'!$E$44:$L$57,7,FALSE)-HLOOKUP($B$54,'04_Wirtschaftlichkeit'!$E$44:$L$57,5,FALSE)*(1+$B81))","v":0},{"$f":"AY$56*(-HLOOKUP($B$54,'04_Wirtschaftlichkeit'!$E$44:$L$57,7,FALSE)-HLOOKUP($B$54,'04_Wirtschaftlichkeit'!$E$44:$L$57,5,FALSE)*(1+$B81))","v":0},{"$f":"AZ$56*(-HLOOKUP($B$54,'04_Wirtschaftlichkeit'!$E$44:$L$57,7,FALSE)-HLOOKUP($B$54,'04_Wirtschaftlichkeit'!$E$44:$L$57,5,FALSE)*(1+$B81))","v":0},{"$f":"BA$56*(-HLOOKUP($B$54,'04_Wirtschaftlichkeit'!$E$44:$L$57,7,FALSE)-HLOOKUP($B$54,'04_Wirtschaftlichkeit'!$E$44:$L$57,5,FALSE)*(1+$B81))","v":0}]
[null,0.5,{"$f":"-HLOOKUP($B$54,'04_Wirtschaftlichkeit'!$E$44:$L$57,6,FALSE)","v":-1057830.7168757692},{"$f":"D$56*(-HLOOKUP($B$54,'04_Wirtschaftlichkeit'!$E$44:$L$57,7,FALSE)-HLOOKUP($B$54,'04_Wirtschaftlichkeit'!$E$44:$L$57,5,FALSE)*(1+$B82))","v":-84467.35},{"$f":"E$56*(-HLOOKUP($B$54,'04_Wirtschaftlichkeit'!$E$44:$L$57,7,FALSE)-HLOOKUP($B$54,'04_Wirtschaftlichkeit'!$E$44:$L$57,5,FALSE)*(1+$B82))","v":-84467.35},{"$f":"F$56*(-HLOOKUP($B$54,'04_Wirtschaftlichkeit'!$E$44:$L$57,7,FALSE)-HLOOKUP($B$54,'04_Wirtschaftlichkeit'!$E$44:$L$57,5,FALSE)*(1+$B82))","v":-84467.35},{"$f":"G$56*(-HLOOKUP($B$54,'04_Wirtschaftlichkeit'!$E$44:$L$57,7,FALSE)-HLOOKUP($B$54,'04_Wirtschaftlichkeit'!$E$44:$L$57,5,FALSE)*(1+$B82))","v":-84467.35},{"$f":"H$56*(-HLOOKUP($B$54,'04_Wirtschaftlichkeit'!$E$44:$L$57,7,FALSE)-HLOOKUP($B$54,'04_Wirtschaftlichkeit'!$E$44:$L$57,5,FALSE)*(1+$B82))","v":-84467.35},{"$f":"I$56*(-HLOOKUP($B$54,'04_Wirtschaftlichkeit'!$E$44:$L$57,7,FALSE)-HLOOKUP($B$54,'04_Wirtschaftlichkeit'!$E$44:$L$57,5,FALSE)*(1+$B82))","v":-84467.35},{"$f":"J$56*(-HLOOKUP($B$54,'04_Wirtschaftlichkeit'!$E$44:$L$57,7,FALSE)-HLOOKUP($B$54,'04_Wirtschaftlichkeit'!$E$44:$L$57,5,FALSE)*(1+$B82))","v":-84467.35},{"$f":"K$56*(-HLOOKUP($B$54,'04_Wirtschaftlichkeit'!$E$44:$L$57,7,FALSE)-HLOOKUP($B$54,'04_Wirtschaftlichkeit'!$E$44:$L$57,5,FALSE)*(1+$B82))","v":-84467.35},{"$f":"L$56*(-HLOOKUP($B$54,'04_Wirtschaftlichkeit'!$E$44:$L$57,7,FALSE)-HLOOKUP($B$54,'04_Wirtschaftlichkeit'!$E$44:$L$57,5,FALSE)*(1+$B82))","v":-84467.35},{"$f":"M$56*(-HLOOKUP($B$54,'04_Wirtschaftlichkeit'!$E$44:$L$57,7,FALSE)-HLOOKUP($B$54,'04_Wirtschaftlichkeit'!$E$44:$L$57,5,FALSE)*(1+$B82))","v":-84467.35},{"$f":"N$56*(-HLOOKUP($B$54,'04_Wirtschaftlichkeit'!$E$44:$L$57,7,FALSE)-HLOOKUP($B$54,'04_Wirtschaftlichkeit'!$E$44:$L$57,5,FALSE)*(1+$B82))","v":-84467.35},{"$f":"O$56*(-HLOOKUP($B$54,'04_Wirtschaftlichkeit'!$E$44:$L$57,7,FALSE)-HLOOKUP($B$54,'04_Wirtschaftlichkeit'!$E$44:$L$57,5,FALSE)*(1+$B82))","v":-84467.35},{"$f":"P$56*(-HLOOKUP($B$54,'04_Wirtschaftlichkeit'!$E$44:$L$57,7,FALSE)-HLOOKUP($B$54,'04_Wirtschaftlichkeit'!$E$44:$L$57,5,FALSE)*(1+$B82))","v":-84467.35},{"$f":"Q$56*(-HLOOKUP($B$54,'04_Wirtschaftlichkeit'!$E$44:$L$57,7,FALSE)-HLOOKUP($B$54,'04_Wirtschaftlichkeit'!$E$44:$L$57,5,FALSE)*(1+$B82))","v":-84467.35},{"$f":"R$56*(-HLOOKUP($B$54,'04_Wirtschaftlichkeit'!$E$44:$L$57,7,FALSE)-HLOOKUP($B$54,'04_Wirtschaftlichkeit'!$E$44:$L$57,5,FALSE)*(1+$B82))","v":-84467.35},{"$f":"S$56*(-HLOOKUP($B$54,'04_Wirtschaftlichkeit'!$E$44:$L$57,7,FALSE)-HLOOKUP($B$54,'04_Wirtschaftlichkeit'!$E$44:$L$57,5,FALSE)*(1+$B82))","v":-84467.35},{"$f":"T$56*(-HLOOKUP($B$54,'04_Wirtschaftlichkeit'!$E$44:$L$57,7,FALSE)-HLOOKUP($B$54,'04_Wirtschaftlichkeit'!$E$44:$L$57,5,FALSE)*(1+$B82))","v":-84467.35},{"$f":"U$56*(-HLOOKUP($B$54,'04_Wirtschaftlichkeit'!$E$44:$L$57,7,FALSE)-HLOOKUP($B$54,'04_Wirtschaftlichkeit'!$E$44:$L$57,5,FALSE)*(1+$B82))","v":-84467.35},{"$f":"V$56*(-HLOOKUP($B$54,'04_Wirtschaftlichkeit'!$E$44:$L$57,7,FALSE)-HLOOKUP($B$54,'04_Wirtschaftlichkeit'!$E$44:$L$57,5,FALSE)*(1+$B82))","v":-84467.35},{"$f":"W$56*(-HLOOKUP($B$54,'04_Wirtschaftlichkeit'!$E$44:$L$57,7,FALSE)-HLOOKUP($B$54,'04_Wirtschaftlichkeit'!$E$44:$L$57,5,FALSE)*(1+$B82))","v":-84467.35},{"$f":"X$56*(-HLOOKUP($B$54,'04_Wirtschaftlichkeit'!$E$44:$L$57,7,FALSE)-HLOOKUP($B$54,'04_Wirtschaftlichkeit'!$E$44:$L$57,5,FALSE)*(1+$B82))","v":0},{"$f":"Y$56*(-HLOOKUP($B$54,'04_Wirtschaftlichkeit'!$E$44:$L$57,7,FALSE)-HLOOKUP($B$54,'04_Wirtschaftlichkeit'!$E$44:$L$57,5,FALSE)*(1+$B82))","v":0},{"$f":"Z$56*(-HLOOKUP($B$54,'04_Wirtschaftlichkeit'!$E$44:$L$57,7,FALSE)-HLOOKUP($B$54,'04_Wirtschaftlichkeit'!$E$44:$L$57,5,FALSE)*(1+$B82))","v":0},{"$f":"AA$56*(-HLOOKUP($B$54,'04_Wirtschaftlichkeit'!$E$44:$L$57,7,FALSE)-HLOOKUP($B$54,'04_Wirtschaftlichkeit'!$E$44:$L$57,5,FALSE)*(1+$B82))","v":0},{"$f":"AB$56*(-HLOOKUP($B$54,'04_Wirtschaftlichkeit'!$E$44:$L$57,7,FALSE)-HLOOKUP($B$54,'04_Wirtschaftlichkeit'!$E$44:$L$57,5,FALSE)*(1+$B82))","v":0},{"$f":"AC$56*(-HLOOKUP($B$54,'04_Wirtschaftlichkeit'!$E$44:$L$57,7,FALSE)-HLOOKUP($B$54,'04_Wirtschaftlichkeit'!$E$44:$L$57,5,FALSE)*(1+$B82))","v":0},{"$f":"AD$56*(-HLOOKUP($B$54,'04_Wirtschaftlichkeit'!$E$44:$L$57,7,FALSE)-HLOOKUP($B$54,'04_Wirtschaftlichkeit'!$E$44:$L$57,5,FALSE)*(1+$B82))","v":0},{"$f":"AE$56*(-HLOOKUP($B$54,'04_Wirtschaftlichkeit'!$E$44:$L$57,7,FALSE)-HLOOKUP($B$54,'04_Wirtschaftlichkeit'!$E$44:$L$57,5,FALSE)*(1+$B82))","v":0},{"$f":"AF$56*(-HLOOKUP($B$54,'04_Wirtschaftlichkeit'!$E$44:$L$57,7,FALSE)-HLOOKUP($B$54,'04_Wirtschaftlichkeit'!$E$44:$L$57,5,FALSE)*(1+$B82))","v":0},{"$f":"AG$56*(-HLOOKUP($B$54,'04_Wirtschaftlichkeit'!$E$44:$L$57,7,FALSE)-HLOOKUP($B$54,'04_Wirtschaftlichkeit'!$E$44:$L$57,5,FALSE)*(1+$B82))","v":0},{"$f":"AH$56*(-HLOOKUP($B$54,'04_Wirtschaftlichkeit'!$E$44:$L$57,7,FALSE)-HLOOKUP($B$54,'04_Wirtschaftlichkeit'!$E$44:$L$57,5,FALSE)*(1+$B82))","v":0},{"$f":"AI$56*(-HLOOKUP($B$54,'04_Wirtschaftlichkeit'!$E$44:$L$57,7,FALSE)-HLOOKUP($B$54,'04_Wirtschaftlichkeit'!$E$44:$L$57,5,FALSE)*(1+$B82))","v":0},{"$f":"AJ$56*(-HLOOKUP($B$54,'04_Wirtschaftlichkeit'!$E$44:$L$57,7,FALSE)-HLOOKUP($B$54,'04_Wirtschaftlichkeit'!$E$44:$L$57,5,FALSE)*(1+$B82))","v":0},{"$f":"AK$56*(-HLOOKUP($B$54,'04_Wirtschaftlichkeit'!$E$44:$L$57,7,FALSE)-HLOOKUP($B$54,'04_Wirtschaftlichkeit'!$E$44:$L$57,5,FALSE)*(1+$B82))","v":0},{"$f":"AL$56*(-HLOOKUP($B$54,'04_Wirtschaftlichkeit'!$E$44:$L$57,7,FALSE)-HLOOKUP($B$54,'04_Wirtschaftlichkeit'!$E$44:$L$57,5,FALSE)*(1+$B82))","v":0},{"$f":"AM$56*(-HLOOKUP($B$54,'04_Wirtschaftlichkeit'!$E$44:$L$57,7,FALSE)-HLOOKUP($B$54,'04_Wirtschaftlichkeit'!$E$44:$L$57,5,FALSE)*(1+$B82))","v":0},{"$f":"AN$56*(-HLOOKUP($B$54,'04_Wirtschaftlichkeit'!$E$44:$L$57,7,FALSE)-HLOOKUP($B$54,'04_Wirtschaftlichkeit'!$E$44:$L$57,5,FALSE)*(1+$B82))","v":0},{"$f":"AO$56*(-HLOOKUP($B$54,'04_Wirtschaftlichkeit'!$E$44:$L$57,7,FALSE)-HLOOKUP($B$54,'04_Wirtschaftlichkeit'!$E$44:$L$57,5,FALSE)*(1+$B82))","v":0},{"$f":"AP$56*(-HLOOKUP($B$54,'04_Wirtschaftlichkeit'!$E$44:$L$57,7,FALSE)-HLOOKUP($B$54,'04_Wirtschaftlichkeit'!$E$44:$L$57,5,FALSE)*(1+$B82))","v":0},{"$f":"AQ$56*(-HLOOKUP($B$54,'04_Wirtschaftlichkeit'!$E$44:$L$57,7,FALSE)-HLOOKUP($B$54,'04_Wirtschaftlichkeit'!$E$44:$L$57,5,FALSE)*(1+$B82))","v":0},{"$f":"AR$56*(-HLOOKUP($B$54,'04_Wirtschaftlichkeit'!$E$44:$L$57,7,FALSE)-HLOOKUP($B$54,'04_Wirtschaftlichkeit'!$E$44:$L$57,5,FALSE)*(1+$B82))","v":0},{"$f":"AS$56*(-HLOOKUP($B$54,'04_Wirtschaftlichkeit'!$E$44:$L$57,7,FALSE)-HLOOKUP($B$54,'04_Wirtschaftlichkeit'!$E$44:$L$57,5,FALSE)*(1+$B82))","v":0},{"$f":"AT$56*(-HLOOKUP($B$54,'04_Wirtschaftlichkeit'!$E$44:$L$57,7,FALSE)-HLOOKUP($B$54,'04_Wirtschaftlichkeit'!$E$44:$L$57,5,FALSE)*(1+$B82))","v":0},{"$f":"AU$56*(-HLOOKUP($B$54,'04_Wirtschaftlichkeit'!$E$44:$L$57,7,FALSE)-HLOOKUP($B$54,'04_Wirtschaftlichkeit'!$E$44:$L$57,5,FALSE)*(1+$B82))","v":0},{"$f":"AV$56*(-HLOOKUP($B$54,'04_Wirtschaftlichkeit'!$E$44:$L$57,7,FALSE)-HLOOKUP($B$54,'04_Wirtschaftlichkeit'!$E$44:$L$57,5,FALSE)*(1+$B82))","v":0},{"$f":"AW$56*(-HLOOKUP($B$54,'04_Wirtschaftlichkeit'!$E$44:$L$57,7,FALSE)-HLOOKUP($B$54,'04_Wirtschaftlichkeit'!$E$44:$L$57,5,FALSE)*(1+$B82))","v":0},{"$f":"AX$56*(-HLOOKUP($B$54,'04_Wirtschaftlichkeit'!$E$44:$L$57,7,FALSE)-HLOOKUP($B$54,'04_Wirtschaftlichkeit'!$E$44:$L$57,5,FALSE)*(1+$B82))","v":0},{"$f":"AY$56*(-HLOOKUP($B$54,'04_Wirtschaftlichkeit'!$E$44:$L$57,7,FALSE)-HLOOKUP($B$54,'04_Wirtschaftlichkeit'!$E$44:$L$57,5,FALSE)*(1+$B82))","v":0},{"$f":"AZ$56*(-HLOOKUP($B$54,'04_Wirtschaftlichkeit'!$E$44:$L$57,7,FALSE)-HLOOKUP($B$54,'04_Wirtschaftlichkeit'!$E$44:$L$57,5,FALSE)*(1+$B82))","v":0},{"$f":"BA$56*(-HLOOKUP($B$54,'04_Wirtschaftlichkeit'!$E$44:$L$57,7,FALSE)-HLOOKUP($B$54,'04_Wirtschaftlichkeit'!$E$44:$L$57,5,FALSE)*(1+$B82))","v":0}]
[null,"Betriebskosten"]
[null,-0.5,{"$f":"-HLOOKUP($B$54,'04_Wirtschaftlichkeit'!$E$44:$L$57,6,FALSE)","v":-1057830.7168757692},{"$f":"D$56*(-HLOOKUP($B$54,'04_Wirtschaftlichkeit'!$E$44:$L$57,7,FALSE)*(1+$B84)-HLOOKUP($B$54,'04_Wirtschaftlichkeit'!$E$44:$L$57,5,FALSE))","v":-42363.4},{"$f":"E$56*(-HLOOKUP($B$54,'04_Wirtschaftlichkeit'!$E$44:$L$57,7,FALSE)*(1+$B84)-HLOOKUP($B$54,'04_Wirtschaftlichkeit'!$E$44:$L$57,5,FALSE))","v":-42363.4},{"$f":"F$56*(-HLOOKUP($B$54,'04_Wirtschaftlichkeit'!$E$44:$L$57,7,FALSE)*(1+$B84)-HLOOKUP($B$54,'04_Wirtschaftlichkeit'!$E$44:$L$57,5,FALSE))","v":-42363.4},{"$f":"G$56*(-HLOOKUP($B$54,'04_Wirtschaftlichkeit'!$E$44:$L$57,7,FALSE)*(1+$B84)-HLOOKUP($B$54,'04_Wirtschaftlichkeit'!$E$44:$L$57,5,FALSE))","v":-42363.4},{"$f":"H$56*(-HLOOKUP($B$54,'04_Wirtschaftlichkeit'!$E$44:$L$57,7,FALSE)*(1+$B84)-HLOOKUP($B$54,'04_Wirtschaftlichkeit'!$E$44:$L$57,5,FALSE))","v":-42363.4},{"$f":"I$56*(-HLOOKUP($B$54,'04_Wirtschaftlichkeit'!$E$44:$L$57,7,FALSE)*(1+$B84)-HLOOKUP($B$54,'04_Wirtschaftlichkeit'!$E$44:$L$57,5,FALSE))","v":-42363.4},{"$f":"J$56*(-HLOOKUP($B$54,'04_Wirtschaftlichkeit'!$E$44:$L$57,7,FALSE)*(1+$B84)-HLOOKUP($B$54,'04_Wirtschaftlichkeit'!$E$44:$L$57,5,FALSE))","v":-42363.4},{"$f":"K$56*(-HLOOKUP($B$54,'04_Wirtschaftlichkeit'!$E$44:$L$57,7,FALSE)*(1+$B84)-HLOOKUP($B$54,'04_Wirtschaftlichkeit'!$E$44:$L$57,5,FALSE))","v":-42363.4},{"$f":"L$56*(-HLOOKUP($B$54,'04_Wirtschaftlichkeit'!$E$44:$L$57,7,FALSE)*(1+$B84)-HLOOKUP($B$54,'04_Wirtschaftlichkeit'!$E$44:$L$57,5,FALSE))","v":-42363.4},{"$f":"M$56*(-HLOOKUP($B$54,'04_Wirtschaftlichkeit'!$E$44:$L$57,7,FALSE)*(1+$B84)-HLOOKUP($B$54,'04_Wirtschaftlichkeit'!$E$44:$L$57,5,FALSE))","v":-42363.4},{"$f":"N$56*(-HLOOKUP($B$54,'04_Wirtschaftlichkeit'!$E$44:$L$57,7,FALSE)*(1+$B84)-HLOOKUP($B$54,'04_Wirtschaftlichkeit'!$E$44:$L$57,5,FALSE))","v":-42363.4},{"$f":"O$56*(-HLOOKUP($B$54,'04_Wirtschaftlichkeit'!$E$44:$L$57,7,FALSE)*(1+$B84)-HLOOKUP($B$54,'04_Wirtschaftlichkeit'!$E$44:$L$57,5,FALSE))","v":-42363.4},{"$f":"P$56*(-HLOOKUP($B$54,'04_Wirtschaftlichkeit'!$E$44:$L$57,7,FALSE)*(1+$B84)-HLOOKUP($B$54,'04_Wirtschaftlichkeit'!$E$44:$L$57,5,FALSE))","v":-42363.4},{"$f":"Q$56*(-HLOOKUP($B$54,'04_Wirtschaftlichkeit'!$E$44:$L$57,7,FALSE)*(1+$B84)-HLOOKUP($B$54,'04_Wirtschaftlichkeit'!$E$44:$L$57,5,FALSE))","v":-42363.4},{"$f":"R$56*(-HLOOKUP($B$54,'04_Wirtschaftlichkeit'!$E$44:$L$57,7,FALSE)*(1+$B84)-HLOOKUP($B$54,'04_Wirtschaftlichkeit'!$E$44:$L$57,5,FALSE))","v":-42363.4},{"$f":"S$56*(-HLOOKUP($B$54,'04_Wirtschaftlichkeit'!$E$44:$L$57,7,FALSE)*(1+$B84)-HLOOKUP($B$54,'04_Wirtschaftlichkeit'!$E$44:$L$57,5,FALSE))","v":-42363.4},{"$f":"T$56*(-HLOOKUP($B$54,'04_Wirtschaftlichkeit'!$E$44:$L$57,7,FALSE)*(1+$B84)-HLOOKUP($B$54,'04_Wirtschaftlichkeit'!$E$44:$L$57,5,FALSE))","v":-42363.4},{"$f":"U$56*(-HLOOKUP($B$54,'04_Wirtschaftlichkeit'!$E$44:$L$57,7,FALSE)*(1+$B84)-HLOOKUP($B$54,'04_Wirtschaftlichkeit'!$E$44:$L$57,5,FALSE))","v":-42363.4},{"$f":"V$56*(-HLOOKUP($B$54,'04_Wirtschaftlichkeit'!$E$44:$L$57,7,FALSE)*(1+$B84)-HLOOKUP($B$54,'04_Wirtschaftlichkeit'!$E$44:$L$57,5,FALSE))","v":-42363.4},{"$f":"W$56*(-HLOOKUP($B$54,'04_Wirtschaftlichkeit'!$E$44:$L$57,7,FALSE)*(1+$B84)-HLOOKUP($B$54,'04_Wirtschaftlichkeit'!$E$44:$L$57,5,FALSE))","v":-42363.4},{"$f":"X$56*(-HLOOKUP($B$54,'04_Wirtschaftlichkeit'!$E$44:$L$57,7,FALSE)*(1+$B84)-HLOOKUP($B$54,'04_Wirtschaftlichkeit'!$E$44:$L$57,5,FALSE))","v":0},{"$f":"Y$56*(-HLOOKUP($B$54,'04_Wirtschaftlichkeit'!$E$44:$L$57,7,FALSE)*(1+$B84)-HLOOKUP($B$54,'04_Wirtschaftlichkeit'!$E$44:$L$57,5,FALSE))","v":0},{"$f":"Z$56*(-HLOOKUP($B$54,'04_Wirtschaftlichkeit'!$E$44:$L$57,7,FALSE)*(1+$B84)-HLOOKUP($B$54,'04_Wirtschaftlichkeit'!$E$44:$L$57,5,FALSE))","v":0},{"$f":"AA$56*(-HLOOKUP($B$54,'04_Wirtschaftlichkeit'!$E$44:$L$57,7,FALSE)*(1+$B84)-HLOOKUP($B$54,'04_Wirtschaftlichkeit'!$E$44:$L$57,5,FALSE))","v":0},{"$f":"AB$56*(-HLOOKUP($B$54,'04_Wirtschaftlichkeit'!$E$44:$L$57,7,FALSE)*(1+$B84)-HLOOKUP($B$54,'04_Wirtschaftlichkeit'!$E$44:$L$57,5,FALSE))","v":0},{"$f":"AC$56*(-HLOOKUP($B$54,'04_Wirtschaftlichkeit'!$E$44:$L$57,7,FALSE)*(1+$B84)-HLOOKUP($B$54,'04_Wirtschaftlichkeit'!$E$44:$L$57,5,FALSE))","v":0},{"$f":"AD$56*(-HLOOKUP($B$54,'04_Wirtschaftlichkeit'!$E$44:$L$57,7,FALSE)*(1+$B84)-HLOOKUP($B$54,'04_Wirtschaftlichkeit'!$E$44:$L$57,5,FALSE))","v":0},{"$f":"AE$56*(-HLOOKUP($B$54,'04_Wirtschaftlichkeit'!$E$44:$L$57,7,FALSE)*(1+$B84)-HLOOKUP($B$54,'04_Wirtschaftlichkeit'!$E$44:$L$57,5,FALSE))","v":0},{"$f":"AF$56*(-HLOOKUP($B$54,'04_Wirtschaftlichkeit'!$E$44:$L$57,7,FALSE)*(1+$B84)-HLOOKUP($B$54,'04_Wirtschaftlichkeit'!$E$44:$L$57,5,FALSE))","v":0},{"$f":"AG$56*(-HLOOKUP($B$54,'04_Wirtschaftlichkeit'!$E$44:$L$57,7,FALSE)*(1+$B84)-HLOOKUP($B$54,'04_Wirtschaftlichkeit'!$E$44:$L$57,5,FALSE))","v":0},{"$f":"AH$56*(-HLOOKUP($B$54,'04_Wirtschaftlichkeit'!$E$44:$L$57,7,FALSE)*(1+$B84)-HLOOKUP($B$54,'04_Wirtschaftlichkeit'!$E$44:$L$57,5,FALSE))","v":0},{"$f":"AI$56*(-HLOOKUP($B$54,'04_Wirtschaftlichkeit'!$E$44:$L$57,7,FALSE)*(1+$B84)-HLOOKUP($B$54,'04_Wirtschaftlichkeit'!$E$44:$L$57,5,FALSE))","v":0},{"$f":"AJ$56*(-HLOOKUP($B$54,'04_Wirtschaftlichkeit'!$E$44:$L$57,7,FALSE)*(1+$B84)-HLOOKUP($B$54,'04_Wirtschaftlichkeit'!$E$44:$L$57,5,FALSE))","v":0},{"$f":"AK$56*(-HLOOKUP($B$54,'04_Wirtschaftlichkeit'!$E$44:$L$57,7,FALSE)*(1+$B84)-HLOOKUP($B$54,'04_Wirtschaftlichkeit'!$E$44:$L$57,5,FALSE))","v":0},{"$f":"AL$56*(-HLOOKUP($B$54,'04_Wirtschaftlichkeit'!$E$44:$L$57,7,FALSE)*(1+$B84)-HLOOKUP($B$54,'04_Wirtschaftlichkeit'!$E$44:$L$57,5,FALSE))","v":0},{"$f":"AM$56*(-HLOOKUP($B$54,'04_Wirtschaftlichkeit'!$E$44:$L$57,7,FALSE)*(1+$B84)-HLOOKUP($B$54,'04_Wirtschaftlichkeit'!$E$44:$L$57,5,FALSE))","v":0},{"$f":"AN$56*(-HLOOKUP($B$54,'04_Wirtschaftlichkeit'!$E$44:$L$57,7,FALSE)*(1+$B84)-HLOOKUP($B$54,'04_Wirtschaftlichkeit'!$E$44:$L$57,5,FALSE))","v":0},{"$f":"AO$56*(-HLOOKUP($B$54,'04_Wirtschaftlichkeit'!$E$44:$L$57,7,FALSE)*(1+$B84)-HLOOKUP($B$54,'04_Wirtschaftlichkeit'!$E$44:$L$57,5,FALSE))","v":0},{"$f":"AP$56*(-HLOOKUP($B$54,'04_Wirtschaftlichkeit'!$E$44:$L$57,7,FALSE)*(1+$B84)-HLOOKUP($B$54,'04_Wirtschaftlichkeit'!$E$44:$L$57,5,FALSE))","v":0},{"$f":"AQ$56*(-HLOOKUP($B$54,'04_Wirtschaftlichkeit'!$E$44:$L$57,7,FALSE)*(1+$B84)-HLOOKUP($B$54,'04_Wirtschaftlichkeit'!$E$44:$L$57,5,FALSE))","v":0},{"$f":"AR$56*(-HLOOKUP($B$54,'04_Wirtschaftlichkeit'!$E$44:$L$57,7,FALSE)*(1+$B84)-HLOOKUP($B$54,'04_Wirtschaftlichkeit'!$E$44:$L$57,5,FALSE))","v":0},{"$f":"AS$56*(-HLOOKUP($B$54,'04_Wirtschaftlichkeit'!$E$44:$L$57,7,FALSE)*(1+$B84)-HLOOKUP($B$54,'04_Wirtschaftlichkeit'!$E$44:$L$57,5,FALSE))","v":0},{"$f":"AT$56*(-HLOOKUP($B$54,'04_Wirtschaftlichkeit'!$E$44:$L$57,7,FALSE)*(1+$B84)-HLOOKUP($B$54,'04_Wirtschaftlichkeit'!$E$44:$L$57,5,FALSE))","v":0},{"$f":"AU$56*(-HLOOKUP($B$54,'04_Wirtschaftlichkeit'!$E$44:$L$57,7,FALSE)*(1+$B84)-HLOOKUP($B$54,'04_Wirtschaftlichkeit'!$E$44:$L$57,5,FALSE))","v":0},{"$f":"AV$56*(-HLOOKUP($B$54,'04_Wirtschaftlichkeit'!$E$44:$L$57,7,FALSE)*(1+$B84)-HLOOKUP($B$54,'04_Wirtschaftlichkeit'!$E$44:$L$57,5,FALSE))","v":0},{"$f":"AW$56*(-HLOOKUP($B$54,'04_Wirtschaftlichkeit'!$E$44:$L$57,7,FALSE)*(1+$B84)-HLOOKUP($B$54,'04_Wirtschaftlichkeit'!$E$44:$L$57,5,FALSE))","v":0},{"$f":"AX$56*(-HLOOKUP($B$54,'04_Wirtschaftlichkeit'!$E$44:$L$57,7,FALSE)*(1+$B84)-HLOOKUP($B$54,'04_Wirtschaftlichkeit'!$E$44:$L$57,5,FALSE))","v":0},{"$f":"AY$56*(-HLOOKUP($B$54,'04_Wirtschaftlichkeit'!$E$44:$L$57,7,FALSE)*(1+$B84)-HLOOKUP($B$54,'04_Wirtschaftlichkeit'!$E$44:$L$57,5,FALSE))","v":0},{"$f":"AZ$56*(-HLOOKUP($B$54,'04_Wirtschaftlichkeit'!$E$44:$L$57,7,FALSE)*(1+$B84)-HLOOKUP($B$54,'04_Wirtschaftlichkeit'!$E$44:$L$57,5,FALSE))","v":0},{"$f":"BA$56*(-HLOOKUP($B$54,'04_Wirtschaftlichkeit'!$E$44:$L$57,7,FALSE)*(1+$B84)-HLOOKUP($B$54,'04_Wirtschaftlichkeit'!$E$44:$L$57,5,FALSE))","v":0}]
[null,-0.4,{"$f":"-HLOOKUP($B$54,'04_Wirtschaftlichkeit'!$E$44:$L$57,6,FALSE)","v":-1057830.7168757692},{"$f":"D$56*(-HLOOKUP($B$54,'04_Wirtschaftlichkeit'!$E$44:$L$57,7,FALSE)*(1+$B85)-HLOOKUP($B$54,'04_Wirtschaftlichkeit'!$E$44:$L$57,5,FALSE))","v":-50732.3},{"$f":"E$56*(-HLOOKUP($B$54,'04_Wirtschaftlichkeit'!$E$44:$L$57,7,FALSE)*(1+$B85)-HLOOKUP($B$54,'04_Wirtschaftlichkeit'!$E$44:$L$57,5,FALSE))","v":-50732.3},{"$f":"F$56*(-HLOOKUP($B$54,'04_Wirtschaftlichkeit'!$E$44:$L$57,7,FALSE)*(1+$B85)-HLOOKUP($B$54,'04_Wirtschaftlichkeit'!$E$44:$L$57,5,FALSE))","v":-50732.3},{"$f":"G$56*(-HLOOKUP($B$54,'04_Wirtschaftlichkeit'!$E$44:$L$57,7,FALSE)*(1+$B85)-HLOOKUP($B$54,'04_Wirtschaftlichkeit'!$E$44:$L$57,5,FALSE))","v":-50732.3},{"$f":"H$56*(-HLOOKUP($B$54,'04_Wirtschaftlichkeit'!$E$44:$L$57,7,FALSE)*(1+$B85)-HLOOKUP($B$54,'04_Wirtschaftlichkeit'!$E$44:$L$57,5,FALSE))","v":-50732.3},{"$f":"I$56*(-HLOOKUP($B$54,'04_Wirtschaftlichkeit'!$E$44:$L$57,7,FALSE)*(1+$B85)-HLOOKUP($B$54,'04_Wirtschaftlichkeit'!$E$44:$L$57,5,FALSE))","v":-50732.3},{"$f":"J$56*(-HLOOKUP($B$54,'04_Wirtschaftlichkeit'!$E$44:$L$57,7,FALSE)*(1+$B85)-HLOOKUP($B$54,'04_Wirtschaftlichkeit'!$E$44:$L$57,5,FALSE))","v":-50732.3},{"$f":"K$56*(-HLOOKUP($B$54,'04_Wirtschaftlichkeit'!$E$44:$L$57,7,FALSE)*(1+$B85)-HLOOKUP($B$54,'04_Wirtschaftlichkeit'!$E$44:$L$57,5,FALSE))","v":-50732.3},{"$f":"L$56*(-HLOOKUP($B$54,'04_Wirtschaftlichkeit'!$E$44:$L$57,7,FALSE)*(1+$B85)-HLOOKUP($B$54,'04_Wirtschaftlichkeit'!$E$44:$L$57,5,FALSE))","v":-50732.3},{"$f":"M$56*(-HLOOKUP($B$54,'04_Wirtschaftlichkeit'!$E$44:$L$57,7,FALSE)*(1+$B85)-HLOOKUP($B$54,'04_Wirtschaftlichkeit'!$E$44:$L$57,5,FALSE))","v":-50732.3},{"$f":"N$56*(-HLOOKUP($B$54,'04_Wirtschaftlichkeit'!$E$44:$L$57,7,FALSE)*(1+$B85)-HLOOKUP($B$54,'04_Wirtschaftlichkeit'!$E$44:$L$57,5,FALSE))","v":-50732.3},{"$f":"O$56*(-HLOOKUP($B$54,'04_Wirtschaftlichkeit'!$E$44:$L$57,7,FALSE)*(1+$B85)-HLOOKUP($B$54,'04_Wirtschaftlichkeit'!$E$44:$L$57,5,FALSE))","v":-50732.3},{"$f":"P$56*(-HLOOKUP($B$54,'04_Wirtschaftlichkeit'!$E$44:$L$57,7,FALSE)*(1+$B85)-HLOOKUP($B$54,'04_Wirtschaftlichkeit'!$E$44:$L$57,5,FALSE))","v":-50732.3},{"$f":"Q$56*(-HLOOKUP($B$54,'04_Wirtschaftlichkeit'!$E$44:$L$57,7,FALSE)*(1+$B85)-HLOOKUP($B$54,'04_Wirtschaftlichkeit'!$E$44:$L$57,5,FALSE))","v":-50732.3},{"$f":"R$56*(-HLOOKUP($B$54,'04_Wirtschaftlichkeit'!$E$44:$L$57,7,FALSE)*(1+$B85)-HLOOKUP($B$54,'04_Wirtschaftlichkeit'!$E$44:$L$57,5,FALSE))","v":-50732.3},{"$f":"S$56*(-HLOOKUP($B$54,'04_Wirtschaftlichkeit'!$E$44:$L$57,7,FALSE)*(1+$B85)-HLOOKUP($B$54,'04_Wirtschaftlichkeit'!$E$44:$L$57,5,FALSE))","v":-50732.3},{"$f":"T$56*(-HLOOKUP($B$54,'04_Wirtschaftlichkeit'!$E$44:$L$57,7,FALSE)*(1+$B85)-HLOOKUP($B$54,'04_Wirtschaftlichkeit'!$E$44:$L$57,5,FALSE))","v":-50732.3},{"$f":"U$56*(-HLOOKUP($B$54,'04_Wirtschaftlichkeit'!$E$44:$L$57,7,FALSE)*(1+$B85)-HLOOKUP($B$54,'04_Wirtschaftlichkeit'!$E$44:$L$57,5,FALSE))","v":-50732.3},{"$f":"V$56*(-HLOOKUP($B$54,'04_Wirtschaftlichkeit'!$E$44:$L$57,7,FALSE)*(1+$B85)-HLOOKUP($B$54,'04_Wirtschaftlichkeit'!$E$44:$L$57,5,FALSE))","v":-50732.3},{"$f":"W$56*(-HLOOKUP($B$54,'04_Wirtschaftlichkeit'!$E$44:$L$57,7,FALSE)*(1+$B85)-HLOOKUP($B$54,'04_Wirtschaftlichkeit'!$E$44:$L$57,5,FALSE))","v":-50732.3},{"$f":"X$56*(-HLOOKUP($B$54,'04_Wirtschaftlichkeit'!$E$44:$L$57,7,FALSE)*(1+$B85)-HLOOKUP($B$54,'04_Wirtschaftlichkeit'!$E$44:$L$57,5,FALSE))","v":0},{"$f":"Y$56*(-HLOOKUP($B$54,'04_Wirtschaftlichkeit'!$E$44:$L$57,7,FALSE)*(1+$B85)-HLOOKUP($B$54,'04_Wirtschaftlichkeit'!$E$44:$L$57,5,FALSE))","v":0},{"$f":"Z$56*(-HLOOKUP($B$54,'04_Wirtschaftlichkeit'!$E$44:$L$57,7,FALSE)*(1+$B85)-HLOOKUP($B$54,'04_Wirtschaftlichkeit'!$E$44:$L$57,5,FALSE))","v":0},{"$f":"AA$56*(-HLOOKUP($B$54,'04_Wirtschaftlichkeit'!$E$44:$L$57,7,FALSE)*(1+$B85)-HLOOKUP($B$54,'04_Wirtschaftlichkeit'!$E$44:$L$57,5,FALSE))","v":0},{"$f":"AB$56*(-HLOOKUP($B$54,'04_Wirtschaftlichkeit'!$E$44:$L$57,7,FALSE)*(1+$B85)-HLOOKUP($B$54,'04_Wirtschaftlichkeit'!$E$44:$L$57,5,FALSE))","v":0},{"$f":"AC$56*(-HLOOKUP($B$54,'04_Wirtschaftlichkeit'!$E$44:$L$57,7,FALSE)*(1+$B85)-HLOOKUP($B$54,'04_Wirtschaftlichkeit'!$E$44:$L$57,5,FALSE))","v":0},{"$f":"AD$56*(-HLOOKUP($B$54,'04_Wirtschaftlichkeit'!$E$44:$L$57,7,FALSE)*(1+$B85)-HLOOKUP($B$54,'04_Wirtschaftlichkeit'!$E$44:$L$57,5,FALSE))","v":0},{"$f":"AE$56*(-HLOOKUP($B$54,'04_Wirtschaftlichkeit'!$E$44:$L$57,7,FALSE)*(1+$B85)-HLOOKUP($B$54,'04_Wirtschaftlichkeit'!$E$44:$L$57,5,FALSE))","v":0},{"$f":"AF$56*(-HLOOKUP($B$54,'04_Wirtschaftlichkeit'!$E$44:$L$57,7,FALSE)*(1+$B85)-HLOOKUP($B$54,'04_Wirtschaftlichkeit'!$E$44:$L$57,5,FALSE))","v":0},{"$f":"AG$56*(-HLOOKUP($B$54,'04_Wirtschaftlichkeit'!$E$44:$L$57,7,FALSE)*(1+$B85)-HLOOKUP($B$54,'04_Wirtschaftlichkeit'!$E$44:$L$57,5,FALSE))","v":0},{"$f":"AH$56*(-HLOOKUP($B$54,'04_Wirtschaftlichkeit'!$E$44:$L$57,7,FALSE)*(1+$B85)-HLOOKUP($B$54,'04_Wirtschaftlichkeit'!$E$44:$L$57,5,FALSE))","v":0},{"$f":"AI$56*(-HLOOKUP($B$54,'04_Wirtschaftlichkeit'!$E$44:$L$57,7,FALSE)*(1+$B85)-HLOOKUP($B$54,'04_Wirtschaftlichkeit'!$E$44:$L$57,5,FALSE))","v":0},{"$f":"AJ$56*(-HLOOKUP($B$54,'04_Wirtschaftlichkeit'!$E$44:$L$57,7,FALSE)*(1+$B85)-HLOOKUP($B$54,'04_Wirtschaftlichkeit'!$E$44:$L$57,5,FALSE))","v":0},{"$f":"AK$56*(-HLOOKUP($B$54,'04_Wirtschaftlichkeit'!$E$44:$L$57,7,FALSE)*(1+$B85)-HLOOKUP($B$54,'04_Wirtschaftlichkeit'!$E$44:$L$57,5,FALSE))","v":0},{"$f":"AL$56*(-HLOOKUP($B$54,'04_Wirtschaftlichkeit'!$E$44:$L$57,7,FALSE)*(1+$B85)-HLOOKUP($B$54,'04_Wirtschaftlichkeit'!$E$44:$L$57,5,FALSE))","v":0},{"$f":"AM$56*(-HLOOKUP($B$54,'04_Wirtschaftlichkeit'!$E$44:$L$57,7,FALSE)*(1+$B85)-HLOOKUP($B$54,'04_Wirtschaftlichkeit'!$E$44:$L$57,5,FALSE))","v":0},{"$f":"AN$56*(-HLOOKUP($B$54,'04_Wirtschaftlichkeit'!$E$44:$L$57,7,FALSE)*(1+$B85)-HLOOKUP($B$54,'04_Wirtschaftlichkeit'!$E$44:$L$57,5,FALSE))","v":0},{"$f":"AO$56*(-HLOOKUP($B$54,'04_Wirtschaftlichkeit'!$E$44:$L$57,7,FALSE)*(1+$B85)-HLOOKUP($B$54,'04_Wirtschaftlichkeit'!$E$44:$L$57,5,FALSE))","v":0},{"$f":"AP$56*(-HLOOKUP($B$54,'04_Wirtschaftlichkeit'!$E$44:$L$57,7,FALSE)*(1+$B85)-HLOOKUP($B$54,'04_Wirtschaftlichkeit'!$E$44:$L$57,5,FALSE))","v":0},{"$f":"AQ$56*(-HLOOKUP($B$54,'04_Wirtschaftlichkeit'!$E$44:$L$57,7,FALSE)*(1+$B85)-HLOOKUP($B$54,'04_Wirtschaftlichkeit'!$E$44:$L$57,5,FALSE))","v":0},{"$f":"AR$56*(-HLOOKUP($B$54,'04_Wirtschaftlichkeit'!$E$44:$L$57,7,FALSE)*(1+$B85)-HLOOKUP($B$54,'04_Wirtschaftlichkeit'!$E$44:$L$57,5,FALSE))","v":0},{"$f":"AS$56*(-HLOOKUP($B$54,'04_Wirtschaftlichkeit'!$E$44:$L$57,7,FALSE)*(1+$B85)-HLOOKUP($B$54,'04_Wirtschaftlichkeit'!$E$44:$L$57,5,FALSE))","v":0},{"$f":"AT$56*(-HLOOKUP($B$54,'04_Wirtschaftlichkeit'!$E$44:$L$57,7,FALSE)*(1+$B85)-HLOOKUP($B$54,'04_Wirtschaftlichkeit'!$E$44:$L$57,5,FALSE))","v":0},{"$f":"AU$56*(-HLOOKUP($B$54,'04_Wirtschaftlichkeit'!$E$44:$L$57,7,FALSE)*(1+$B85)-HLOOKUP($B$54,'04_Wirtschaftlichkeit'!$E$44:$L$57,5,FALSE))","v":0},{"$f":"AV$56*(-HLOOKUP($B$54,'04_Wirtschaftlichkeit'!$E$44:$L$57,7,FALSE)*(1+$B85)-HLOOKUP($B$54,'04_Wirtschaftlichkeit'!$E$44:$L$57,5,FALSE))","v":0},{"$f":"AW$56*(-HLOOKUP($B$54,'04_Wirtschaftlichkeit'!$E$44:$L$57,7,FALSE)*(1+$B85)-HLOOKUP($B$54,'04_Wirtschaftlichkeit'!$E$44:$L$57,5,FALSE))","v":0},{"$f":"AX$56*(-HLOOKUP($B$54,'04_Wirtschaftlichkeit'!$E$44:$L$57,7,FALSE)*(1+$B85)-HLOOKUP($B$54,'04_Wirtschaftlichkeit'!$E$44:$L$57,5,FALSE))","v":0},{"$f":"AY$56*(-HLOOKUP($B$54,'04_Wirtschaftlichkeit'!$E$44:$L$57,7,FALSE)*(1+$B85)-HLOOKUP($B$54,'04_Wirtschaftlichkeit'!$E$44:$L$57,5,FALSE))","v":0},{"$f":"AZ$56*(-HLOOKUP($B$54,'04_Wirtschaftlichkeit'!$E$44:$L$57,7,FALSE)*(1+$B85)-HLOOKUP($B$54,'04_Wirtschaftlichkeit'!$E$44:$L$57,5,FALSE))","v":0},{"$f":"BA$56*(-HLOOKUP($B$54,'04_Wirtschaftlichkeit'!$E$44:$L$57,7,FALSE)*(1+$B85)-HLOOKUP($B$54,'04_Wirtschaftlichkeit'!$E$44:$L$57,5,FALSE))","v":0}]
[null,-0.3,{"$f":"-HLOOKUP($B$54,'04_Wirtschaftlichkeit'!$E$44:$L$57,6,FALSE)","v":-1057830.7168757692},{"$f":"D$56*(-HLOOKUP($B$54,'04_Wirtschaftlichkeit'!$E$44:$L$57,7,FALSE)*(1+$B86)-HLOOKUP($B$54,'04_Wirtschaftlichkeit'!$E$44:$L$57,5,FALSE))","v":-59101.2},{"$f":"E$56*(-HLOOKUP($B$54,'04_Wirtschaftlichkeit'!$E$44:$L$57,7,FALSE)*(1+$B86)-HLOOKUP($B$54,'04_Wirtschaftlichkeit'!$E$44:$L$57,5,FALSE))","v":-59101.2},{"$f":"F$56*(-HLOOKUP($B$54,'04_Wirtschaftlichkeit'!$E$44:$L$57,7,FALSE)*(1+$B86)-HLOOKUP($B$54,'04_Wirtschaftlichkeit'!$E$44:$L$57,5,FALSE))","v":-59101.2},{"$f":"G$56*(-HLOOKUP($B$54,'04_Wirtschaftlichkeit'!$E$44:$L$57,7,FALSE)*(1+$B86)-HLOOKUP($B$54,'04_Wirtschaftlichkeit'!$E$44:$L$57,5,FALSE))","v":-59101.2},{"$f":"H$56*(-HLOOKUP($B$54,'04_Wirtschaftlichkeit'!$E$44:$L$57,7,FALSE)*(1+$B86)-HLOOKUP($B$54,'04_Wirtschaftlichkeit'!$E$44:$L$57,5,FALSE))","v":-59101.2},{"$f":"I$56*(-HLOOKUP($B$54,'04_Wirtschaftlichkeit'!$E$44:$L$57,7,FALSE)*(1+$B86)-HLOOKUP($B$54,'04_Wirtschaftlichkeit'!$E$44:$L$57,5,FALSE))","v":-59101.2},{"$f":"J$56*(-HLOOKUP($B$54,'04_Wirtschaftlichkeit'!$E$44:$L$57,7,FALSE)*(1+$B86)-HLOOKUP($B$54,'04_Wirtschaftlichkeit'!$E$44:$L$57,5,FALSE))","v":-59101.2},{"$f":"K$56*(-HLOOKUP($B$54,'04_Wirtschaftlichkeit'!$E$44:$L$57,7,FALSE)*(1+$B86)-HLOOKUP($B$54,'04_Wirtschaftlichkeit'!$E$44:$L$57,5,FALSE))","v":-59101.2},{"$f":"L$56*(-HLOOKUP($B$54,'04_Wirtschaftlichkeit'!$E$44:$L$57,7,FALSE)*(1+$B86)-HLOOKUP($B$54,'04_Wirtschaftlichkeit'!$E$44:$L$57,5,FALSE))","v":-59101.2},{"$f":"M$56*(-HLOOKUP($B$54,'04_Wirtschaftlichkeit'!$E$44:$L$57,7,FALSE)*(1+$B86)-HLOOKUP($B$54,'04_Wirtschaftlichkeit'!$E$44:$L$57,5,FALSE))","v":-59101.2},{"$f":"N$56*(-HLOOKUP($B$54,'04_Wirtschaftlichkeit'!$E$44:$L$57,7,FALSE)*(1+$B86)-HLOOKUP($B$54,'04_Wirtschaftlichkeit'!$E$44:$L$57,5,FALSE))","v":-59101.2},{"$f":"O$56*(-HLOOKUP($B$54,'04_Wirtschaftlichkeit'!$E$44:$L$57,7,FALSE)*(1+$B86)-HLOOKUP($B$54,'04_Wirtschaftlichkeit'!$E$44:$L$57,5,FALSE))","v":-59101.2},{"$f":"P$56*(-HLOOKUP($B$54,'04_Wirtschaftlichkeit'!$E$44:$L$57,7,FALSE)*(1+$B86)-HLOOKUP($B$54,'04_Wirtschaftlichkeit'!$E$44:$L$57,5,FALSE))","v":-59101.2},{"$f":"Q$56*(-HLOOKUP($B$54,'04_Wirtschaftlichkeit'!$E$44:$L$57,7,FALSE)*(1+$B86)-HLOOKUP($B$54,'04_Wirtschaftlichkeit'!$E$44:$L$57,5,FALSE))","v":-59101.2},{"$f":"R$56*(-HLOOKUP($B$54,'04_Wirtschaftlichkeit'!$E$44:$L$57,7,FALSE)*(1+$B86)-HLOOKUP($B$54,'04_Wirtschaftlichkeit'!$E$44:$L$57,5,FALSE))","v":-59101.2},{"$f":"S$56*(-HLOOKUP($B$54,'04_Wirtschaftlichkeit'!$E$44:$L$57,7,FALSE)*(1+$B86)-HLOOKUP($B$54,'04_Wirtschaftlichkeit'!$E$44:$L$57,5,FALSE))","v":-59101.2},{"$f":"T$56*(-HLOOKUP($B$54,'04_Wirtschaftlichkeit'!$E$44:$L$57,7,FALSE)*(1+$B86)-HLOOKUP($B$54,'04_Wirtschaftlichkeit'!$E$44:$L$57,5,FALSE))","v":-59101.2},{"$f":"U$56*(-HLOOKUP($B$54,'04_Wirtschaftlichkeit'!$E$44:$L$57,7,FALSE)*(1+$B86)-HLOOKUP($B$54,'04_Wirtschaftlichkeit'!$E$44:$L$57,5,FALSE))","v":-59101.2},{"$f":"V$56*(-HLOOKUP($B$54,'04_Wirtschaftlichkeit'!$E$44:$L$57,7,FALSE)*(1+$B86)-HLOOKUP($B$54,'04_Wirtschaftlichkeit'!$E$44:$L$57,5,FALSE))","v":-59101.2},{"$f":"W$56*(-HLOOKUP($B$54,'04_Wirtschaftlichkeit'!$E$44:$L$57,7,FALSE)*(1+$B86)-HLOOKUP($B$54,'04_Wirtschaftlichkeit'!$E$44:$L$57,5,FALSE))","v":-59101.2},{"$f":"X$56*(-HLOOKUP($B$54,'04_Wirtschaftlichkeit'!$E$44:$L$57,7,FALSE)*(1+$B86)-HLOOKUP($B$54,'04_Wirtschaftlichkeit'!$E$44:$L$57,5,FALSE))","v":0},{"$f":"Y$56*(-HLOOKUP($B$54,'04_Wirtschaftlichkeit'!$E$44:$L$57,7,FALSE)*(1+$B86)-HLOOKUP($B$54,'04_Wirtschaftlichkeit'!$E$44:$L$57,5,FALSE))","v":0},{"$f":"Z$56*(-HLOOKUP($B$54,'04_Wirtschaftlichkeit'!$E$44:$L$57,7,FALSE)*(1+$B86)-HLOOKUP($B$54,'04_Wirtschaftlichkeit'!$E$44:$L$57,5,FALSE))","v":0},{"$f":"AA$56*(-HLOOKUP($B$54,'04_Wirtschaftlichkeit'!$E$44:$L$57,7,FALSE)*(1+$B86)-HLOOKUP($B$54,'04_Wirtschaftlichkeit'!$E$44:$L$57,5,FALSE))","v":0},{"$f":"AB$56*(-HLOOKUP($B$54,'04_Wirtschaftlichkeit'!$E$44:$L$57,7,FALSE)*(1+$B86)-HLOOKUP($B$54,'04_Wirtschaftlichkeit'!$E$44:$L$57,5,FALSE))","v":0},{"$f":"AC$56*(-HLOOKUP($B$54,'04_Wirtschaftlichkeit'!$E$44:$L$57,7,FALSE)*(1+$B86)-HLOOKUP($B$54,'04_Wirtschaftlichkeit'!$E$44:$L$57,5,FALSE))","v":0},{"$f":"AD$56*(-HLOOKUP($B$54,'04_Wirtschaftlichkeit'!$E$44:$L$57,7,FALSE)*(1+$B86)-HLOOKUP($B$54,'04_Wirtschaftlichkeit'!$E$44:$L$57,5,FALSE))","v":0},{"$f":"AE$56*(-HLOOKUP($B$54,'04_Wirtschaftlichkeit'!$E$44:$L$57,7,FALSE)*(1+$B86)-HLOOKUP($B$54,'04_Wirtschaftlichkeit'!$E$44:$L$57,5,FALSE))","v":0},{"$f":"AF$56*(-HLOOKUP($B$54,'04_Wirtschaftlichkeit'!$E$44:$L$57,7,FALSE)*(1+$B86)-HLOOKUP($B$54,'04_Wirtschaftlichkeit'!$E$44:$L$57,5,FALSE))","v":0},{"$f":"AG$56*(-HLOOKUP($B$54,'04_Wirtschaftlichkeit'!$E$44:$L$57,7,FALSE)*(1+$B86)-HLOOKUP($B$54,'04_Wirtschaftlichkeit'!$E$44:$L$57,5,FALSE))","v":0},{"$f":"AH$56*(-HLOOKUP($B$54,'04_Wirtschaftlichkeit'!$E$44:$L$57,7,FALSE)*(1+$B86)-HLOOKUP($B$54,'04_Wirtschaftlichkeit'!$E$44:$L$57,5,FALSE))","v":0},{"$f":"AI$56*(-HLOOKUP($B$54,'04_Wirtschaftlichkeit'!$E$44:$L$57,7,FALSE)*(1+$B86)-HLOOKUP($B$54,'04_Wirtschaftlichkeit'!$E$44:$L$57,5,FALSE))","v":0},{"$f":"AJ$56*(-HLOOKUP($B$54,'04_Wirtschaftlichkeit'!$E$44:$L$57,7,FALSE)*(1+$B86)-HLOOKUP($B$54,'04_Wirtschaftlichkeit'!$E$44:$L$57,5,FALSE))","v":0},{"$f":"AK$56*(-HLOOKUP($B$54,'04_Wirtschaftlichkeit'!$E$44:$L$57,7,FALSE)*(1+$B86)-HLOOKUP($B$54,'04_Wirtschaftlichkeit'!$E$44:$L$57,5,FALSE))","v":0},{"$f":"AL$56*(-HLOOKUP($B$54,'04_Wirtschaftlichkeit'!$E$44:$L$57,7,FALSE)*(1+$B86)-HLOOKUP($B$54,'04_Wirtschaftlichkeit'!$E$44:$L$57,5,FALSE))","v":0},{"$f":"AM$56*(-HLOOKUP($B$54,'04_Wirtschaftlichkeit'!$E$44:$L$57,7,FALSE)*(1+$B86)-HLOOKUP($B$54,'04_Wirtschaftlichkeit'!$E$44:$L$57,5,FALSE))","v":0},{"$f":"AN$56*(-HLOOKUP($B$54,'04_Wirtschaftlichkeit'!$E$44:$L$57,7,FALSE)*(1+$B86)-HLOOKUP($B$54,'04_Wirtschaftlichkeit'!$E$44:$L$57,5,FALSE))","v":0},{"$f":"AO$56*(-HLOOKUP($B$54,'04_Wirtschaftlichkeit'!$E$44:$L$57,7,FALSE)*(1+$B86)-HLOOKUP($B$54,'04_Wirtschaftlichkeit'!$E$44:$L$57,5,FALSE))","v":0},{"$f":"AP$56*(-HLOOKUP($B$54,'04_Wirtschaftlichkeit'!$E$44:$L$57,7,FALSE)*(1+$B86)-HLOOKUP($B$54,'04_Wirtschaftlichkeit'!$E$44:$L$57,5,FALSE))","v":0},{"$f":"AQ$56*(-HLOOKUP($B$54,'04_Wirtschaftlichkeit'!$E$44:$L$57,7,FALSE)*(1+$B86)-HLOOKUP($B$54,'04_Wirtschaftlichkeit'!$E$44:$L$57,5,FALSE))","v":0},{"$f":"AR$56*(-HLOOKUP($B$54,'04_Wirtschaftlichkeit'!$E$44:$L$57,7,FALSE)*(1+$B86)-HLOOKUP($B$54,'04_Wirtschaftlichkeit'!$E$44:$L$57,5,FALSE))","v":0},{"$f":"AS$56*(-HLOOKUP($B$54,'04_Wirtschaftlichkeit'!$E$44:$L$57,7,FALSE)*(1+$B86)-HLOOKUP($B$54,'04_Wirtschaftlichkeit'!$E$44:$L$57,5,FALSE))","v":0},{"$f":"AT$56*(-HLOOKUP($B$54,'04_Wirtschaftlichkeit'!$E$44:$L$57,7,FALSE)*(1+$B86)-HLOOKUP($B$54,'04_Wirtschaftlichkeit'!$E$44:$L$57,5,FALSE))","v":0},{"$f":"AU$56*(-HLOOKUP($B$54,'04_Wirtschaftlichkeit'!$E$44:$L$57,7,FALSE)*(1+$B86)-HLOOKUP($B$54,'04_Wirtschaftlichkeit'!$E$44:$L$57,5,FALSE))","v":0},{"$f":"AV$56*(-HLOOKUP($B$54,'04_Wirtschaftlichkeit'!$E$44:$L$57,7,FALSE)*(1+$B86)-HLOOKUP($B$54,'04_Wirtschaftlichkeit'!$E$44:$L$57,5,FALSE))","v":0},{"$f":"AW$56*(-HLOOKUP($B$54,'04_Wirtschaftlichkeit'!$E$44:$L$57,7,FALSE)*(1+$B86)-HLOOKUP($B$54,'04_Wirtschaftlichkeit'!$E$44:$L$57,5,FALSE))","v":0},{"$f":"AX$56*(-HLOOKUP($B$54,'04_Wirtschaftlichkeit'!$E$44:$L$57,7,FALSE)*(1+$B86)-HLOOKUP($B$54,'04_Wirtschaftlichkeit'!$E$44:$L$57,5,FALSE))","v":0},{"$f":"AY$56*(-HLOOKUP($B$54,'04_Wirtschaftlichkeit'!$E$44:$L$57,7,FALSE)*(1+$B86)-HLOOKUP($B$54,'04_Wirtschaftlichkeit'!$E$44:$L$57,5,FALSE))","v":0},{"$f":"AZ$56*(-HLOOKUP($B$54,'04_Wirtschaftlichkeit'!$E$44:$L$57,7,FALSE)*(1+$B86)-HLOOKUP($B$54,'04_Wirtschaftlichkeit'!$E$44:$L$57,5,FALSE))","v":0},{"$f":"BA$56*(-HLOOKUP($B$54,'04_Wirtschaftlichkeit'!$E$44:$L$57,7,FALSE)*(1+$B86)-HLOOKUP($B$54,'04_Wirtschaftlichkeit'!$E$44:$L$57,5,FALSE))","v":0}]
[null,-0.2,{"$f":"-HLOOKUP($B$54,'04_Wirtschaftlichkeit'!$E$44:$L$57,6,FALSE)","v":-1057830.7168757692},{"$f":"D$56*(-HLOOKUP($B$54,'04_Wirtschaftlichkeit'!$E$44:$L$57,7,FALSE)*(1+$B87)-HLOOKUP($B$54,'04_Wirtschaftlichkeit'!$E$44:$L$57,5,FALSE))","v":-67470.099999999991},{"$f":"E$56*(-HLOOKUP($B$54,'04_Wirtschaftlichkeit'!$E$44:$L$57,7,FALSE)*(1+$B87)-HLOOKUP($B$54,'04_Wirtschaftlichkeit'!$E$44:$L$57,5,FALSE))","v":-67470.099999999991},{"$f":"F$56*(-HLOOKUP($B$54,'04_Wirtschaftlichkeit'!$E$44:$L$57,7,FALSE)*(1+$B87)-HLOOKUP($B$54,'04_Wirtschaftlichkeit'!$E$44:$L$57,5,FALSE))","v":-67470.099999999991},{"$f":"G$56*(-HLOOKUP($B$54,'04_Wirtschaftlichkeit'!$E$44:$L$57,7,FALSE)*(1+$B87)-HLOOKUP($B$54,'04_Wirtschaftlichkeit'!$E$44:$L$57,5,FALSE))","v":-67470.099999999991},{"$f":"H$56*(-HLOOKUP($B$54,'04_Wirtschaftlichkeit'!$E$44:$L$57,7,FALSE)*(1+$B87)-HLOOKUP($B$54,'04_Wirtschaftlichkeit'!$E$44:$L$57,5,FALSE))","v":-67470.099999999991},{"$f":"I$56*(-HLOOKUP($B$54,'04_Wirtschaftlichkeit'!$E$44:$L$57,7,FALSE)*(1+$B87)-HLOOKUP($B$54,'04_Wirtschaftlichkeit'!$E$44:$L$57,5,FALSE))","v":-67470.099999999991},{"$f":"J$56*(-HLOOKUP($B$54,'04_Wirtschaftlichkeit'!$E$44:$L$57,7,FALSE)*(1+$B87)-HLOOKUP($B$54,'04_Wirtschaftlichkeit'!$E$44:$L$57,5,FALSE))","v":-67470.099999999991},{"$f":"K$56*(-HLOOKUP($B$54,'04_Wirtschaftlichkeit'!$E$44:$L$57,7,FALSE)*(1+$B87)-HLOOKUP($B$54,'04_Wirtschaftlichkeit'!$E$44:$L$57,5,FALSE))","v":-67470.099999999991},{"$f":"L$56*(-HLOOKUP($B$54,'04_Wirtschaftlichkeit'!$E$44:$L$57,7,FALSE)*(1+$B87)-HLOOKUP($B$54,'04_Wirtschaftlichkeit'!$E$44:$L$57,5,FALSE))","v":-67470.099999999991},{"$f":"M$56*(-HLOOKUP($B$54,'04_Wirtschaftlichkeit'!$E$44:$L$57,7,FALSE)*(1+$B87)-HLOOKUP($B$54,'04_Wirtschaftlichkeit'!$E$44:$L$57,5,FALSE))","v":-67470.099999999991},{"$f":"N$56*(-HLOOKUP($B$54,'04_Wirtschaftlichkeit'!$E$44:$L$57,7,FALSE)*(1+$B87)-HLOOKUP($B$54,'04_Wirtschaftlichkeit'!$E$44:$L$57,5,FALSE))","v":-67470.099999999991},{"$f":"O$56*(-HLOOKUP($B$54,'04_Wirtschaftlichkeit'!$E$44:$L$57,7,FALSE)*(1+$B87)-HLOOKUP($B$54,'04_Wirtschaftlichkeit'!$E$44:$L$57,5,FALSE))","v":-67470.099999999991},{"$f":"P$56*(-HLOOKUP($B$54,'04_Wirtschaftlichkeit'!$E$44:$L$57,7,FALSE)*(1+$B87)-HLOOKUP($B$54,'04_Wirtschaftlichkeit'!$E$44:$L$57,5,FALSE))","v":-67470.099999999991},{"$f":"Q$56*(-HLOOKUP($B$54,'04_Wirtschaftlichkeit'!$E$44:$L$57,7,FALSE)*(1+$B87)-HLOOKUP($B$54,'04_Wirtschaftlichkeit'!$E$44:$L$57,5,FALSE))","v":-67470.099999999991},{"$f":"R$56*(-HLOOKUP($B$54,'04_Wirtschaftlichkeit'!$E$44:$L$57,7,FALSE)*(1+$B87)-HLOOKUP($B$54,'04_Wirtschaftlichkeit'!$E$44:$L$57,5,FALSE))","v":-67470.099999999991},{"$f":"S$56*(-HLOOKUP($B$54,'04_Wirtschaftlichkeit'!$E$44:$L$57,7,FALSE)*(1+$B87)-HLOOKUP($B$54,'04_Wirtschaftlichkeit'!$E$44:$L$57,5,FALSE))","v":-67470.099999999991},{"$f":"T$56*(-HLOOKUP($B$54,'04_Wirtschaftlichkeit'!$E$44:$L$57,7,FALSE)*(1+$B87)-HLOOKUP($B$54,'04_Wirtschaftlichkeit'!$E$44:$L$57,5,FALSE))","v":-67470.099999999991},{"$f":"U$56*(-HLOOKUP($B$54,'04_Wirtschaftlichkeit'!$E$44:$L$57,7,FALSE)*(1+$B87)-HLOOKUP($B$54,'04_Wirtschaftlichkeit'!$E$44:$L$57,5,FALSE))","v":-67470.099999999991},{"$f":"V$56*(-HLOOKUP($B$54,'04_Wirtschaftlichkeit'!$E$44:$L$57,7,FALSE)*(1+$B87)-HLOOKUP($B$54,'04_Wirtschaftlichkeit'!$E$44:$L$57,5,FALSE))","v":-67470.099999999991},{"$f":"W$56*(-HLOOKUP($B$54,'04_Wirtschaftlichkeit'!$E$44:$L$57,7,FALSE)*(1+$B87)-HLOOKUP($B$54,'04_Wirtschaftlichkeit'!$E$44:$L$57,5,FALSE))","v":-67470.099999999991},{"$f":"X$56*(-HLOOKUP($B$54,'04_Wirtschaftlichkeit'!$E$44:$L$57,7,FALSE)*(1+$B87)-HLOOKUP($B$54,'04_Wirtschaftlichkeit'!$E$44:$L$57,5,FALSE))","v":0},{"$f":"Y$56*(-HLOOKUP($B$54,'04_Wirtschaftlichkeit'!$E$44:$L$57,7,FALSE)*(1+$B87)-HLOOKUP($B$54,'04_Wirtschaftlichkeit'!$E$44:$L$57,5,FALSE))","v":0},{"$f":"Z$56*(-HLOOKUP($B$54,'04_Wirtschaftlichkeit'!$E$44:$L$57,7,FALSE)*(1+$B87)-HLOOKUP($B$54,'04_Wirtschaftlichkeit'!$E$44:$L$57,5,FALSE))","v":0},{"$f":"AA$56*(-HLOOKUP($B$54,'04_Wirtschaftlichkeit'!$E$44:$L$57,7,FALSE)*(1+$B87)-HLOOKUP($B$54,'04_Wirtschaftlichkeit'!$E$44:$L$57,5,FALSE))","v":0},{"$f":"AB$56*(-HLOOKUP($B$54,'04_Wirtschaftlichkeit'!$E$44:$L$57,7,FALSE)*(1+$B87)-HLOOKUP($B$54,'04_Wirtschaftlichkeit'!$E$44:$L$57,5,FALSE))","v":0},{"$f":"AC$56*(-HLOOKUP($B$54,'04_Wirtschaftlichkeit'!$E$44:$L$57,7,FALSE)*(1+$B87)-HLOOKUP($B$54,'04_Wirtschaftlichkeit'!$E$44:$L$57,5,FALSE))","v":0},{"$f":"AD$56*(-HLOOKUP($B$54,'04_Wirtschaftlichkeit'!$E$44:$L$57,7,FALSE)*(1+$B87)-HLOOKUP($B$54,'04_Wirtschaftlichkeit'!$E$44:$L$57,5,FALSE))","v":0},{"$f":"AE$56*(-HLOOKUP($B$54,'04_Wirtschaftlichkeit'!$E$44:$L$57,7,FALSE)*(1+$B87)-HLOOKUP($B$54,'04_Wirtschaftlichkeit'!$E$44:$L$57,5,FALSE))","v":0},{"$f":"AF$56*(-HLOOKUP($B$54,'04_Wirtschaftlichkeit'!$E$44:$L$57,7,FALSE)*(1+$B87)-HLOOKUP($B$54,'04_Wirtschaftlichkeit'!$E$44:$L$57,5,FALSE))","v":0},{"$f":"AG$56*(-HLOOKUP($B$54,'04_Wirtschaftlichkeit'!$E$44:$L$57,7,FALSE)*(1+$B87)-HLOOKUP($B$54,'04_Wirtschaftlichkeit'!$E$44:$L$57,5,FALSE))","v":0},{"$f":"AH$56*(-HLOOKUP($B$54,'04_Wirtschaftlichkeit'!$E$44:$L$57,7,FALSE)*(1+$B87)-HLOOKUP($B$54,'04_Wirtschaftlichkeit'!$E$44:$L$57,5,FALSE))","v":0},{"$f":"AI$56*(-HLOOKUP($B$54,'04_Wirtschaftlichkeit'!$E$44:$L$57,7,FALSE)*(1+$B87)-HLOOKUP($B$54,'04_Wirtschaftlichkeit'!$E$44:$L$57,5,FALSE))","v":0},{"$f":"AJ$56*(-HLOOKUP($B$54,'04_Wirtschaftlichkeit'!$E$44:$L$57,7,FALSE)*(1+$B87)-HLOOKUP($B$54,'04_Wirtschaftlichkeit'!$E$44:$L$57,5,FALSE))","v":0},{"$f":"AK$56*(-HLOOKUP($B$54,'04_Wirtschaftlichkeit'!$E$44:$L$57,7,FALSE)*(1+$B87)-HLOOKUP($B$54,'04_Wirtschaftlichkeit'!$E$44:$L$57,5,FALSE))","v":0},{"$f":"AL$56*(-HLOOKUP($B$54,'04_Wirtschaftlichkeit'!$E$44:$L$57,7,FALSE)*(1+$B87)-HLOOKUP($B$54,'04_Wirtschaftlichkeit'!$E$44:$L$57,5,FALSE))","v":0},{"$f":"AM$56*(-HLOOKUP($B$54,'04_Wirtschaftlichkeit'!$E$44:$L$57,7,FALSE)*(1+$B87)-HLOOKUP($B$54,'04_Wirtschaftlichkeit'!$E$44:$L$57,5,FALSE))","v":0},{"$f":"AN$56*(-HLOOKUP($B$54,'04_Wirtschaftlichkeit'!$E$44:$L$57,7,FALSE)*(1+$B87)-HLOOKUP($B$54,'04_Wirtschaftlichkeit'!$E$44:$L$57,5,FALSE))","v":0},{"$f":"AO$56*(-HLOOKUP($B$54,'04_Wirtschaftlichkeit'!$E$44:$L$57,7,FALSE)*(1+$B87)-HLOOKUP($B$54,'04_Wirtschaftlichkeit'!$E$44:$L$57,5,FALSE))","v":0},{"$f":"AP$56*(-HLOOKUP($B$54,'04_Wirtschaftlichkeit'!$E$44:$L$57,7,FALSE)*(1+$B87)-HLOOKUP($B$54,'04_Wirtschaftlichkeit'!$E$44:$L$57,5,FALSE))","v":0},{"$f":"AQ$56*(-HLOOKUP($B$54,'04_Wirtschaftlichkeit'!$E$44:$L$57,7,FALSE)*(1+$B87)-HLOOKUP($B$54,'04_Wirtschaftlichkeit'!$E$44:$L$57,5,FALSE))","v":0},{"$f":"AR$56*(-HLOOKUP($B$54,'04_Wirtschaftlichkeit'!$E$44:$L$57,7,FALSE)*(1+$B87)-HLOOKUP($B$54,'04_Wirtschaftlichkeit'!$E$44:$L$57,5,FALSE))","v":0},{"$f":"AS$56*(-HLOOKUP($B$54,'04_Wirtschaftlichkeit'!$E$44:$L$57,7,FALSE)*(1+$B87)-HLOOKUP($B$54,'04_Wirtschaftlichkeit'!$E$44:$L$57,5,FALSE))","v":0},{"$f":"AT$56*(-HLOOKUP($B$54,'04_Wirtschaftlichkeit'!$E$44:$L$57,7,FALSE)*(1+$B87)-HLOOKUP($B$54,'04_Wirtschaftlichkeit'!$E$44:$L$57,5,FALSE))","v":0},{"$f":"AU$56*(-HLOOKUP($B$54,'04_Wirtschaftlichkeit'!$E$44:$L$57,7,FALSE)*(1+$B87)-HLOOKUP($B$54,'04_Wirtschaftlichkeit'!$E$44:$L$57,5,FALSE))","v":0},{"$f":"AV$56*(-HLOOKUP($B$54,'04_Wirtschaftlichkeit'!$E$44:$L$57,7,FALSE)*(1+$B87)-HLOOKUP($B$54,'04_Wirtschaftlichkeit'!$E$44:$L$57,5,FALSE))","v":0},{"$f":"AW$56*(-HLOOKUP($B$54,'04_Wirtschaftlichkeit'!$E$44:$L$57,7,FALSE)*(1+$B87)-HLOOKUP($B$54,'04_Wirtschaftlichkeit'!$E$44:$L$57,5,FALSE))","v":0},{"$f":"AX$56*(-HLOOKUP($B$54,'04_Wirtschaftlichkeit'!$E$44:$L$57,7,FALSE)*(1+$B87)-HLOOKUP($B$54,'04_Wirtschaftlichkeit'!$E$44:$L$57,5,FALSE))","v":0},{"$f":"AY$56*(-HLOOKUP($B$54,'04_Wirtschaftlichkeit'!$E$44:$L$57,7,FALSE)*(1+$B87)-HLOOKUP($B$54,'04_Wirtschaftlichkeit'!$E$44:$L$57,5,FALSE))","v":0},{"$f":"AZ$56*(-HLOOKUP($B$54,'04_Wirtschaftlichkeit'!$E$44:$L$57,7,FALSE)*(1+$B87)-HLOOKUP($B$54,'04_Wirtschaftlichkeit'!$E$44:$L$57,5,FALSE))","v":0},{"$f":"BA$56*(-HLOOKUP($B$54,'04_Wirtschaftlichkeit'!$E$44:$L$57,7,FALSE)*(1+$B87)-HLOOKUP($B$54,'04_Wirtschaftlichkeit'!$E$44:$L$57,5,FALSE))","v":0}]
[null,-0.1,{"$f":"-HLOOKUP($B$54,'04_Wirtschaftlichkeit'!$E$44:$L$57,6,FALSE)","v":-1057830.7168757692},{"$f":"D$56*(-HLOOKUP($B$54,'04_Wirtschaftlichkeit'!$E$44:$L$57,7,FALSE)*(1+$B88)-HLOOKUP($B$54,'04_Wirtschaftlichkeit'!$E$44:$L$57,5,FALSE))","v":-75839},{"$f":"E$56*(-HLOOKUP($B$54,'04_Wirtschaftlichkeit'!$E$44:$L$57,7,FALSE)*(1+$B88)-HLOOKUP($B$54,'04_Wirtschaftlichkeit'!$E$44:$L$57,5,FALSE))","v":-75839},{"$f":"F$56*(-HLOOKUP($B$54,'04_Wirtschaftlichkeit'!$E$44:$L$57,7,FALSE)*(1+$B88)-HLOOKUP($B$54,'04_Wirtschaftlichkeit'!$E$44:$L$57,5,FALSE))","v":-75839},{"$f":"G$56*(-HLOOKUP($B$54,'04_Wirtschaftlichkeit'!$E$44:$L$57,7,FALSE)*(1+$B88)-HLOOKUP($B$54,'04_Wirtschaftlichkeit'!$E$44:$L$57,5,FALSE))","v":-75839},{"$f":"H$56*(-HLOOKUP($B$54,'04_Wirtschaftlichkeit'!$E$44:$L$57,7,FALSE)*(1+$B88)-HLOOKUP($B$54,'04_Wirtschaftlichkeit'!$E$44:$L$57,5,FALSE))","v":-75839},{"$f":"I$56*(-HLOOKUP($B$54,'04_Wirtschaftlichkeit'!$E$44:$L$57,7,FALSE)*(1+$B88)-HLOOKUP($B$54,'04_Wirtschaftlichkeit'!$E$44:$L$57,5,FALSE))","v":-75839},{"$f":"J$56*(-HLOOKUP($B$54,'04_Wirtschaftlichkeit'!$E$44:$L$57,7,FALSE)*(1+$B88)-HLOOKUP($B$54,'04_Wirtschaftlichkeit'!$E$44:$L$57,5,FALSE))","v":-75839},{"$f":"K$56*(-HLOOKUP($B$54,'04_Wirtschaftlichkeit'!$E$44:$L$57,7,FALSE)*(1+$B88)-HLOOKUP($B$54,'04_Wirtschaftlichkeit'!$E$44:$L$57,5,FALSE))","v":-75839},{"$f":"L$56*(-HLOOKUP($B$54,'04_Wirtschaftlichkeit'!$E$44:$L$57,7,FALSE)*(1+$B88)-HLOOKUP($B$54,'04_Wirtschaftlichkeit'!$E$44:$L$57,5,FALSE))","v":-75839},{"$f":"M$56*(-HLOOKUP($B$54,'04_Wirtschaftlichkeit'!$E$44:$L$57,7,FALSE)*(1+$B88)-HLOOKUP($B$54,'04_Wirtschaftlichkeit'!$E$44:$L$57,5,FALSE))","v":-75839},{"$f":"N$56*(-HLOOKUP($B$54,'04_Wirtschaftlichkeit'!$E$44:$L$57,7,FALSE)*(1+$B88)-HLOOKUP($B$54,'04_Wirtschaftlichkeit'!$E$44:$L$57,5,FALSE))","v":-75839},{"$f":"O$56*(-HLOOKUP($B$54,'04_Wirtschaftlichkeit'!$E$44:$L$57,7,FALSE)*(1+$B88)-HLOOKUP($B$54,'04_Wirtschaftlichkeit'!$E$44:$L$57,5,FALSE))","v":-75839},{"$f":"P$56*(-HLOOKUP($B$54,'04_Wirtschaftlichkeit'!$E$44:$L$57,7,FALSE)*(1+$B88)-HLOOKUP($B$54,'04_Wirtschaftlichkeit'!$E$44:$L$57,5,FALSE))","v":-75839},{"$f":"Q$56*(-HLOOKUP($B$54,'04_Wirtschaftlichkeit'!$E$44:$L$57,7,FALSE)*(1+$B88)-HLOOKUP($B$54,'04_Wirtschaftlichkeit'!$E$44:$L$57,5,FALSE))","v":-75839},{"$f":"R$56*(-HLOOKUP($B$54,'04_Wirtschaftlichkeit'!$E$44:$L$57,7,FALSE)*(1+$B88)-HLOOKUP($B$54,'04_Wirtschaftlichkeit'!$E$44:$L$57,5,FALSE))","v":-75839},{"$f":"S$56*(-HLOOKUP($B$54,'04_Wirtschaftlichkeit'!$E$44:$L$57,7,FALSE)*(1+$B88)-HLOOKUP($B$54,'04_Wirtschaftlichkeit'!$E$44:$L$57,5,FALSE))","v":-75839},{"$f":"T$56*(-HLOOKUP($B$54,'04_Wirtschaftlichkeit'!$E$44:$L$57,7,FALSE)*(1+$B88)-HLOOKUP($B$54,'04_Wirtschaftlichkeit'!$E$44:$L$57,5,FALSE))","v":-75839},{"$f":"U$56*(-HLOOKUP($B$54,'04_Wirtschaftlichkeit'!$E$44:$L$57,7,FALSE)*(1+$B88)-HLOOKUP($B$54,'04_Wirtschaftlichkeit'!$E$44:$L$57,5,FALSE))","v":-75839},{"$f":"V$56*(-HLOOKUP($B$54,'04_Wirtschaftlichkeit'!$E$44:$L$57,7,FALSE)*(1+$B88)-HLOOKUP($B$54,'04_Wirtschaftlichkeit'!$E$44:$L$57,5,FALSE))","v":-75839},{"$f":"W$56*(-HLOOKUP($B$54,'04_Wirtschaftlichkeit'!$E$44:$L$57,7,FALSE)*(1+$B88)-HLOOKUP($B$54,'04_Wirtschaftlichkeit'!$E$44:$L$57,5,FALSE))","v":-75839},{"$f":"X$56*(-HLOOKUP($B$54,'04_Wirtschaftlichkeit'!$E$44:$L$57,7,FALSE)*(1+$B88)-HLOOKUP($B$54,'04_Wirtschaftlichkeit'!$E$44:$L$57,5,FALSE))","v":0},{"$f":"Y$56*(-HLOOKUP($B$54,'04_Wirtschaftlichkeit'!$E$44:$L$57,7,FALSE)*(1+$B88)-HLOOKUP($B$54,'04_Wirtschaftlichkeit'!$E$44:$L$57,5,FALSE))","v":0},{"$f":"Z$56*(-HLOOKUP($B$54,'04_Wirtschaftlichkeit'!$E$44:$L$57,7,FALSE)*(1+$B88)-HLOOKUP($B$54,'04_Wirtschaftlichkeit'!$E$44:$L$57,5,FALSE))","v":0},{"$f":"AA$56*(-HLOOKUP($B$54,'04_Wirtschaftlichkeit'!$E$44:$L$57,7,FALSE)*(1+$B88)-HLOOKUP($B$54,'04_Wirtschaftlichkeit'!$E$44:$L$57,5,FALSE))","v":0},{"$f":"AB$56*(-HLOOKUP($B$54,'04_Wirtschaftlichkeit'!$E$44:$L$57,7,FALSE)*(1+$B88)-HLOOKUP($B$54,'04_Wirtschaftlichkeit'!$E$44:$L$57,5,FALSE))","v":0},{"$f":"AC$56*(-HLOOKUP($B$54,'04_Wirtschaftlichkeit'!$E$44:$L$57,7,FALSE)*(1+$B88)-HLOOKUP($B$54,'04_Wirtschaftlichkeit'!$E$44:$L$57,5,FALSE))","v":0},{"$f":"AD$56*(-HLOOKUP($B$54,'04_Wirtschaftlichkeit'!$E$44:$L$57,7,FALSE)*(1+$B88)-HLOOKUP($B$54,'04_Wirtschaftlichkeit'!$E$44:$L$57,5,FALSE))","v":0},{"$f":"AE$56*(-HLOOKUP($B$54,'04_Wirtschaftlichkeit'!$E$44:$L$57,7,FALSE)*(1+$B88)-HLOOKUP($B$54,'04_Wirtschaftlichkeit'!$E$44:$L$57,5,FALSE))","v":0},{"$f":"AF$56*(-HLOOKUP($B$54,'04_Wirtschaftlichkeit'!$E$44:$L$57,7,FALSE)*(1+$B88)-HLOOKUP($B$54,'04_Wirtschaftlichkeit'!$E$44:$L$57,5,FALSE))","v":0},{"$f":"AG$56*(-HLOOKUP($B$54,'04_Wirtschaftlichkeit'!$E$44:$L$57,7,FALSE)*(1+$B88)-HLOOKUP($B$54,'04_Wirtschaftlichkeit'!$E$44:$L$57,5,FALSE))","v":0},{"$f":"AH$56*(-HLOOKUP($B$54,'04_Wirtschaftlichkeit'!$E$44:$L$57,7,FALSE)*(1+$B88)-HLOOKUP($B$54,'04_Wirtschaftlichkeit'!$E$44:$L$57,5,FALSE))","v":0},{"$f":"AI$56*(-HLOOKUP($B$54,'04_Wirtschaftlichkeit'!$E$44:$L$57,7,FALSE)*(1+$B88)-HLOOKUP($B$54,'04_Wirtschaftlichkeit'!$E$44:$L$57,5,FALSE))","v":0},{"$f":"AJ$56*(-HLOOKUP($B$54,'04_Wirtschaftlichkeit'!$E$44:$L$57,7,FALSE)*(1+$B88)-HLOOKUP($B$54,'04_Wirtschaftlichkeit'!$E$44:$L$57,5,FALSE))","v":0},{"$f":"AK$56*(-HLOOKUP($B$54,'04_Wirtschaftlichkeit'!$E$44:$L$57,7,FALSE)*(1+$B88)-HLOOKUP($B$54,'04_Wirtschaftlichkeit'!$E$44:$L$57,5,FALSE))","v":0},{"$f":"AL$56*(-HLOOKUP($B$54,'04_Wirtschaftlichkeit'!$E$44:$L$57,7,FALSE)*(1+$B88)-HLOOKUP($B$54,'04_Wirtschaftlichkeit'!$E$44:$L$57,5,FALSE))","v":0},{"$f":"AM$56*(-HLOOKUP($B$54,'04_Wirtschaftlichkeit'!$E$44:$L$57,7,FALSE)*(1+$B88)-HLOOKUP($B$54,'04_Wirtschaftlichkeit'!$E$44:$L$57,5,FALSE))","v":0},{"$f":"AN$56*(-HLOOKUP($B$54,'04_Wirtschaftlichkeit'!$E$44:$L$57,7,FALSE)*(1+$B88)-HLOOKUP($B$54,'04_Wirtschaftlichkeit'!$E$44:$L$57,5,FALSE))","v":0},{"$f":"AO$56*(-HLOOKUP($B$54,'04_Wirtschaftlichkeit'!$E$44:$L$57,7,FALSE)*(1+$B88)-HLOOKUP($B$54,'04_Wirtschaftlichkeit'!$E$44:$L$57,5,FALSE))","v":0},{"$f":"AP$56*(-HLOOKUP($B$54,'04_Wirtschaftlichkeit'!$E$44:$L$57,7,FALSE)*(1+$B88)-HLOOKUP($B$54,'04_Wirtschaftlichkeit'!$E$44:$L$57,5,FALSE))","v":0},{"$f":"AQ$56*(-HLOOKUP($B$54,'04_Wirtschaftlichkeit'!$E$44:$L$57,7,FALSE)*(1+$B88)-HLOOKUP($B$54,'04_Wirtschaftlichkeit'!$E$44:$L$57,5,FALSE))","v":0},{"$f":"AR$56*(-HLOOKUP($B$54,'04_Wirtschaftlichkeit'!$E$44:$L$57,7,FALSE)*(1+$B88)-HLOOKUP($B$54,'04_Wirtschaftlichkeit'!$E$44:$L$57,5,FALSE))","v":0},{"$f":"AS$56*(-HLOOKUP($B$54,'04_Wirtschaftlichkeit'!$E$44:$L$57,7,FALSE)*(1+$B88)-HLOOKUP($B$54,'04_Wirtschaftlichkeit'!$E$44:$L$57,5,FALSE))","v":0},{"$f":"AT$56*(-HLOOKUP($B$54,'04_Wirtschaftlichkeit'!$E$44:$L$57,7,FALSE)*(1+$B88)-HLOOKUP($B$54,'04_Wirtschaftlichkeit'!$E$44:$L$57,5,FALSE))","v":0},{"$f":"AU$56*(-HLOOKUP($B$54,'04_Wirtschaftlichkeit'!$E$44:$L$57,7,FALSE)*(1+$B88)-HLOOKUP($B$54,'04_Wirtschaftlichkeit'!$E$44:$L$57,5,FALSE))","v":0},{"$f":"AV$56*(-HLOOKUP($B$54,'04_Wirtschaftlichkeit'!$E$44:$L$57,7,FALSE)*(1+$B88)-HLOOKUP($B$54,'04_Wirtschaftlichkeit'!$E$44:$L$57,5,FALSE))","v":0},{"$f":"AW$56*(-HLOOKUP($B$54,'04_Wirtschaftlichkeit'!$E$44:$L$57,7,FALSE)*(1+$B88)-HLOOKUP($B$54,'04_Wirtschaftlichkeit'!$E$44:$L$57,5,FALSE))","v":0},{"$f":"AX$56*(-HLOOKUP($B$54,'04_Wirtschaftlichkeit'!$E$44:$L$57,7,FALSE)*(1+$B88)-HLOOKUP($B$54,'04_Wirtschaftlichkeit'!$E$44:$L$57,5,FALSE))","v":0},{"$f":"AY$56*(-HLOOKUP($B$54,'04_Wirtschaftlichkeit'!$E$44:$L$57,7,FALSE)*(1+$B88)-HLOOKUP($B$54,'04_Wirtschaftlichkeit'!$E$44:$L$57,5,FALSE))","v":0},{"$f":"AZ$56*(-HLOOKUP($B$54,'04_Wirtschaftlichkeit'!$E$44:$L$57,7,FALSE)*(1+$B88)-HLOOKUP($B$54,'04_Wirtschaftlichkeit'!$E$44:$L$57,5,FALSE))","v":0},{"$f":"BA$56*(-HLOOKUP($B$54,'04_Wirtschaftlichkeit'!$E$44:$L$57,7,FALSE)*(1+$B88)-HLOOKUP($B$54,'04_Wirtschaftlichkeit'!$E$44:$L$57,5,FALSE))","v":0}]
[null,0,{"$f":"-HLOOKUP($B$54,'04_Wirtschaftlichkeit'!$E$44:$L$57,6,FALSE)","v":-1057830.7168757692},{"$f":"D$56*(-HLOOKUP($B$54,'04_Wirtschaftlichkeit'!$E$44:$L$57,7,FALSE)*(1+$B89)-HLOOKUP($B$54,'04_Wirtschaftlichkeit'!$E$44:$L$57,5,FALSE))","v":-84207.9},{"$f":"E$56*(-HLOOKUP($B$54,'04_Wirtschaftlichkeit'!$E$44:$L$57,7,FALSE)*(1+$B89)-HLOOKUP($B$54,'04_Wirtschaftlichkeit'!$E$44:$L$57,5,FALSE))","v":-84207.9},{"$f":"F$56*(-HLOOKUP($B$54,'04_Wirtschaftlichkeit'!$E$44:$L$57,7,FALSE)*(1+$B89)-HLOOKUP($B$54,'04_Wirtschaftlichkeit'!$E$44:$L$57,5,FALSE))","v":-84207.9},{"$f":"G$56*(-HLOOKUP($B$54,'04_Wirtschaftlichkeit'!$E$44:$L$57,7,FALSE)*(1+$B89)-HLOOKUP($B$54,'04_Wirtschaftlichkeit'!$E$44:$L$57,5,FALSE))","v":-84207.9},{"$f":"H$56*(-HLOOKUP($B$54,'04_Wirtschaftlichkeit'!$E$44:$L$57,7,FALSE)*(1+$B89)-HLOOKUP($B$54,'04_Wirtschaftlichkeit'!$E$44:$L$57,5,FALSE))","v":-84207.9},{"$f":"I$56*(-HLOOKUP($B$54,'04_Wirtschaftlichkeit'!$E$44:$L$57,7,FALSE)*(1+$B89)-HLOOKUP($B$54,'04_Wirtschaftlichkeit'!$E$44:$L$57,5,FALSE))","v":-84207.9},{"$f":"J$56*(-HLOOKUP($B$54,'04_Wirtschaftlichkeit'!$E$44:$L$57,7,FALSE)*(1+$B89)-HLOOKUP($B$54,'04_Wirtschaftlichkeit'!$E$44:$L$57,5,FALSE))","v":-84207.9},{"$f":"K$56*(-HLOOKUP($B$54,'04_Wirtschaftlichkeit'!$E$44:$L$57,7,FALSE)*(1+$B89)-HLOOKUP($B$54,'04_Wirtschaftlichkeit'!$E$44:$L$57,5,FALSE))","v":-84207.9},{"$f":"L$56*(-HLOOKUP($B$54,'04_Wirtschaftlichkeit'!$E$44:$L$57,7,FALSE)*(1+$B89)-HLOOKUP($B$54,'04_Wirtschaftlichkeit'!$E$44:$L$57,5,FALSE))","v":-84207.9},{"$f":"M$56*(-HLOOKUP($B$54,'04_Wirtschaftlichkeit'!$E$44:$L$57,7,FALSE)*(1+$B89)-HLOOKUP($B$54,'04_Wirtschaftlichkeit'!$E$44:$L$57,5,FALSE))","v":-84207.9},{"$f":"N$56*(-HLOOKUP($B$54,'04_Wirtschaftlichkeit'!$E$44:$L$57,7,FALSE)*(1+$B89)-HLOOKUP($B$54,'04_Wirtschaftlichkeit'!$E$44:$L$57,5,FALSE))","v":-84207.9},{"$f":"O$56*(-HLOOKUP($B$54,'04_Wirtschaftlichkeit'!$E$44:$L$57,7,FALSE)*(1+$B89)-HLOOKUP($B$54,'04_Wirtschaftlichkeit'!$E$44:$L$57,5,FALSE))","v":-84207.9},{"$f":"P$56*(-HLOOKUP($B$54,'04_Wirtschaftlichkeit'!$E$44:$L$57,7,FALSE)*(1+$B89)-HLOOKUP($B$54,'04_Wirtschaftlichkeit'!$E$44:$L$57,5,FALSE))","v":-84207.9},{"$f":"Q$56*(-HLOOKUP($B$54,'04_Wirtschaftlichkeit'!$E$44:$L$57,7,FALSE)*(1+$B89)-HLOOKUP($B$54,'04_Wirtschaftlichkeit'!$E$44:$L$57,5,FALSE))","v":-84207.9},{"$f":"R$56*(-HLOOKUP($B$54,'04_Wirtschaftlichkeit'!$E$44:$L$57,7,FALSE)*(1+$B89)-HLOOKUP($B$54,'04_Wirtschaftlichkeit'!$E$44:$L$57,5,FALSE))","v":-84207.9},{"$f":"S$56*(-HLOOKUP($B$54,'04_Wirtschaftlichkeit'!$E$44:$L$57,7,FALSE)*(1+$B89)-HLOOKUP($B$54,'04_Wirtschaftlichkeit'!$E$44:$L$57,5,FALSE))","v":-84207.9},{"$f":"T$56*(-HLOOKUP($B$54,'04_Wirtschaftlichkeit'!$E$44:$L$57,7,FALSE)*(1+$B89)-HLOOKUP($B$54,'04_Wirtschaftlichkeit'!$E$44:$L$57,5,FALSE))","v":-84207.9},{"$f":"U$56*(-HLOOKUP($B$54,'04_Wirtschaftlichkeit'!$E$44:$L$57,7,FALSE)*(1+$B89)-HLOOKUP($B$54,'04_Wirtschaftlichkeit'!$E$44:$L$57,5,FALSE))","v":-84207.9},{"$f":"V$56*(-HLOOKUP($B$54,'04_Wirtschaftlichkeit'!$E$44:$L$57,7,FALSE)*(1+$B89)-HLOOKUP($B$54,'04_Wirtschaftlichkeit'!$E$44:$L$57,5,FALSE))","v":-84207.9},{"$f":"W$56*(-HLOOKUP($B$54,'04_Wirtschaftlichkeit'!$E$44:$L$57,7,FALSE)*(1+$B89)-HLOOKUP($B$54,'04_Wirtschaftlichkeit'!$E$44:$L$57,5,FALSE))","v":-84207.9},{"$f":"X$56*(-HLOOKUP($B$54,'04_Wirtschaftlichkeit'!$E$44:$L$57,7,FALSE)*(1+$B89)-HLOOKUP($B$54,'04_Wirtschaftlichkeit'!$E$44:$L$57,5,FALSE))","v":0},{"$f":"Y$56*(-HLOOKUP($B$54,'04_Wirtschaftlichkeit'!$E$44:$L$57,7,FALSE)*(1+$B89)-HLOOKUP($B$54,'04_Wirtschaftlichkeit'!$E$44:$L$57,5,FALSE))","v":0},{"$f":"Z$56*(-HLOOKUP($B$54,'04_Wirtschaftlichkeit'!$E$44:$L$57,7,FALSE)*(1+$B89)-HLOOKUP($B$54,'04_Wirtschaftlichkeit'!$E$44:$L$57,5,FALSE))","v":0},{"$f":"AA$56*(-HLOOKUP($B$54,'04_Wirtschaftlichkeit'!$E$44:$L$57,7,FALSE)*(1+$B89)-HLOOKUP($B$54,'04_Wirtschaftlichkeit'!$E$44:$L$57,5,FALSE))","v":0},{"$f":"AB$56*(-HLOOKUP($B$54,'04_Wirtschaftlichkeit'!$E$44:$L$57,7,FALSE)*(1+$B89)-HLOOKUP($B$54,'04_Wirtschaftlichkeit'!$E$44:$L$57,5,FALSE))","v":0},{"$f":"AC$56*(-HLOOKUP($B$54,'04_Wirtschaftlichkeit'!$E$44:$L$57,7,FALSE)*(1+$B89)-HLOOKUP($B$54,'04_Wirtschaftlichkeit'!$E$44:$L$57,5,FALSE))","v":0},{"$f":"AD$56*(-HLOOKUP($B$54,'04_Wirtschaftlichkeit'!$E$44:$L$57,7,FALSE)*(1+$B89)-HLOOKUP($B$54,'04_Wirtschaftlichkeit'!$E$44:$L$57,5,FALSE))","v":0},{"$f":"AE$56*(-HLOOKUP($B$54,'04_Wirtschaftlichkeit'!$E$44:$L$57,7,FALSE)*(1+$B89)-HLOOKUP($B$54,'04_Wirtschaftlichkeit'!$E$44:$L$57,5,FALSE))","v":0},{"$f":"AF$56*(-HLOOKUP($B$54,'04_Wirtschaftlichkeit'!$E$44:$L$57,7,FALSE)*(1+$B89)-HLOOKUP($B$54,'04_Wirtschaftlichkeit'!$E$44:$L$57,5,FALSE))","v":0},{"$f":"AG$56*(-HLOOKUP($B$54,'04_Wirtschaftlichkeit'!$E$44:$L$57,7,FALSE)*(1+$B89)-HLOOKUP($B$54,'04_Wirtschaftlichkeit'!$E$44:$L$57,5,FALSE))","v":0},{"$f":"AH$56*(-HLOOKUP($B$54,'04_Wirtschaftlichkeit'!$E$44:$L$57,7,FALSE)*(1+$B89)-HLOOKUP($B$54,'04_Wirtschaftlichkeit'!$E$44:$L$57,5,FALSE))","v":0},{"$f":"AI$56*(-HLOOKUP($B$54,'04_Wirtschaftlichkeit'!$E$44:$L$57,7,FALSE)*(1+$B89)-HLOOKUP($B$54,'04_Wirtschaftlichkeit'!$E$44:$L$57,5,FALSE))","v":0},{"$f":"AJ$56*(-HLOOKUP($B$54,'04_Wirtschaftlichkeit'!$E$44:$L$57,7,FALSE)*(1+$B89)-HLOOKUP($B$54,'04_Wirtschaftlichkeit'!$E$44:$L$57,5,FALSE))","v":0},{"$f":"AK$56*(-HLOOKUP($B$54,'04_Wirtschaftlichkeit'!$E$44:$L$57,7,FALSE)*(1+$B89)-HLOOKUP($B$54,'04_Wirtschaftlichkeit'!$E$44:$L$57,5,FALSE))","v":0},{"$f":"AL$56*(-HLOOKUP($B$54,'04_Wirtschaftlichkeit'!$E$44:$L$57,7,FALSE)*(1+$B89)-HLOOKUP($B$54,'04_Wirtschaftlichkeit'!$E$44:$L$57,5,FALSE))","v":0},{"$f":"AM$56*(-HLOOKUP($B$54,'04_Wirtschaftlichkeit'!$E$44:$L$57,7,FALSE)*(1+$B89)-HLOOKUP($B$54,'04_Wirtschaftlichkeit'!$E$44:$L$57,5,FALSE))","v":0},{"$f":"AN$56*(-HLOOKUP($B$54,'04_Wirtschaftlichkeit'!$E$44:$L$57,7,FALSE)*(1+$B89)-HLOOKUP($B$54,'04_Wirtschaftlichkeit'!$E$44:$L$57,5,FALSE))","v":0},{"$f":"AO$56*(-HLOOKUP($B$54,'04_Wirtschaftlichkeit'!$E$44:$L$57,7,FALSE)*(1+$B89)-HLOOKUP($B$54,'04_Wirtschaftlichkeit'!$E$44:$L$57,5,FALSE))","v":0},{"$f":"AP$56*(-HLOOKUP($B$54,'04_Wirtschaftlichkeit'!$E$44:$L$57,7,FALSE)*(1+$B89)-HLOOKUP($B$54,'04_Wirtschaftlichkeit'!$E$44:$L$57,5,FALSE))","v":0},{"$f":"AQ$56*(-HLOOKUP($B$54,'04_Wirtschaftlichkeit'!$E$44:$L$57,7,FALSE)*(1+$B89)-HLOOKUP($B$54,'04_Wirtschaftlichkeit'!$E$44:$L$57,5,FALSE))","v":0},{"$f":"AR$56*(-HLOOKUP($B$54,'04_Wirtschaftlichkeit'!$E$44:$L$57,7,FALSE)*(1+$B89)-HLOOKUP($B$54,'04_Wirtschaftlichkeit'!$E$44:$L$57,5,FALSE))","v":0},{"$f":"AS$56*(-HLOOKUP($B$54,'04_Wirtschaftlichkeit'!$E$44:$L$57,7,FALSE)*(1+$B89)-HLOOKUP($B$54,'04_Wirtschaftlichkeit'!$E$44:$L$57,5,FALSE))","v":0},{"$f":"AT$56*(-HLOOKUP($B$54,'04_Wirtschaftlichkeit'!$E$44:$L$57,7,FALSE)*(1+$B89)-HLOOKUP($B$54,'04_Wirtschaftlichkeit'!$E$44:$L$57,5,FALSE))","v":0},{"$f":"AU$56*(-HLOOKUP($B$54,'04_Wirtschaftlichkeit'!$E$44:$L$57,7,FALSE)*(1+$B89)-HLOOKUP($B$54,'04_Wirtschaftlichkeit'!$E$44:$L$57,5,FALSE))","v":0},{"$f":"AV$56*(-HLOOKUP($B$54,'04_Wirtschaftlichkeit'!$E$44:$L$57,7,FALSE)*(1+$B89)-HLOOKUP($B$54,'04_Wirtschaftlichkeit'!$E$44:$L$57,5,FALSE))","v":0},{"$f":"AW$56*(-HLOOKUP($B$54,'04_Wirtschaftlichkeit'!$E$44:$L$57,7,FALSE)*(1+$B89)-HLOOKUP($B$54,'04_Wirtschaftlichkeit'!$E$44:$L$57,5,FALSE))","v":0},{"$f":"AX$56*(-HLOOKUP($B$54,'04_Wirtschaftlichkeit'!$E$44:$L$57,7,FALSE)*(1+$B89)-HLOOKUP($B$54,'04_Wirtschaftlichkeit'!$E$44:$L$57,5,FALSE))","v":0},{"$f":"AY$56*(-HLOOKUP($B$54,'04_Wirtschaftlichkeit'!$E$44:$L$57,7,FALSE)*(1+$B89)-HLOOKUP($B$54,'04_Wirtschaftlichkeit'!$E$44:$L$57,5,FALSE))","v":0},{"$f":"AZ$56*(-HLOOKUP($B$54,'04_Wirtschaftlichkeit'!$E$44:$L$57,7,FALSE)*(1+$B89)-HLOOKUP($B$54,'04_Wirtschaftlichkeit'!$E$44:$L$57,5,FALSE))","v":0},{"$f":"BA$56*(-HLOOKUP($B$54,'04_Wirtschaftlichkeit'!$E$44:$L$57,7,FALSE)*(1+$B89)-HLOOKUP($B$54,'04_Wirtschaftlichkeit'!$E$44:$L$57,5,FALSE))","v":0}]
[null,0.1,{"$f":"-HLOOKUP($B$54,'04_Wirtschaftlichkeit'!$E$44:$L$57,6,FALSE)","v":-1057830.7168757692},{"$f":"D$56*(-HLOOKUP($B$54,'04_Wirtschaftlichkeit'!$E$44:$L$57,7,FALSE)*(1+$B90)-HLOOKUP($B$54,'04_Wirtschaftlichkeit'!$E$44:$L$57,5,FALSE))","v":-92576.8},{"$f":"E$56*(-HLOOKUP($B$54,'04_Wirtschaftlichkeit'!$E$44:$L$57,7,FALSE)*(1+$B90)-HLOOKUP($B$54,'04_Wirtschaftlichkeit'!$E$44:$L$57,5,FALSE))","v":-92576.8},{"$f":"F$56*(-HLOOKUP($B$54,'04_Wirtschaftlichkeit'!$E$44:$L$57,7,FALSE)*(1+$B90)-HLOOKUP($B$54,'04_Wirtschaftlichkeit'!$E$44:$L$57,5,FALSE))","v":-92576.8},{"$f":"G$56*(-HLOOKUP($B$54,'04_Wirtschaftlichkeit'!$E$44:$L$57,7,FALSE)*(1+$B90)-HLOOKUP($B$54,'04_Wirtschaftlichkeit'!$E$44:$L$57,5,FALSE))","v":-92576.8},{"$f":"H$56*(-HLOOKUP($B$54,'04_Wirtschaftlichkeit'!$E$44:$L$57,7,FALSE)*(1+$B90)-HLOOKUP($B$54,'04_Wirtschaftlichkeit'!$E$44:$L$57,5,FALSE))","v":-92576.8},{"$f":"I$56*(-HLOOKUP($B$54,'04_Wirtschaftlichkeit'!$E$44:$L$57,7,FALSE)*(1+$B90)-HLOOKUP($B$54,'04_Wirtschaftlichkeit'!$E$44:$L$57,5,FALSE))","v":-92576.8},{"$f":"J$56*(-HLOOKUP($B$54,'04_Wirtschaftlichkeit'!$E$44:$L$57,7,FALSE)*(1+$B90)-HLOOKUP($B$54,'04_Wirtschaftlichkeit'!$E$44:$L$57,5,FALSE))","v":-92576.8},{"$f":"K$56*(-HLOOKUP($B$54,'04_Wirtschaftlichkeit'!$E$44:$L$57,7,FALSE)*(1+$B90)-HLOOKUP($B$54,'04_Wirtschaftlichkeit'!$E$44:$L$57,5,FALSE))","v":-92576.8},{"$f":"L$56*(-HLOOKUP($B$54,'04_Wirtschaftlichkeit'!$E$44:$L$57,7,FALSE)*(1+$B90)-HLOOKUP($B$54,'04_Wirtschaftlichkeit'!$E$44:$L$57,5,FALSE))","v":-92576.8},{"$f":"M$56*(-HLOOKUP($B$54,'04_Wirtschaftlichkeit'!$E$44:$L$57,7,FALSE)*(1+$B90)-HLOOKUP($B$54,'04_Wirtschaftlichkeit'!$E$44:$L$57,5,FALSE))","v":-92576.8},{"$f":"N$56*(-HLOOKUP($B$54,'04_Wirtschaftlichkeit'!$E$44:$L$57,7,FALSE)*(1+$B90)-HLOOKUP($B$54,'04_Wirtschaftlichkeit'!$E$44:$L$57,5,FALSE))","v":-92576.8},{"$f":"O$56*(-HLOOKUP($B$54,'04_Wirtschaftlichkeit'!$E$44:$L$57,7,FALSE)*(1+$B90)-HLOOKUP($B$54,'04_Wirtschaftlichkeit'!$E$44:$L$57,5,FALSE))","v":-92576.8},{"$f":"P$56*(-HLOOKUP($B$54,'04_Wirtschaftlichkeit'!$E$44:$L$57,7,FALSE)*(1+$B90)-HLOOKUP($B$54,'04_Wirtschaftlichkeit'!$E$44:$L$57,5,FALSE))","v":-92576.8},{"$f":"Q$56*(-HLOOKUP($B$54,'04_Wirtschaftlichkeit'!$E$44:$L$57,7,FALSE)*(1+$B90)-HLOOKUP($B$54,'04_Wirtschaftlichkeit'!$E$44:$L$57,5,FALSE))","v":-92576.8},{"$f":"R$56*(-HLOOKUP($B$54,'04_Wirtschaftlichkeit'!$E$44:$L$57,7,FALSE)*(1+$B90)-HLOOKUP($B$54,'04_Wirtschaftlichkeit'!$E$44:$L$57,5,FALSE))","v":-92576.8},{"$f":"S$56*(-HLOOKUP($B$54,'04_Wirtschaftlichkeit'!$E$44:$L$57,7,FALSE)*(1+$B90)-HLOOKUP($B$54,'04_Wirtschaftlichkeit'!$E$44:$L$57,5,FALSE))","v":-92576.8},{"$f":"T$56*(-HLOOKUP($B$54,'04_Wirtschaftlichkeit'!$E$44:$L$57,7,FALSE)*(1+$B90)-HLOOKUP($B$54,'04_Wirtschaftlichkeit'!$E$44:$L$57,5,FALSE))","v":-92576.8},{"$f":"U$56*(-HLOOKUP($B$54,'04_Wirtschaftlichkeit'!$E$44:$L$57,7,FALSE)*(1+$B90)-HLOOKUP($B$54,'04_Wirtschaftlichkeit'!$E$44:$L$57,5,FALSE))","v":-92576.8},{"$f":"V$56*(-HLOOKUP($B$54,'04_Wirtschaftlichkeit'!$E$44:$L$57,7,FALSE)*(1+$B90)-HLOOKUP($B$54,'04_Wirtschaftlichkeit'!$E$44:$L$57,5,FALSE))","v":-92576.8},{"$f":"W$56*(-HLOOKUP($B$54,'04_Wirtschaftlichkeit'!$E$44:$L$57,7,FALSE)*(1+$B90)-HLOOKUP($B$54,'04_Wirtschaftlichkeit'!$E$44:$L$57,5,FALSE))","v":-92576.8},{"$f":"X$56*(-HLOOKUP($B$54,'04_Wirtschaftlichkeit'!$E$44:$L$57,7,FALSE)*(1+$B90)-HLOOKUP($B$54,'04_Wirtschaftlichkeit'!$E$44:$L$57,5,FALSE))","v":0},{"$f":"Y$56*(-HLOOKUP($B$54,'04_Wirtschaftlichkeit'!$E$44:$L$57,7,FALSE)*(1+$B90)-HLOOKUP($B$54,'04_Wirtschaftlichkeit'!$E$44:$L$57,5,FALSE))","v":0},{"$f":"Z$56*(-HLOOKUP($B$54,'04_Wirtschaftlichkeit'!$E$44:$L$57,7,FALSE)*(1+$B90)-HLOOKUP($B$54,'04_Wirtschaftlichkeit'!$E$44:$L$57,5,FALSE))","v":0},{"$f":"AA$56*(-HLOOKUP($B$54,'04_Wirtschaftlichkeit'!$E$44:$L$57,7,FALSE)*(1+$B90)-HLOOKUP($B$54,'04_Wirtschaftlichkeit'!$E$44:$L$57,5,FALSE))","v":0},{"$f":"AB$56*(-HLOOKUP($B$54,'04_Wirtschaftlichkeit'!$E$44:$L$57,7,FALSE)*(1+$B90)-HLOOKUP($B$54,'04_Wirtschaftlichkeit'!$E$44:$L$57,5,FALSE))","v":0},{"$f":"AC$56*(-HLOOKUP($B$54,'04_Wirtschaftlichkeit'!$E$44:$L$57,7,FALSE)*(1+$B90)-HLOOKUP($B$54,'04_Wirtschaftlichkeit'!$E$44:$L$57,5,FALSE))","v":0},{"$f":"AD$56*(-HLOOKUP($B$54,'04_Wirtschaftlichkeit'!$E$44:$L$57,7,FALSE)*(1+$B90)-HLOOKUP($B$54,'04_Wirtschaftlichkeit'!$E$44:$L$57,5,FALSE))","v":0},{"$f":"AE$56*(-HLOOKUP($B$54,'04_Wirtschaftlichkeit'!$E$44:$L$57,7,FALSE)*(1+$B90)-HLOOKUP($B$54,'04_Wirtschaftlichkeit'!$E$44:$L$57,5,FALSE))","v":0},{"$f":"AF$56*(-HLOOKUP($B$54,'04_Wirtschaftlichkeit'!$E$44:$L$57,7,FALSE)*(1+$B90)-HLOOKUP($B$54,'04_Wirtschaftlichkeit'!$E$44:$L$57,5,FALSE))","v":0},{"$f":"AG$56*(-HLOOKUP($B$54,'04_Wirtschaftlichkeit'!$E$44:$L$57,7,FALSE)*(1+$B90)-HLOOKUP($B$54,'04_Wirtschaftlichkeit'!$E$44:$L$57,5,FALSE))","v":0},{"$f":"AH$56*(-HLOOKUP($B$54,'04_Wirtschaftlichkeit'!$E$44:$L$57,7,FALSE)*(1+$B90)-HLOOKUP($B$54,'04_Wirtschaftlichkeit'!$E$44:$L$57,5,FALSE))","v":0},{"$f":"AI$56*(-HLOOKUP($B$54,'04_Wirtschaftlichkeit'!$E$44:$L$57,7,FALSE)*(1+$B90)-HLOOKUP($B$54,'04_Wirtschaftlichkeit'!$E$44:$L$57,5,FALSE))","v":0},{"$f":"AJ$56*(-HLOOKUP($B$54,'04_Wirtschaftlichkeit'!$E$44:$L$57,7,FALSE)*(1+$B90)-HLOOKUP($B$54,'04_Wirtschaftlichkeit'!$E$44:$L$57,5,FALSE))","v":0},{"$f":"AK$56*(-HLOOKUP($B$54,'04_Wirtschaftlichkeit'!$E$44:$L$57,7,FALSE)*(1+$B90)-HLOOKUP($B$54,'04_Wirtschaftlichkeit'!$E$44:$L$57,5,FALSE))","v":0},{"$f":"AL$56*(-HLOOKUP($B$54,'04_Wirtschaftlichkeit'!$E$44:$L$57,7,FALSE)*(1+$B90)-HLOOKUP($B$54,'04_Wirtschaftlichkeit'!$E$44:$L$57,5,FALSE))","v":0},{"$f":"AM$56*(-HLOOKUP($B$54,'04_Wirtschaftlichkeit'!$E$44:$L$57,7,FALSE)*(1+$B90)-HLOOKUP($B$54,'04_Wirtschaftlichkeit'!$E$44:$L$57,5,FALSE))","v":0},{"$f":"AN$56*(-HLOOKUP($B$54,'04_Wirtschaftlichkeit'!$E$44:$L$57,7,FALSE)*(1+$B90)-HLOOKUP($B$54,'04_Wirtschaftlichkeit'!$E$44:$L$57,5,FALSE))","v":0},{"$f":"AO$56*(-HLOOKUP($B$54,'04_Wirtschaftlichkeit'!$E$44:$L$57,7,FALSE)*(1+$B90)-HLOOKUP($B$54,'04_Wirtschaftlichkeit'!$E$44:$L$57,5,FALSE))","v":0},{"$f":"AP$56*(-HLOOKUP($B$54,'04_Wirtschaftlichkeit'!$E$44:$L$57,7,FALSE)*(1+$B90)-HLOOKUP($B$54,'04_Wirtschaftlichkeit'!$E$44:$L$57,5,FALSE))","v":0},{"$f":"AQ$56*(-HLOOKUP($B$54,'04_Wirtschaftlichkeit'!$E$44:$L$57,7,FALSE)*(1+$B90)-HLOOKUP($B$54,'04_Wirtschaftlichkeit'!$E$44:$L$57,5,FALSE))","v":0},{"$f":"AR$56*(-HLOOKUP($B$54,'04_Wirtschaftlichkeit'!$E$44:$L$57,7,FALSE)*(1+$B90)-HLOOKUP($B$54,'04_Wirtschaftlichkeit'!$E$44:$L$57,5,FALSE))","v":0},{"$f":"AS$56*(-HLOOKUP($B$54,'04_Wirtschaftlichkeit'!$E$44:$L$57,7,FALSE)*(1+$B90)-HLOOKUP($B$54,'04_Wirtschaftlichkeit'!$E$44:$L$57,5,FALSE))","v":0},{"$f":"AT$56*(-HLOOKUP($B$54,'04_Wirtschaftlichkeit'!$E$44:$L$57,7,FALSE)*(1+$B90)-HLOOKUP($B$54,'04_Wirtschaftlichkeit'!$E$44:$L$57,5,FALSE))","v":0},{"$f":"AU$56*(-HLOOKUP($B$54,'04_Wirtschaftlichkeit'!$E$44:$L$57,7,FALSE)*(1+$B90)-HLOOKUP($B$54,'04_Wirtschaftlichkeit'!$E$44:$L$57,5,FALSE))","v":0},{"$f":"AV$56*(-HLOOKUP($B$54,'04_Wirtschaftlichkeit'!$E$44:$L$57,7,FALSE)*(1+$B90)-HLOOKUP($B$54,'04_Wirtschaftlichkeit'!$E$44:$L$57,5,FALSE))","v":0},{"$f":"AW$56*(-HLOOKUP($B$54,'04_Wirtschaftlichkeit'!$E$44:$L$57,7,FALSE)*(1+$B90)-HLOOKUP($B$54,'04_Wirtschaftlichkeit'!$E$44:$L$57,5,FALSE))","v":0},{"$f":"AX$56*(-HLOOKUP($B$54,'04_Wirtschaftlichkeit'!$E$44:$L$57,7,FALSE)*(1+$B90)-HLOOKUP($B$54,'04_Wirtschaftlichkeit'!$E$44:$L$57,5,FALSE))","v":0},{"$f":"AY$56*(-HLOOKUP($B$54,'04_Wirtschaftlichkeit'!$E$44:$L$57,7,FALSE)*(1+$B90)-HLOOKUP($B$54,'04_Wirtschaftlichkeit'!$E$44:$L$57,5,FALSE))","v":0},{"$f":"AZ$56*(-HLOOKUP($B$54,'04_Wirtschaftlichkeit'!$E$44:$L$57,7,FALSE)*(1+$B90)-HLOOKUP($B$54,'04_Wirtschaftlichkeit'!$E$44:$L$57,5,FALSE))","v":0},{"$f":"BA$56*(-HLOOKUP($B$54,'04_Wirtschaftlichkeit'!$E$44:$L$57,7,FALSE)*(1+$B90)-HLOOKUP($B$54,'04_Wirtschaftlichkeit'!$E$44:$L$57,5,FALSE))","v":0}]
[null,0.2,{"$f":"-HLOOKUP($B$54,'04_Wirtschaftlichkeit'!$E$44:$L$57,6,FALSE)","v":-1057830.7168757692},{"$f":"D$56*(-HLOOKUP($B$54,'04_Wirtschaftlichkeit'!$E$44:$L$57,7,FALSE)*(1+$B91)-HLOOKUP($B$54,'04_Wirtschaftlichkeit'!$E$44:$L$57,5,FALSE))","v":-100945.7},{"$f":"E$56*(-HLOOKUP($B$54,'04_Wirtschaftlichkeit'!$E$44:$L$57,7,FALSE)*(1+$B91)-HLOOKUP($B$54,'04_Wirtschaftlichkeit'!$E$44:$L$57,5,FALSE))","v":-100945.7},{"$f":"F$56*(-HLOOKUP($B$54,'04_Wirtschaftlichkeit'!$E$44:$L$57,7,FALSE)*(1+$B91)-HLOOKUP($B$54,'04_Wirtschaftlichkeit'!$E$44:$L$57,5,FALSE))","v":-100945.7},{"$f":"G$56*(-HLOOKUP($B$54,'04_Wirtschaftlichkeit'!$E$44:$L$57,7,FALSE)*(1+$B91)-HLOOKUP($B$54,'04_Wirtschaftlichkeit'!$E$44:$L$57,5,FALSE))","v":-100945.7},{"$f":"H$56*(-HLOOKUP($B$54,'04_Wirtschaftlichkeit'!$E$44:$L$57,7,FALSE)*(1+$B91)-HLOOKUP($B$54,'04_Wirtschaftlichkeit'!$E$44:$L$57,5,FALSE))","v":-100945.7},{"$f":"I$56*(-HLOOKUP($B$54,'04_Wirtschaftlichkeit'!$E$44:$L$57,7,FALSE)*(1+$B91)-HLOOKUP($B$54,'04_Wirtschaftlichkeit'!$E$44:$L$57,5,FALSE))","v":-100945.7},{"$f":"J$56*(-HLOOKUP($B$54,'04_Wirtschaftlichkeit'!$E$44:$L$57,7,FALSE)*(1+$B91)-HLOOKUP($B$54,'04_Wirtschaftlichkeit'!$E$44:$L$57,5,FALSE))","v":-100945.7},{"$f":"K$56*(-HLOOKUP($B$54,'04_Wirtschaftlichkeit'!$E$44:$L$57,7,FALSE)*(1+$B91)-HLOOKUP($B$54,'04_Wirtschaftlichkeit'!$E$44:$L$57,5,FALSE))","v":-100945.7},{"$f":"L$56*(-HLOOKUP($B$54,'04_Wirtschaftlichkeit'!$E$44:$L$57,7,FALSE)*(1+$B91)-HLOOKUP($B$54,'04_Wirtschaftlichkeit'!$E$44:$L$57,5,FALSE))","v":-100945.7},{"$f":"M$56*(-HLOOKUP($B$54,'04_Wirtschaftlichkeit'!$E$44:$L$57,7,FALSE)*(1+$B91)-HLOOKUP($B$54,'04_Wirtschaftlichkeit'!$E$44:$L$57,5,FALSE))","v":-100945.7},{"$f":"N$56*(-HLOOKUP($B$54,'04_Wirtschaftlichkeit'!$E$44:$L$57,7,FALSE)*(1+$B91)-HLOOKUP($B$54,'04_Wirtschaftlichkeit'!$E$44:$L$57,5,FALSE))","v":-100945.7},{"$f":"O$56*(-HLOOKUP($B$54,'04_Wirtschaftlichkeit'!$E$44:$L$57,7,FALSE)*(1+$B91)-HLOOKUP($B$54,'04_Wirtschaftlichkeit'!$E$44:$L$57,5,FALSE))","v":-100945.7},{"$f":"P$56*(-HLOOKUP($B$54,'04_Wirtschaftlichkeit'!$E$44:$L$57,7,FALSE)*(1+$B91)-HLOOKUP($B$54,'04_Wirtschaftlichkeit'!$E$44:$L$57,5,FALSE))","v":-100945.7},{"$f":"Q$56*(-HLOOKUP($B$54,'04_Wirtschaftlichkeit'!$E$44:$L$57,7,FALSE)*(1+$B91)-HLOOKUP($B$54,'04_Wirtschaftlichkeit'!$E$44:$L$57,5,FALSE))","v":-100945.7},{"$f":"R$56*(-HLOOKUP($B$54,'04_Wirtschaftlichkeit'!$E$44:$L$57,7,FALSE)*(1+$B91)-HLOOKUP($B$54,'04_Wirtschaftlichkeit'!$E$44:$L$57,5,FALSE))","v":-100945.7},{"$f":"S$56*(-HLOOKUP($B$54,'04_Wirtschaftlichkeit'!$E$44:$L$57,7,FALSE)*(1+$B91)-HLOOKUP($B$54,'04_Wirtschaftlichkeit'!$E$44:$L$57,5,FALSE))","v":-100945.7},{"$f":"T$56*(-HLOOKUP($B$54,'04_Wirtschaftlichkeit'!$E$44:$L$57,7,FALSE)*(1+$B91)-HLOOKUP($B$54,'04_Wirtschaftlichkeit'!$E$44:$L$57,5,FALSE))","v":-100945.7},{"$f":"U$56*(-HLOOKUP($B$54,'04_Wirtschaftlichkeit'!$E$44:$L$57,7,FALSE)*(1+$B91)-HLOOKUP($B$54,'04_Wirtschaftlichkeit'!$E$44:$L$57,5,FALSE))","v":-100945.7},{"$f":"V$56*(-HLOOKUP($B$54,'04_Wirtschaftlichkeit'!$E$44:$L$57,7,FALSE)*(1+$B91)-HLOOKUP($B$54,'04_Wirtschaftlichkeit'!$E$44:$L$57,5,FALSE))","v":-100945.7},{"$f":"W$56*(-HLOOKUP($B$54,'04_Wirtschaftlichkeit'!$E$44:$L$57,7,FALSE)*(1+$B91)-HLOOKUP($B$54,'04_Wirtschaftlichkeit'!$E$44:$L$57,5,FALSE))","v":-100945.7},{"$f":"X$56*(-HLOOKUP($B$54,'04_Wirtschaftlichkeit'!$E$44:$L$57,7,FALSE)*(1+$B91)-HLOOKUP($B$54,'04_Wirtschaftlichkeit'!$E$44:$L$57,5,FALSE))","v":0},{"$f":"Y$56*(-HLOOKUP($B$54,'04_Wirtschaftlichkeit'!$E$44:$L$57,7,FALSE)*(1+$B91)-HLOOKUP($B$54,'04_Wirtschaftlichkeit'!$E$44:$L$57,5,FALSE))","v":0},{"$f":"Z$56*(-HLOOKUP($B$54,'04_Wirtschaftlichkeit'!$E$44:$L$57,7,FALSE)*(1+$B91)-HLOOKUP($B$54,'04_Wirtschaftlichkeit'!$E$44:$L$57,5,FALSE))","v":0},{"$f":"AA$56*(-HLOOKUP($B$54,'04_Wirtschaftlichkeit'!$E$44:$L$57,7,FALSE)*(1+$B91)-HLOOKUP($B$54,'04_Wirtschaftlichkeit'!$E$44:$L$57,5,FALSE))","v":0},{"$f":"AB$56*(-HLOOKUP($B$54,'04_Wirtschaftlichkeit'!$E$44:$L$57,7,FALSE)*(1+$B91)-HLOOKUP($B$54,'04_Wirtschaftlichkeit'!$E$44:$L$57,5,FALSE))","v":0},{"$f":"AC$56*(-HLOOKUP($B$54,'04_Wirtschaftlichkeit'!$E$44:$L$57,7,FALSE)*(1+$B91)-HLOOKUP($B$54,'04_Wirtschaftlichkeit'!$E$44:$L$57,5,FALSE))","v":0},{"$f":"AD$56*(-HLOOKUP($B$54,'04_Wirtschaftlichkeit'!$E$44:$L$57,7,FALSE)*(1+$B91)-HLOOKUP($B$54,'04_Wirtschaftlichkeit'!$E$44:$L$57,5,FALSE))","v":0},{"$f":"AE$56*(-HLOOKUP($B$54,'04_Wirtschaftlichkeit'!$E$44:$L$57,7,FALSE)*(1+$B91)-HLOOKUP($B$54,'04_Wirtschaftlichkeit'!$E$44:$L$57,5,FALSE))","v":0},{"$f":"AF$56*(-HLOOKUP($B$54,'04_Wirtschaftlichkeit'!$E$44:$L$57,7,FALSE)*(1+$B91)-HLOOKUP($B$54,'04_Wirtschaftlichkeit'!$E$44:$L$57,5,FALSE))","v":0},{"$f":"AG$56*(-HLOOKUP($B$54,'04_Wirtschaftlichkeit'!$E$44:$L$57,7,FALSE)*(1+$B91)-HLOOKUP($B$54,'04_Wirtschaftlichkeit'!$E$44:$L$57,5,FALSE))","v":0},{"$f":"AH$56*(-HLOOKUP($B$54,'04_Wirtschaftlichkeit'!$E$44:$L$57,7,FALSE)*(1+$B91)-HLOOKUP($B$54,'04_Wirtschaftlichkeit'!$E$44:$L$57,5,FALSE))","v":0},{"$f":"AI$56*(-HLOOKUP($B$54,'04_Wirtschaftlichkeit'!$E$44:$L$57,7,FALSE)*(1+$B91)-HLOOKUP($B$54,'04_Wirtschaftlichkeit'!$E$44:$L$57,5,FALSE))","v":0},{"$f":"AJ$56*(-HLOOKUP($B$54,'04_Wirtschaftlichkeit'!$E$44:$L$57,7,FALSE)*(1+$B91)-HLOOKUP($B$54,'04_Wirtschaftlichkeit'!$E$44:$L$57,5,FALSE))","v":0},{"$f":"AK$56*(-HLOOKUP($B$54,'04_Wirtschaftlichkeit'!$E$44:$L$57,7,FALSE)*(1+$B91)-HLOOKUP($B$54,'04_Wirtschaftlichkeit'!$E$44:$L$57,5,FALSE))","v":0},{"$f":"AL$56*(-HLOOKUP($B$54,'04_Wirtschaftlichkeit'!$E$44:$L$57,7,FALSE)*(1+$B91)-HLOOKUP($B$54,'04_Wirtschaftlichkeit'!$E$44:$L$57,5,FALSE))","v":0},{"$f":"AM$56*(-HLOOKUP($B$54,'04_Wirtschaftlichkeit'!$E$44:$L$57,7,FALSE)*(1+$B91)-HLOOKUP($B$54,'04_Wirtschaftlichkeit'!$E$44:$L$57,5,FALSE))","v":0},{"$f":"AN$56*(-HLOOKUP($B$54,'04_Wirtschaftlichkeit'!$E$44:$L$57,7,FALSE)*(1+$B91)-HLOOKUP($B$54,'04_Wirtschaftlichkeit'!$E$44:$L$57,5,FALSE))","v":0},{"$f":"AO$56*(-HLOOKUP($B$54,'04_Wirtschaftlichkeit'!$E$44:$L$57,7,FALSE)*(1+$B91)-HLOOKUP($B$54,'04_Wirtschaftlichkeit'!$E$44:$L$57,5,FALSE))","v":0},{"$f":"AP$56*(-HLOOKUP($B$54,'04_Wirtschaftlichkeit'!$E$44:$L$57,7,FALSE)*(1+$B91)-HLOOKUP($B$54,'04_Wirtschaftlichkeit'!$E$44:$L$57,5,FALSE))","v":0},{"$f":"AQ$56*(-HLOOKUP($B$54,'04_Wirtschaftlichkeit'!$E$44:$L$57,7,FALSE)*(1+$B91)-HLOOKUP($B$54,'04_Wirtschaftlichkeit'!$E$44:$L$57,5,FALSE))","v":0},{"$f":"AR$56*(-HLOOKUP($B$54,'04_Wirtschaftlichkeit'!$E$44:$L$57,7,FALSE)*(1+$B91)-HLOOKUP($B$54,'04_Wirtschaftlichkeit'!$E$44:$L$57,5,FALSE))","v":0},{"$f":"AS$56*(-HLOOKUP($B$54,'04_Wirtschaftlichkeit'!$E$44:$L$57,7,FALSE)*(1+$B91)-HLOOKUP($B$54,'04_Wirtschaftlichkeit'!$E$44:$L$57,5,FALSE))","v":0},{"$f":"AT$56*(-HLOOKUP($B$54,'04_Wirtschaftlichkeit'!$E$44:$L$57,7,FALSE)*(1+$B91)-HLOOKUP($B$54,'04_Wirtschaftlichkeit'!$E$44:$L$57,5,FALSE))","v":0},{"$f":"AU$56*(-HLOOKUP($B$54,'04_Wirtschaftlichkeit'!$E$44:$L$57,7,FALSE)*(1+$B91)-HLOOKUP($B$54,'04_Wirtschaftlichkeit'!$E$44:$L$57,5,FALSE))","v":0},{"$f":"AV$56*(-HLOOKUP($B$54,'04_Wirtschaftlichkeit'!$E$44:$L$57,7,FALSE)*(1+$B91)-HLOOKUP($B$54,'04_Wirtschaftlichkeit'!$E$44:$L$57,5,FALSE))","v":0},{"$f":"AW$56*(-HLOOKUP($B$54,'04_Wirtschaftlichkeit'!$E$44:$L$57,7,FALSE)*(1+$B91)-HLOOKUP($B$54,'04_Wirtschaftlichkeit'!$E$44:$L$57,5,FALSE))","v":0},{"$f":"AX$56*(-HLOOKUP($B$54,'04_Wirtschaftlichkeit'!$E$44:$L$57,7,FALSE)*(1+$B91)-HLOOKUP($B$54,'04_Wirtschaftlichkeit'!$E$44:$L$57,5,FALSE))","v":0},{"$f":"AY$56*(-HLOOKUP($B$54,'04_Wirtschaftlichkeit'!$E$44:$L$57,7,FALSE)*(1+$B91)-HLOOKUP($B$54,'04_Wirtschaftlichkeit'!$E$44:$L$57,5,FALSE))","v":0},{"$f":"AZ$56*(-HLOOKUP($B$54,'04_Wirtschaftlichkeit'!$E$44:$L$57,7,FALSE)*(1+$B91)-HLOOKUP($B$54,'04_Wirtschaftlichkeit'!$E$44:$L$57,5,FALSE))","v":0},{"$f":"BA$56*(-HLOOKUP($B$54,'04_Wirtschaftlichkeit'!$E$44:$L$57,7,FALSE)*(1+$B91)-HLOOKUP($B$54,'04_Wirtschaftlichkeit'!$E$44:$L$57,5,FALSE))","v":0}]
[null,0.3,{"$f":"-HLOOKUP($B$54,'04_Wirtschaftlichkeit'!$E$44:$L$57,6,FALSE)","v":-1057830.7168757692},{"$f":"D$56*(-HLOOKUP($B$54,'04_Wirtschaftlichkeit'!$E$44:$L$57,7,FALSE)*(1+$B92)-HLOOKUP($B$54,'04_Wirtschaftlichkeit'!$E$44:$L$57,5,FALSE))","v":-109314.59999999999},{"$f":"E$56*(-HLOOKUP($B$54,'04_Wirtschaftlichkeit'!$E$44:$L$57,7,FALSE)*(1+$B92)-HLOOKUP($B$54,'04_Wirtschaftlichkeit'!$E$44:$L$57,5,FALSE))","v":-109314.59999999999},{"$f":"F$56*(-HLOOKUP($B$54,'04_Wirtschaftlichkeit'!$E$44:$L$57,7,FALSE)*(1+$B92)-HLOOKUP($B$54,'04_Wirtschaftlichkeit'!$E$44:$L$57,5,FALSE))","v":-109314.59999999999},{"$f":"G$56*(-HLOOKUP($B$54,'04_Wirtschaftlichkeit'!$E$44:$L$57,7,FALSE)*(1+$B92)-HLOOKUP($B$54,'04_Wirtschaftlichkeit'!$E$44:$L$57,5,FALSE))","v":-109314.59999999999},{"$f":"H$56*(-HLOOKUP($B$54,'04_Wirtschaftlichkeit'!$E$44:$L$57,7,FALSE)*(1+$B92)-HLOOKUP($B$54,'04_Wirtschaftlichkeit'!$E$44:$L$57,5,FALSE))","v":-109314.59999999999},{"$f":"I$56*(-HLOOKUP($B$54,'04_Wirtschaftlichkeit'!$E$44:$L$57,7,FALSE)*(1+$B92)-HLOOKUP($B$54,'04_Wirtschaftlichkeit'!$E$44:$L$57,5,FALSE))","v":-109314.59999999999},{"$f":"J$56*(-HLOOKUP($B$54,'04_Wirtschaftlichkeit'!$E$44:$L$57,7,FALSE)*(1+$B92)-HLOOKUP($B$54,'04_Wirtschaftlichkeit'!$E$44:$L$57,5,FALSE))","v":-109314.59999999999},{"$f":"K$56*(-HLOOKUP($B$54,'04_Wirtschaftlichkeit'!$E$44:$L$57,7,FALSE)*(1+$B92)-HLOOKUP($B$54,'04_Wirtschaftlichkeit'!$E$44:$L$57,5,FALSE))","v":-109314.59999999999},{"$f":"L$56*(-HLOOKUP($B$54,'04_Wirtschaftlichkeit'!$E$44:$L$57,7,FALSE)*(1+$B92)-HLOOKUP($B$54,'04_Wirtschaftlichkeit'!$E$44:$L$57,5,FALSE))","v":-109314.59999999999},{"$f":"M$56*(-HLOOKUP($B$54,'04_Wirtschaftlichkeit'!$E$44:$L$57,7,FALSE)*(1+$B92)-HLOOKUP($B$54,'04_Wirtschaftlichkeit'!$E$44:$L$57,5,FALSE))","v":-109314.59999999999},{"$f":"N$56*(-HLOOKUP($B$54,'04_Wirtschaftlichkeit'!$E$44:$L$57,7,FALSE)*(1+$B92)-HLOOKUP($B$54,'04_Wirtschaftlichkeit'!$E$44:$L$57,5,FALSE))","v":-109314.59999999999},{"$f":"O$56*(-HLOOKUP($B$54,'04_Wirtschaftlichkeit'!$E$44:$L$57,7,FALSE)*(1+$B92)-HLOOKUP($B$54,'04_Wirtschaftlichkeit'!$E$44:$L$57,5,FALSE))","v":-109314.59999999999},{"$f":"P$56*(-HLOOKUP($B$54,'04_Wirtschaftlichkeit'!$E$44:$L$57,7,FALSE)*(1+$B92)-HLOOKUP($B$54,'04_Wirtschaftlichkeit'!$E$44:$L$57,5,FALSE))","v":-109314.59999999999},{"$f":"Q$56*(-HLOOKUP($B$54,'04_Wirtschaftlichkeit'!$E$44:$L$57,7,FALSE)*(1+$B92)-HLOOKUP($B$54,'04_Wirtschaftlichkeit'!$E$44:$L$57,5,FALSE))","v":-109314.59999999999},{"$f":"R$56*(-HLOOKUP($B$54,'04_Wirtschaftlichkeit'!$E$44:$L$57,7,FALSE)*(1+$B92)-HLOOKUP($B$54,'04_Wirtschaftlichkeit'!$E$44:$L$57,5,FALSE))","v":-109314.59999999999},{"$f":"S$56*(-HLOOKUP($B$54,'04_Wirtschaftlichkeit'!$E$44:$L$57,7,FALSE)*(1+$B92)-HLOOKUP($B$54,'04_Wirtschaftlichkeit'!$E$44:$L$57,5,FALSE))","v":-109314.59999999999},{"$f":"T$56*(-HLOOKUP($B$54,'04_Wirtschaftlichkeit'!$E$44:$L$57,7,FALSE)*(1+$B92)-HLOOKUP($B$54,'04_Wirtschaftlichkeit'!$E$44:$L$57,5,FALSE))","v":-109314.59999999999},{"$f":"U$56*(-HLOOKUP($B$54,'04_Wirtschaftlichkeit'!$E$44:$L$57,7,FALSE)*(1+$B92)-HLOOKUP($B$54,'04_Wirtschaftlichkeit'!$E$44:$L$57,5,FALSE))","v":-109314.59999999999},{"$f":"V$56*(-HLOOKUP($B$54,'04_Wirtschaftlichkeit'!$E$44:$L$57,7,FALSE)*(1+$B92)-HLOOKUP($B$54,'04_Wirtschaftlichkeit'!$E$44:$L$57,5,FALSE))","v":-109314.59999999999},{"$f":"W$56*(-HLOOKUP($B$54,'04_Wirtschaftlichkeit'!$E$44:$L$57,7,FALSE)*(1+$B92)-HLOOKUP($B$54,'04_Wirtschaftlichkeit'!$E$44:$L$57,5,FALSE))","v":-109314.59999999999},{"$f":"X$56*(-HLOOKUP($B$54,'04_Wirtschaftlichkeit'!$E$44:$L$57,7,FALSE)*(1+$B92)-HLOOKUP($B$54,'04_Wirtschaftlichkeit'!$E$44:$L$57,5,FALSE))","v":0},{"$f":"Y$56*(-HLOOKUP($B$54,'04_Wirtschaftlichkeit'!$E$44:$L$57,7,FALSE)*(1+$B92)-HLOOKUP($B$54,'04_Wirtschaftlichkeit'!$E$44:$L$57,5,FALSE))","v":0},{"$f":"Z$56*(-HLOOKUP($B$54,'04_Wirtschaftlichkeit'!$E$44:$L$57,7,FALSE)*(1+$B92)-HLOOKUP($B$54,'04_Wirtschaftlichkeit'!$E$44:$L$57,5,FALSE))","v":0},{"$f":"AA$56*(-HLOOKUP($B$54,'04_Wirtschaftlichkeit'!$E$44:$L$57,7,FALSE)*(1+$B92)-HLOOKUP($B$54,'04_Wirtschaftlichkeit'!$E$44:$L$57,5,FALSE))","v":0},{"$f":"AB$56*(-HLOOKUP($B$54,'04_Wirtschaftlichkeit'!$E$44:$L$57,7,FALSE)*(1+$B92)-HLOOKUP($B$54,'04_Wirtschaftlichkeit'!$E$44:$L$57,5,FALSE))","v":0},{"$f":"AC$56*(-HLOOKUP($B$54,'04_Wirtschaftlichkeit'!$E$44:$L$57,7,FALSE)*(1+$B92)-HLOOKUP($B$54,'04_Wirtschaftlichkeit'!$E$44:$L$57,5,FALSE))","v":0},{"$f":"AD$56*(-HLOOKUP($B$54,'04_Wirtschaftlichkeit'!$E$44:$L$57,7,FALSE)*(1+$B92)-HLOOKUP($B$54,'04_Wirtschaftlichkeit'!$E$44:$L$57,5,FALSE))","v":0},{"$f":"AE$56*(-HLOOKUP($B$54,'04_Wirtschaftlichkeit'!$E$44:$L$57,7,FALSE)*(1+$B92)-HLOOKUP($B$54,'04_Wirtschaftlichkeit'!$E$44:$L$57,5,FALSE))","v":0},{"$f":"AF$56*(-HLOOKUP($B$54,'04_Wirtschaftlichkeit'!$E$44:$L$57,7,FALSE)*(1+$B92)-HLOOKUP($B$54,'04_Wirtschaftlichkeit'!$E$44:$L$57,5,FALSE))","v":0},{"$f":"AG$56*(-HLOOKUP($B$54,'04_Wirtschaftlichkeit'!$E$44:$L$57,7,FALSE)*(1+$B92)-HLOOKUP($B$54,'04_Wirtschaftlichkeit'!$E$44:$L$57,5,FALSE))","v":0},{"$f":"AH$56*(-HLOOKUP($B$54,'04_Wirtschaftlichkeit'!$E$44:$L$57,7,FALSE)*(1+$B92)-HLOOKUP($B$54,'04_Wirtschaftlichkeit'!$E$44:$L$57,5,FALSE))","v":0},{"$f":"AI$56*(-HLOOKUP($B$54,'04_Wirtschaftlichkeit'!$E$44:$L$57,7,FALSE)*(1+$B92)-HLOOKUP($B$54,'04_Wirtschaftlichkeit'!$E$44:$L$57,5,FALSE))","v":0},{"$f":"AJ$56*(-HLOOKUP($B$54,'04_Wirtschaftlichkeit'!$E$44:$L$57,7,FALSE)*(1+$B92)-HLOOKUP($B$54,'04_Wirtschaftlichkeit'!$E$44:$L$57,5,FALSE))","v":0},{"$f":"AK$56*(-HLOOKUP($B$54,'04_Wirtschaftlichkeit'!$E$44:$L$57,7,FALSE)*(1+$B92)-HLOOKUP($B$54,'04_Wirtschaftlichkeit'!$E$44:$L$57,5,FALSE))","v":0},{"$f":"AL$56*(-HLOOKUP($B$54,'04_Wirtschaftlichkeit'!$E$44:$L$57,7,FALSE)*(1+$B92)-HLOOKUP($B$54,'04_Wirtschaftlichkeit'!$E$44:$L$57,5,FALSE))","v":0},{"$f":"AM$56*(-HLOOKUP($B$54,'04_Wirtschaftlichkeit'!$E$44:$L$57,7,FALSE)*(1+$B92)-HLOOKUP($B$54,'04_Wirtschaftlichkeit'!$E$44:$L$57,5,FALSE))","v":0},{"$f":"AN$56*(-HLOOKUP($B$54,'04_Wirtschaftlichkeit'!$E$44:$L$57,7,FALSE)*(1+$B92)-HLOOKUP($B$54,'04_Wirtschaftlichkeit'!$E$44:$L$57,5,FALSE))","v":0},{"$f":"AO$56*(-HLOOKUP($B$54,'04_Wirtschaftlichkeit'!$E$44:$L$57,7,FALSE)*(1+$B92)-HLOOKUP($B$54,'04_Wirtschaftlichkeit'!$E$44:$L$57,5,FALSE))","v":0},{"$f":"AP$56*(-HLOOKUP($B$54,'04_Wirtschaftlichkeit'!$E$44:$L$57,7,FALSE)*(1+$B92)-HLOOKUP($B$54,'04_Wirtschaftlichkeit'!$E$44:$L$57,5,FALSE))","v":0},{"$f":"AQ$56*(-HLOOKUP($B$54,'04_Wirtschaftlichkeit'!$E$44:$L$57,7,FALSE)*(1+$B92)-HLOOKUP($B$54,'04_Wirtschaftlichkeit'!$E$44:$L$57,5,FALSE))","v":0},{"$f":"AR$56*(-HLOOKUP($B$54,'04_Wirtschaftlichkeit'!$E$44:$L$57,7,FALSE)*(1+$B92)-HLOOKUP($B$54,'04_Wirtschaftlichkeit'!$E$44:$L$57,5,FALSE))","v":0},{"$f":"AS$56*(-HLOOKUP($B$54,'04_Wirtschaftlichkeit'!$E$44:$L$57,7,FALSE)*(1+$B92)-HLOOKUP($B$54,'04_Wirtschaftlichkeit'!$E$44:$L$57,5,FALSE))","v":0},{"$f":"AT$56*(-HLOOKUP($B$54,'04_Wirtschaftlichkeit'!$E$44:$L$57,7,FALSE)*(1+$B92)-HLOOKUP($B$54,'04_Wirtschaftlichkeit'!$E$44:$L$57,5,FALSE))","v":0},{"$f":"AU$56*(-HLOOKUP($B$54,'04_Wirtschaftlichkeit'!$E$44:$L$57,7,FALSE)*(1+$B92)-HLOOKUP($B$54,'04_Wirtschaftlichkeit'!$E$44:$L$57,5,FALSE))","v":0},{"$f":"AV$56*(-HLOOKUP($B$54,'04_Wirtschaftlichkeit'!$E$44:$L$57,7,FALSE)*(1+$B92)-HLOOKUP($B$54,'04_Wirtschaftlichkeit'!$E$44:$L$57,5,FALSE))","v":0},{"$f":"AW$56*(-HLOOKUP($B$54,'04_Wirtschaftlichkeit'!$E$44:$L$57,7,FALSE)*(1+$B92)-HLOOKUP($B$54,'04_Wirtschaftlichkeit'!$E$44:$L$57,5,FALSE))","v":0},{"$f":"AX$56*(-HLOOKUP($B$54,'04_Wirtschaftlichkeit'!$E$44:$L$57,7,FALSE)*(1+$B92)-HLOOKUP($B$54,'04_Wirtschaftlichkeit'!$E$44:$L$57,5,FALSE))","v":0},{"$f":"AY$56*(-HLOOKUP($B$54,'04_Wirtschaftlichkeit'!$E$44:$L$57,7,FALSE)*(1+$B92)-HLOOKUP($B$54,'04_Wirtschaftlichkeit'!$E$44:$L$57,5,FALSE))","v":0},{"$f":"AZ$56*(-HLOOKUP($B$54,'04_Wirtschaftlichkeit'!$E$44:$L$57,7,FALSE)*(1+$B92)-HLOOKUP($B$54,'04_Wirtschaftlichkeit'!$E$44:$L$57,5,FALSE))","v":0},{"$f":"BA$56*(-HLOOKUP($B$54,'04_Wirtschaftlichkeit'!$E$44:$L$57,7,FALSE)*(1+$B92)-HLOOKUP($B$54,'04_Wirtschaftlichkeit'!$E$44:$L$57,5,FALSE))","v":0}]
[null,0.4,{"$f":"-HLOOKUP($B$54,'04_Wirtschaftlichkeit'!$E$44:$L$57,6,FALSE)","v":-1057830.7168757692},{"$f":"D$56*(-HLOOKUP($B$54,'04_Wirtschaftlichkeit'!$E$44:$L$57,7,FALSE)*(1+$B93)-HLOOKUP($B$54,'04_Wirtschaftlichkeit'!$E$44:$L$57,5,FALSE))","v":-117683.49999999999},{"$f":"E$56*(-HLOOKUP($B$54,'04_Wirtschaftlichkeit'!$E$44:$L$57,7,FALSE)*(1+$B93)-HLOOKUP($B$54,'04_Wirtschaftlichkeit'!$E$44:$L$57,5,FALSE))","v":-117683.49999999999},{"$f":"F$56*(-HLOOKUP($B$54,'04_Wirtschaftlichkeit'!$E$44:$L$57,7,FALSE)*(1+$B93)-HLOOKUP($B$54,'04_Wirtschaftlichkeit'!$E$44:$L$57,5,FALSE))","v":-117683.49999999999},{"$f":"G$56*(-HLOOKUP($B$54,'04_Wirtschaftlichkeit'!$E$44:$L$57,7,FALSE)*(1+$B93)-HLOOKUP($B$54,'04_Wirtschaftlichkeit'!$E$44:$L$57,5,FALSE))","v":-117683.49999999999},{"$f":"H$56*(-HLOOKUP($B$54,'04_Wirtschaftlichkeit'!$E$44:$L$57,7,FALSE)*(1+$B93)-HLOOKUP($B$54,'04_Wirtschaftlichkeit'!$E$44:$L$57,5,FALSE))","v":-117683.49999999999},{"$f":"I$56*(-HLOOKUP($B$54,'04_Wirtschaftlichkeit'!$E$44:$L$57,7,FALSE)*(1+$B93)-HLOOKUP($B$54,'04_Wirtschaftlichkeit'!$E$44:$L$57,5,FALSE))","v":-117683.49999999999},{"$f":"J$56*(-HLOOKUP($B$54,'04_Wirtschaftlichkeit'!$E$44:$L$57,7,FALSE)*(1+$B93)-HLOOKUP($B$54,'04_Wirtschaftlichkeit'!$E$44:$L$57,5,FALSE))","v":-117683.49999999999},{"$f":"K$56*(-HLOOKUP($B$54,'04_Wirtschaftlichkeit'!$E$44:$L$57,7,FALSE)*(1+$B93)-HLOOKUP($B$54,'04_Wirtschaftlichkeit'!$E$44:$L$57,5,FALSE))","v":-117683.49999999999},{"$f":"L$56*(-HLOOKUP($B$54,'04_Wirtschaftlichkeit'!$E$44:$L$57,7,FALSE)*(1+$B93)-HLOOKUP($B$54,'04_Wirtschaftlichkeit'!$E$44:$L$57,5,FALSE))","v":-117683.49999999999},{"$f":"M$56*(-HLOOKUP($B$54,'04_Wirtschaftlichkeit'!$E$44:$L$57,7,FALSE)*(1+$B93)-HLOOKUP($B$54,'04_Wirtschaftlichkeit'!$E$44:$L$57,5,FALSE))","v":-117683.49999999999},{"$f":"N$56*(-HLOOKUP($B$54,'04_Wirtschaftlichkeit'!$E$44:$L$57,7,FALSE)*(1+$B93)-HLOOKUP($B$54,'04_Wirtschaftlichkeit'!$E$44:$L$57,5,FALSE))","v":-117683.49999999999},{"$f":"O$56*(-HLOOKUP($B$54,'04_Wirtschaftlichkeit'!$E$44:$L$57,7,FALSE)*(1+$B93)-HLOOKUP($B$54,'04_Wirtschaftlichkeit'!$E$44:$L$57,5,FALSE))","v":-117683.49999999999},{"$f":"P$56*(-HLOOKUP($B$54,'04_Wirtschaftlichkeit'!$E$44:$L$57,7,FALSE)*(1+$B93)-HLOOKUP($B$54,'04_Wirtschaftlichkeit'!$E$44:$L$57,5,FALSE))","v":-117683.49999999999},{"$f":"Q$56*(-HLOOKUP($B$54,'04_Wirtschaftlichkeit'!$E$44:$L$57,7,FALSE)*(1+$B93)-HLOOKUP($B$54,'04_Wirtschaftlichkeit'!$E$44:$L$57,5,FALSE))","v":-117683.49999999999},{"$f":"R$56*(-HLOOKUP($B$54,'04_Wirtschaftlichkeit'!$E$44:$L$57,7,FALSE)*(1+$B93)-HLOOKUP($B$54,'04_Wirtschaftlichkeit'!$E$44:$L$57,5,FALSE))","v":-117683.49999999999},{"$f":"S$56*(-HLOOKUP($B$54,'04_Wirtschaftlichkeit'!$E$44:$L$57,7,FALSE)*(1+$B93)-HLOOKUP($B$54,'04_Wirtschaftlichkeit'!$E$44:$L$57,5,FALSE))","v":-117683.49999999999},{"$f":"T$56*(-HLOOKUP($B$54,'04_Wirtschaftlichkeit'!$E$44:$L$57,7,FALSE)*(1+$B93)-HLOOKUP($B$54,'04_Wirtschaftlichkeit'!$E$44:$L$57,5,FALSE))","v":-117683.49999999999},{"$f":"U$56*(-HLOOKUP($B$54,'04_Wirtschaftlichkeit'!$E$44:$L$57,7,FALSE)*(1+$B93)-HLOOKUP($B$54,'04_Wirtschaftlichkeit'!$E$44:$L$57,5,FALSE))","v":-117683.49999999999},{"$f":"V$56*(-HLOOKUP($B$54,'04_Wirtschaftlichkeit'!$E$44:$L$57,7,FALSE)*(1+$B93)-HLOOKUP($B$54,'04_Wirtschaftlichkeit'!$E$44:$L$57,5,FALSE))","v":-117683.49999999999},{"$f":"W$56*(-HLOOKUP($B$54,'04_Wirtschaftlichkeit'!$E$44:$L$57,7,FALSE)*(1+$B93)-HLOOKUP($B$54,'04_Wirtschaftlichkeit'!$E$44:$L$57,5,FALSE))","v":-117683.49999999999},{"$f":"X$56*(-HLOOKUP($B$54,'04_Wirtschaftlichkeit'!$E$44:$L$57,7,FALSE)*(1+$B93)-HLOOKUP($B$54,'04_Wirtschaftlichkeit'!$E$44:$L$57,5,FALSE))","v":0},{"$f":"Y$56*(-HLOOKUP($B$54,'04_Wirtschaftlichkeit'!$E$44:$L$57,7,FALSE)*(1+$B93)-HLOOKUP($B$54,'04_Wirtschaftlichkeit'!$E$44:$L$57,5,FALSE))","v":0},{"$f":"Z$56*(-HLOOKUP($B$54,'04_Wirtschaftlichkeit'!$E$44:$L$57,7,FALSE)*(1+$B93)-HLOOKUP($B$54,'04_Wirtschaftlichkeit'!$E$44:$L$57,5,FALSE))","v":0},{"$f":"AA$56*(-HLOOKUP($B$54,'04_Wirtschaftlichkeit'!$E$44:$L$57,7,FALSE)*(1+$B93)-HLOOKUP($B$54,'04_Wirtschaftlichkeit'!$E$44:$L$57,5,FALSE))","v":0},{"$f":"AB$56*(-HLOOKUP($B$54,'04_Wirtschaftlichkeit'!$E$44:$L$57,7,FALSE)*(1+$B93)-HLOOKUP($B$54,'04_Wirtschaftlichkeit'!$E$44:$L$57,5,FALSE))","v":0},{"$f":"AC$56*(-HLOOKUP($B$54,'04_Wirtschaftlichkeit'!$E$44:$L$57,7,FALSE)*(1+$B93)-HLOOKUP($B$54,'04_Wirtschaftlichkeit'!$E$44:$L$57,5,FALSE))","v":0},{"$f":"AD$56*(-HLOOKUP($B$54,'04_Wirtschaftlichkeit'!$E$44:$L$57,7,FALSE)*(1+$B93)-HLOOKUP($B$54,'04_Wirtschaftlichkeit'!$E$44:$L$57,5,FALSE))","v":0},{"$f":"AE$56*(-HLOOKUP($B$54,'04_Wirtschaftlichkeit'!$E$44:$L$57,7,FALSE)*(1+$B93)-HLOOKUP($B$54,'04_Wirtschaftlichkeit'!$E$44:$L$57,5,FALSE))","v":0},{"$f":"AF$56*(-HLOOKUP($B$54,'04_Wirtschaftlichkeit'!$E$44:$L$57,7,FALSE)*(1+$B93)-HLOOKUP($B$54,'04_Wirtschaftlichkeit'!$E$44:$L$57,5,FALSE))","v":0},{"$f":"AG$56*(-HLOOKUP($B$54,'04_Wirtschaftlichkeit'!$E$44:$L$57,7,FALSE)*(1+$B93)-HLOOKUP($B$54,'04_Wirtschaftlichkeit'!$E$44:$L$57,5,FALSE))","v":0},{"$f":"AH$56*(-HLOOKUP($B$54,'04_Wirtschaftlichkeit'!$E$44:$L$57,7,FALSE)*(1+$B93)-HLOOKUP($B$54,'04_Wirtschaftlichkeit'!$E$44:$L$57,5,FALSE))","v":0},{"$f":"AI$56*(-HLOOKUP($B$54,'04_Wirtschaftlichkeit'!$E$44:$L$57,7,FALSE)*(1+$B93)-HLOOKUP($B$54,'04_Wirtschaftlichkeit'!$E$44:$L$57,5,FALSE))","v":0},{"$f":"AJ$56*(-HLOOKUP($B$54,'04_Wirtschaftlichkeit'!$E$44:$L$57,7,FALSE)*(1+$B93)-HLOOKUP($B$54,'04_Wirtschaftlichkeit'!$E$44:$L$57,5,FALSE))","v":0},{"$f":"AK$56*(-HLOOKUP($B$54,'04_Wirtschaftlichkeit'!$E$44:$L$57,7,FALSE)*(1+$B93)-HLOOKUP($B$54,'04_Wirtschaftlichkeit'!$E$44:$L$57,5,FALSE))","v":0},{"$f":"AL$56*(-HLOOKUP($B$54,'04_Wirtschaftlichkeit'!$E$44:$L$57,7,FALSE)*(1+$B93)-HLOOKUP($B$54,'04_Wirtschaftlichkeit'!$E$44:$L$57,5,FALSE))","v":0},{"$f":"AM$56*(-HLOOKUP($B$54,'04_Wirtschaftlichkeit'!$E$44:$L$57,7,FALSE)*(1+$B93)-HLOOKUP($B$54,'04_Wirtschaftlichkeit'!$E$44:$L$57,5,FALSE))","v":0},{"$f":"AN$56*(-HLOOKUP($B$54,'04_Wirtschaftlichkeit'!$E$44:$L$57,7,FALSE)*(1+$B93)-HLOOKUP($B$54,'04_Wirtschaftlichkeit'!$E$44:$L$57,5,FALSE))","v":0},{"$f":"AO$56*(-HLOOKUP($B$54,'04_Wirtschaftlichkeit'!$E$44:$L$57,7,FALSE)*(1+$B93)-HLOOKUP($B$54,'04_Wirtschaftlichkeit'!$E$44:$L$57,5,FALSE))","v":0},{"$f":"AP$56*(-HLOOKUP($B$54,'04_Wirtschaftlichkeit'!$E$44:$L$57,7,FALSE)*(1+$B93)-HLOOKUP($B$54,'04_Wirtschaftlichkeit'!$E$44:$L$57,5,FALSE))","v":0},{"$f":"AQ$56*(-HLOOKUP($B$54,'04_Wirtschaftlichkeit'!$E$44:$L$57,7,FALSE)*(1+$B93)-HLOOKUP($B$54,'04_Wirtschaftlichkeit'!$E$44:$L$57,5,FALSE))","v":0},{"$f":"AR$56*(-HLOOKUP($B$54,'04_Wirtschaftlichkeit'!$E$44:$L$57,7,FALSE)*(1+$B93)-HLOOKUP($B$54,'04_Wirtschaftlichkeit'!$E$44:$L$57,5,FALSE))","v":0},{"$f":"AS$56*(-HLOOKUP($B$54,'04_Wirtschaftlichkeit'!$E$44:$L$57,7,FALSE)*(1+$B93)-HLOOKUP($B$54,'04_Wirtschaftlichkeit'!$E$44:$L$57,5,FALSE))","v":0},{"$f":"AT$56*(-HLOOKUP($B$54,'04_Wirtschaftlichkeit'!$E$44:$L$57,7,FALSE)*(1+$B93)-HLOOKUP($B$54,'04_Wirtschaftlichkeit'!$E$44:$L$57,5,FALSE))","v":0},{"$f":"AU$56*(-HLOOKUP($B$54,'04_Wirtschaftlichkeit'!$E$44:$L$57,7,FALSE)*(1+$B93)-HLOOKUP($B$54,'04_Wirtschaftlichkeit'!$E$44:$L$57,5,FALSE))","v":0},{"$f":"AV$56*(-HLOOKUP($B$54,'04_Wirtschaftlichkeit'!$E$44:$L$57,7,FALSE)*(1+$B93)-HLOOKUP($B$54,'04_Wirtschaftlichkeit'!$E$44:$L$57,5,FALSE))","v":0},{"$f":"AW$56*(-HLOOKUP($B$54,'04_Wirtschaftlichkeit'!$E$44:$L$57,7,FALSE)*(1+$B93)-HLOOKUP($B$54,'04_Wirtschaftlichkeit'!$E$44:$L$57,5,FALSE))","v":0},{"$f":"AX$56*(-HLOOKUP($B$54,'04_Wirtschaftlichkeit'!$E$44:$L$57,7,FALSE)*(1+$B93)-HLOOKUP($B$54,'04_Wirtschaftlichkeit'!$E$44:$L$57,5,FALSE))","v":0},{"$f":"AY$56*(-HLOOKUP($B$54,'04_Wirtschaftlichkeit'!$E$44:$L$57,7,FALSE)*(1+$B93)-HLOOKUP($B$54,'04_Wirtschaftlichkeit'!$E$44:$L$57,5,FALSE))","v":0},{"$f":"AZ$56*(-HLOOKUP($B$54,'04_Wirtschaftlichkeit'!$E$44:$L$57,7,FALSE)*(1+$B93)-HLOOKUP($B$54,'04_Wirtschaftlichkeit'!$E$44:$L$57,5,FALSE))","v":0},{"$f":"BA$56*(-HLOOKUP($B$54,'04_Wirtschaftlichkeit'!$E$44:$L$57,7,FALSE)*(1+$B93)-HLOOKUP($B$54,'04_Wirtschaftlichkeit'!$E$44:$L$57,5,FALSE))","v":0}]
[null,0.5,{"$f":"-HLOOKUP($B$54,'04_Wirtschaftlichkeit'!$E$44:$L$57,6,FALSE)","v":-1057830.7168757692},{"$f":"D$56*(-HLOOKUP($B$54,'04_Wirtschaftlichkeit'!$E$44:$L$57,7,FALSE)*(1+$B94)-HLOOKUP($B$54,'04_Wirtschaftlichkeit'!$E$44:$L$57,5,FALSE))","v":-126052.4},{"$f":"E$56*(-HLOOKUP($B$54,'04_Wirtschaftlichkeit'!$E$44:$L$57,7,FALSE)*(1+$B94)-HLOOKUP($B$54,'04_Wirtschaftlichkeit'!$E$44:$L$57,5,FALSE))","v":-126052.4},{"$f":"F$56*(-HLOOKUP($B$54,'04_Wirtschaftlichkeit'!$E$44:$L$57,7,FALSE)*(1+$B94)-HLOOKUP($B$54,'04_Wirtschaftlichkeit'!$E$44:$L$57,5,FALSE))","v":-126052.4},{"$f":"G$56*(-HLOOKUP($B$54,'04_Wirtschaftlichkeit'!$E$44:$L$57,7,FALSE)*(1+$B94)-HLOOKUP($B$54,'04_Wirtschaftlichkeit'!$E$44:$L$57,5,FALSE))","v":-126052.4},{"$f":"H$56*(-HLOOKUP($B$54,'04_Wirtschaftlichkeit'!$E$44:$L$57,7,FALSE)*(1+$B94)-HLOOKUP($B$54,'04_Wirtschaftlichkeit'!$E$44:$L$57,5,FALSE))","v":-126052.4},{"$f":"I$56*(-HLOOKUP($B$54,'04_Wirtschaftlichkeit'!$E$44:$L$57,7,FALSE)*(1+$B94)-HLOOKUP($B$54,'04_Wirtschaftlichkeit'!$E$44:$L$57,5,FALSE))","v":-126052.4},{"$f":"J$56*(-HLOOKUP($B$54,'04_Wirtschaftlichkeit'!$E$44:$L$57,7,FALSE)*(1+$B94)-HLOOKUP($B$54,'04_Wirtschaftlichkeit'!$E$44:$L$57,5,FALSE))","v":-126052.4},{"$f":"K$56*(-HLOOKUP($B$54,'04_Wirtschaftlichkeit'!$E$44:$L$57,7,FALSE)*(1+$B94)-HLOOKUP($B$54,'04_Wirtschaftlichkeit'!$E$44:$L$57,5,FALSE))","v":-126052.4},{"$f":"L$56*(-HLOOKUP($B$54,'04_Wirtschaftlichkeit'!$E$44:$L$57,7,FALSE)*(1+$B94)-HLOOKUP($B$54,'04_Wirtschaftlichkeit'!$E$44:$L$57,5,FALSE))","v":-126052.4},{"$f":"M$56*(-HLOOKUP($B$54,'04_Wirtschaftlichkeit'!$E$44:$L$57,7,FALSE)*(1+$B94)-HLOOKUP($B$54,'04_Wirtschaftlichkeit'!$E$44:$L$57,5,FALSE))","v":-126052.4},{"$f":"N$56*(-HLOOKUP($B$54,'04_Wirtschaftlichkeit'!$E$44:$L$57,7,FALSE)*(1+$B94)-HLOOKUP($B$54,'04_Wirtschaftlichkeit'!$E$44:$L$57,5,FALSE))","v":-126052.4},{"$f":"O$56*(-HLOOKUP($B$54,'04_Wirtschaftlichkeit'!$E$44:$L$57,7,FALSE)*(1+$B94)-HLOOKUP($B$54,'04_Wirtschaftlichkeit'!$E$44:$L$57,5,FALSE))","v":-126052.4},{"$f":"P$56*(-HLOOKUP($B$54,'04_Wirtschaftlichkeit'!$E$44:$L$57,7,FALSE)*(1+$B94)-HLOOKUP($B$54,'04_Wirtschaftlichkeit'!$E$44:$L$57,5,FALSE))","v":-126052.4},{"$f":"Q$56*(-HLOOKUP($B$54,'04_Wirtschaftlichkeit'!$E$44:$L$57,7,FALSE)*(1+$B94)-HLOOKUP($B$54,'04_Wirtschaftlichkeit'!$E$44:$L$57,5,FALSE))","v":-126052.4},{"$f":"R$56*(-HLOOKUP($B$54,'04_Wirtschaftlichkeit'!$E$44:$L$57,7,FALSE)*(1+$B94)-HLOOKUP($B$54,'04_Wirtschaftlichkeit'!$E$44:$L$57,5,FALSE))","v":-126052.4},{"$f":"S$56*(-HLOOKUP($B$54,'04_Wirtschaftlichkeit'!$E$44:$L$57,7,FALSE)*(1+$B94)-HLOOKUP($B$54,'04_Wirtschaftlichkeit'!$E$44:$L$57,5,FALSE))","v":-126052.4},{"$f":"T$56*(-HLOOKUP($B$54,'04_Wirtschaftlichkeit'!$E$44:$L$57,7,FALSE)*(1+$B94)-HLOOKUP($B$54,'04_Wirtschaftlichkeit'!$E$44:$L$57,5,FALSE))","v":-126052.4},{"$f":"U$56*(-HLOOKUP($B$54,'04_Wirtschaftlichkeit'!$E$44:$L$57,7,FALSE)*(1+$B94)-HLOOKUP($B$54,'04_Wirtschaftlichkeit'!$E$44:$L$57,5,FALSE))","v":-126052.4},{"$f":"V$56*(-HLOOKUP($B$54,'04_Wirtschaftlichkeit'!$E$44:$L$57,7,FALSE)*(1+$B94)-HLOOKUP($B$54,'04_Wirtschaftlichkeit'!$E$44:$L$57,5,FALSE))","v":-126052.4},{"$f":"W$56*(-HLOOKUP($B$54,'04_Wirtschaftlichkeit'!$E$44:$L$57,7,FALSE)*(1+$B94)-HLOOKUP($B$54,'04_Wirtschaftlichkeit'!$E$44:$L$57,5,FALSE))","v":-126052.4},{"$f":"X$56*(-HLOOKUP($B$54,'04_Wirtschaftlichkeit'!$E$44:$L$57,7,FALSE)*(1+$B94)-HLOOKUP($B$54,'04_Wirtschaftlichkeit'!$E$44:$L$57,5,FALSE))","v":0},{"$f":"Y$56*(-HLOOKUP($B$54,'04_Wirtschaftlichkeit'!$E$44:$L$57,7,FALSE)*(1+$B94)-HLOOKUP($B$54,'04_Wirtschaftlichkeit'!$E$44:$L$57,5,FALSE))","v":0},{"$f":"Z$56*(-HLOOKUP($B$54,'04_Wirtschaftlichkeit'!$E$44:$L$57,7,FALSE)*(1+$B94)-HLOOKUP($B$54,'04_Wirtschaftlichkeit'!$E$44:$L$57,5,FALSE))","v":0},{"$f":"AA$56*(-HLOOKUP($B$54,'04_Wirtschaftlichkeit'!$E$44:$L$57,7,FALSE)*(1+$B94)-HLOOKUP($B$54,'04_Wirtschaftlichkeit'!$E$44:$L$57,5,FALSE))","v":0},{"$f":"AB$56*(-HLOOKUP($B$54,'04_Wirtschaftlichkeit'!$E$44:$L$57,7,FALSE)*(1+$B94)-HLOOKUP($B$54,'04_Wirtschaftlichkeit'!$E$44:$L$57,5,FALSE))","v":0},{"$f":"AC$56*(-HLOOKUP($B$54,'04_Wirtschaftlichkeit'!$E$44:$L$57,7,FALSE)*(1+$B94)-HLOOKUP($B$54,'04_Wirtschaftlichkeit'!$E$44:$L$57,5,FALSE))","v":0},{"$f":"AD$56*(-HLOOKUP($B$54,'04_Wirtschaftlichkeit'!$E$44:$L$57,7,FALSE)*(1+$B94)-HLOOKUP($B$54,'04_Wirtschaftlichkeit'!$E$44:$L$57,5,FALSE))","v":0},{"$f":"AE$56*(-HLOOKUP($B$54,'04_Wirtschaftlichkeit'!$E$44:$L$57,7,FALSE)*(1+$B94)-HLOOKUP($B$54,'04_Wirtschaftlichkeit'!$E$44:$L$57,5,FALSE))","v":0},{"$f":"AF$56*(-HLOOKUP($B$54,'04_Wirtschaftlichkeit'!$E$44:$L$57,7,FALSE)*(1+$B94)-HLOOKUP($B$54,'04_Wirtschaftlichkeit'!$E$44:$L$57,5,FALSE))","v":0},{"$f":"AG$56*(-HLOOKUP($B$54,'04_Wirtschaftlichkeit'!$E$44:$L$57,7,FALSE)*(1+$B94)-HLOOKUP($B$54,'04_Wirtschaftlichkeit'!$E$44:$L$57,5,FALSE))","v":0},{"$f":"AH$56*(-HLOOKUP($B$54,'04_Wirtschaftlichkeit'!$E$44:$L$57,7,FALSE)*(1+$B94)-HLOOKUP($B$54,'04_Wirtschaftlichkeit'!$E$44:$L$57,5,FALSE))","v":0},{"$f":"AI$56*(-HLOOKUP($B$54,'04_Wirtschaftlichkeit'!$E$44:$L$57,7,FALSE)*(1+$B94)-HLOOKUP($B$54,'04_Wirtschaftlichkeit'!$E$44:$L$57,5,FALSE))","v":0},{"$f":"AJ$56*(-HLOOKUP($B$54,'04_Wirtschaftlichkeit'!$E$44:$L$57,7,FALSE)*(1+$B94)-HLOOKUP($B$54,'04_Wirtschaftlichkeit'!$E$44:$L$57,5,FALSE))","v":0},{"$f":"AK$56*(-HLOOKUP($B$54,'04_Wirtschaftlichkeit'!$E$44:$L$57,7,FALSE)*(1+$B94)-HLOOKUP($B$54,'04_Wirtschaftlichkeit'!$E$44:$L$57,5,FALSE))","v":0},{"$f":"AL$56*(-HLOOKUP($B$54,'04_Wirtschaftlichkeit'!$E$44:$L$57,7,FALSE)*(1+$B94)-HLOOKUP($B$54,'04_Wirtschaftlichkeit'!$E$44:$L$57,5,FALSE))","v":0},{"$f":"AM$56*(-HLOOKUP($B$54,'04_Wirtschaftlichkeit'!$E$44:$L$57,7,FALSE)*(1+$B94)-HLOOKUP($B$54,'04_Wirtschaftlichkeit'!$E$44:$L$57,5,FALSE))","v":0},{"$f":"AN$56*(-HLOOKUP($B$54,'04_Wirtschaftlichkeit'!$E$44:$L$57,7,FALSE)*(1+$B94)-HLOOKUP($B$54,'04_Wirtschaftlichkeit'!$E$44:$L$57,5,FALSE))","v":0},{"$f":"AO$56*(-HLOOKUP($B$54,'04_Wirtschaftlichkeit'!$E$44:$L$57,7,FALSE)*(1+$B94)-HLOOKUP($B$54,'04_Wirtschaftlichkeit'!$E$44:$L$57,5,FALSE))","v":0},{"$f":"AP$56*(-HLOOKUP($B$54,'04_Wirtschaftlichkeit'!$E$44:$L$57,7,FALSE)*(1+$B94)-HLOOKUP($B$54,'04_Wirtschaftlichkeit'!$E$44:$L$57,5,FALSE))","v":0},{"$f":"AQ$56*(-HLOOKUP($B$54,'04_Wirtschaftlichkeit'!$E$44:$L$57,7,FALSE)*(1+$B94)-HLOOKUP($B$54,'04_Wirtschaftlichkeit'!$E$44:$L$57,5,FALSE))","v":0},{"$f":"AR$56*(-HLOOKUP($B$54,'04_Wirtschaftlichkeit'!$E$44:$L$57,7,FALSE)*(1+$B94)-HLOOKUP($B$54,'04_Wirtschaftlichkeit'!$E$44:$L$57,5,FALSE))","v":0},{"$f":"AS$56*(-HLOOKUP($B$54,'04_Wirtschaftlichkeit'!$E$44:$L$57,7,FALSE)*(1+$B94)-HLOOKUP($B$54,'04_Wirtschaftlichkeit'!$E$44:$L$57,5,FALSE))","v":0},{"$f":"AT$56*(-HLOOKUP($B$54,'04_Wirtschaftlichkeit'!$E$44:$L$57,7,FALSE)*(1+$B94)-HLOOKUP($B$54,'04_Wirtschaftlichkeit'!$E$44:$L$57,5,FALSE))","v":0},{"$f":"AU$56*(-HLOOKUP($B$54,'04_Wirtschaftlichkeit'!$E$44:$L$57,7,FALSE)*(1+$B94)-HLOOKUP($B$54,'04_Wirtschaftlichkeit'!$E$44:$L$57,5,FALSE))","v":0},{"$f":"AV$56*(-HLOOKUP($B$54,'04_Wirtschaftlichkeit'!$E$44:$L$57,7,FALSE)*(1+$B94)-HLOOKUP($B$54,'04_Wirtschaftlichkeit'!$E$44:$L$57,5,FALSE))","v":0},{"$f":"AW$56*(-HLOOKUP($B$54,'04_Wirtschaftlichkeit'!$E$44:$L$57,7,FALSE)*(1+$B94)-HLOOKUP($B$54,'04_Wirtschaftlichkeit'!$E$44:$L$57,5,FALSE))","v":0},{"$f":"AX$56*(-HLOOKUP($B$54,'04_Wirtschaftlichkeit'!$E$44:$L$57,7,FALSE)*(1+$B94)-HLOOKUP($B$54,'04_Wirtschaftlichkeit'!$E$44:$L$57,5,FALSE))","v":0},{"$f":"AY$56*(-HLOOKUP($B$54,'04_Wirtschaftlichkeit'!$E$44:$L$57,7,FALSE)*(1+$B94)-HLOOKUP($B$54,'04_Wirtschaftlichkeit'!$E$44:$L$57,5,FALSE))","v":0},{"$f":"AZ$56*(-HLOOKUP($B$54,'04_Wirtschaftlichkeit'!$E$44:$L$57,7,FALSE)*(1+$B94)-HLOOKUP($B$54,'04_Wirtschaftlichkeit'!$E$44:$L$57,5,FALSE))","v":0},{"$f":"BA$56*(-HLOOKUP($B$54,'04_Wirtschaftlichkeit'!$E$44:$L$57,7,FALSE)*(1+$B94)-HLOOKUP($B$54,'04_Wirtschaftlichkeit'!$E$44:$L$57,5,FALSE))","v":0}]
[null,"Betrachtungsdauer"]
[null,"Betr.-Dauer",{"$f":"IF('04_Wirtschaftlichkeit'!$F$17*(1+$B97)>=Nebenrechnungen!C$55,1,0)","v":1},{"$f":"IF('04_Wirtschaftlichkeit'!$F$17*(1+$B97)>=Nebenrechnungen!D$55,1,0)","v":1},{"$f":"IF('04_Wirtschaftlichkeit'!$F$17*(1+$B97)>=Nebenrechnungen!E$55,1,0)","v":1},{"$f":"IF('04_Wirtschaftlichkeit'!$F$17*(1+$B97)>=Nebenrechnungen!F$55,1,0)","v":1},{"$f":"IF('04_Wirtschaftlichkeit'!$F$17*(1+$B97)>=Nebenrechnungen!G$55,1,0)","v":1},{"$f":"IF('04_Wirtschaftlichkeit'!$F$17*(1+$B97)>=Nebenrechnungen!H$55,1,0)","v":1},{"$f":"IF('04_Wirtschaftlichkeit'!$F$17*(1+$B97)>=Nebenrechnungen!I$55,1,0)","v":1},{"$f":"IF('04_Wirtschaftlichkeit'!$F$17*(1+$B97)>=Nebenrechnungen!J$55,1,0)","v":1},{"$f":"IF('04_Wirtschaftlichkeit'!$F$17*(1+$B97)>=Nebenrechnungen!K$55,1,0)","v":1},{"$f":"IF('04_Wirtschaftlichkeit'!$F$17*(1+$B97)>=Nebenrechnungen!L$55,1,0)","v":1},{"$f":"IF('04_Wirtschaftlichkeit'!$F$17*(1+$B97)>=Nebenrechnungen!M$55,1,0)","v":1},{"$f":"IF('04_Wirtschaftlichkeit'!$F$17*(1+$B97)>=Nebenrechnungen!N$55,1,0)","v":0},{"$f":"IF('04_Wirtschaftlichkeit'!$F$17*(1+$B97)>=Nebenrechnungen!O$55,1,0)","v":0},{"$f":"IF('04_Wirtschaftlichkeit'!$F$17*(1+$B97)>=Nebenrechnungen!P$55,1,0)","v":0},{"$f":"IF('04_Wirtschaftlichkeit'!$F$17*(1+$B97)>=Nebenrechnungen!Q$55,1,0)","v":0},{"$f":"IF('04_Wirtschaftlichkeit'!$F$17*(1+$B97)>=Nebenrechnungen!R$55,1,0)","v":0},{"$f":"IF('04_Wirtschaftlichkeit'!$F$17*(1+$B97)>=Nebenrechnungen!S$55,1,0)","v":0},{"$f":"IF('04_Wirtschaftlichkeit'!$F$17*(1+$B97)>=Nebenrechnungen!T$55,1,0)","v":0},{"$f":"IF('04_Wirtschaftlichkeit'!$F$17*(1+$B97)>=Nebenrechnungen!U$55,1,0)","v":0},{"$f":"IF('04_Wirtschaftlichkeit'!$F$17*(1+$B97)>=Nebenrechnungen!V$55,1,0)","v":0},{"$f":"IF('04_Wirtschaftlichkeit'!$F$17*(1+$B97)>=Nebenrechnungen!W$55,1,0)","v":0},{"$f":"IF('04_Wirtschaftlichkeit'!$F$17*(1+$B97)>=Nebenrechnungen!X$55,1,0)","v":0},{"$f":"IF('04_Wirtschaftlichkeit'!$F$17*(1+$B97)>=Nebenrechnungen!Y$55,1,0)","v":0},{"$f":"IF('04_Wirtschaftlichkeit'!$F$17*(1+$B97)>=Nebenrechnungen!Z$55,1,0)","v":0},{"$f":"IF('04_Wirtschaftlichkeit'!$F$17*(1+$B97)>=Nebenrechnungen!AA$55,1,0)","v":0},{"$f":"IF('04_Wirtschaftlichkeit'!$F$17*(1+$B97)>=Nebenrechnungen!AB$55,1,0)","v":0},{"$f":"IF('04_Wirtschaftlichkeit'!$F$17*(1+$B97)>=Nebenrechnungen!AC$55,1,0)","v":0},{"$f":"IF('04_Wirtschaftlichkeit'!$F$17*(1+$B97)>=Nebenrechnungen!AD$55,1,0)","v":0},{"$f":"IF('04_Wirtschaftlichkeit'!$F$17*(1+$B97)>=Nebenrechnungen!AE$55,1,0)","v":0},{"$f":"IF('04_Wirtschaftlichkeit'!$F$17*(1+$B97)>=Nebenrechnungen!AF$55,1,0)","v":0},{"$f":"IF('04_Wirtschaftlichkeit'!$F$17*(1+$B97)>=Nebenrechnungen!AG$55,1,0)","v":0},{"$f":"IF('04_Wirtschaftlichkeit'!$F$17*(1+$B97)>=Nebenrechnungen!AH$55,1,0)","v":0},{"$f":"IF('04_Wirtschaftlichkeit'!$F$17*(1+$B97)>=Nebenrechnungen!AI$55,1,0)","v":0},{"$f":"IF('04_Wirtschaftlichkeit'!$F$17*(1+$B97)>=Nebenrechnungen!AJ$55,1,0)","v":0},{"$f":"IF('04_Wirtschaftlichkeit'!$F$17*(1+$B97)>=Nebenrechnungen!AK$55,1,0)","v":0},{"$f":"IF('04_Wirtschaftlichkeit'!$F$17*(1+$B97)>=Nebenrechnungen!AL$55,1,0)","v":0},{"$f":"IF('04_Wirtschaftlichkeit'!$F$17*(1+$B97)>=Nebenrechnungen!AM$55,1,0)","v":0},{"$f":"IF('04_Wirtschaftlichkeit'!$F$17*(1+$B97)>=Nebenrechnungen!AN$55,1,0)","v":0},{"$f":"IF('04_Wirtschaftlichkeit'!$F$17*(1+$B97)>=Nebenrechnungen!AO$55,1,0)","v":0},{"$f":"IF('04_Wirtschaftlichkeit'!$F$17*(1+$B97)>=Nebenrechnungen!AP$55,1,0)","v":0},{"$f":"IF('04_Wirtschaftlichkeit'!$F$17*(1+$B97)>=Nebenrechnungen!AQ$55,1,0)","v":0},{"$f":"IF('04_Wirtschaftlichkeit'!$F$17*(1+$B97)>=Nebenrechnungen!AR$55,1,0)","v":0},{"$f":"IF('04_Wirtschaftlichkeit'!$F$17*(1+$B97)>=Nebenrechnungen!AS$55,1,0)","v":0},{"$f":"IF('04_Wirtschaftlichkeit'!$F$17*(1+$B97)>=Nebenrechnungen!AT$55,1,0)","v":0},{"$f":"IF('04_Wirtschaftlichkeit'!$F$17*(1+$B97)>=Nebenrechnungen!AU$55,1,0)","v":0},{"$f":"IF('04_Wirtschaftlichkeit'!$F$17*(1+$B97)>=Nebenrechnungen!AV$55,1,0)","v":0},{"$f":"IF('04_Wirtschaftlichkeit'!$F$17*(1+$B97)>=Nebenrechnungen!AW$55,1,0)","v":0},{"$f":"IF('04_Wirtschaftlichkeit'!$F$17*(1+$B97)>=Nebenrechnungen!AX$55,1,0)","v":0},{"$f":"IF('04_Wirtschaftlichkeit'!$F$17*(1+$B97)>=Nebenrechnungen!AY$55,1,0)","v":0},{"$f":"IF('04_Wirtschaftlichkeit'!$F$17*(1+$B97)>=Nebenrechnungen!AZ$55,1,0)","v":0},{"$f":"IF('04_Wirtschaftlichkeit'!$F$17*(1+$B97)>=Nebenrechnungen!BA$55,1,0)","v":0}]
[null,-0.5,{"$f":"-HLOOKUP($B$54,'04_Wirtschaftlichkeit'!$E$44:$L$57,6,FALSE)","v":-1057830.7168757692},{"$f":"D96*(-HLOOKUP($B$54,'04_Wirtschaftlichkeit'!$E$44:$L$57,7,FALSE)-HLOOKUP($B$54,'04_Wirtschaftlichkeit'!$E$44:$L$57,5,FALSE))","v":-84207.9},{"$f":"E96*(-HLOOKUP($B$54,'04_Wirtschaftlichkeit'!$E$44:$L$57,7,FALSE)-HLOOKUP($B$54,'04_Wirtschaftlichkeit'!$E$44:$L$57,5,FALSE))","v":-84207.9},{"$f":"F96*(-HLOOKUP($B$54,'04_Wirtschaftlichkeit'!$E$44:$L$57,7,FALSE)-HLOOKUP($B$54,'04_Wirtschaftlichkeit'!$E$44:$L$57,5,FALSE))","v":-84207.9},{"$f":"G96*(-HLOOKUP($B$54,'04_Wirtschaftlichkeit'!$E$44:$L$57,7,FALSE)-HLOOKUP($B$54,'04_Wirtschaftlichkeit'!$E$44:$L$57,5,FALSE))","v":-84207.9},{"$f":"H96*(-HLOOKUP($B$54,'04_Wirtschaftlichkeit'!$E$44:$L$57,7,FALSE)-HLOOKUP($B$54,'04_Wirtschaftlichkeit'!$E$44:$L$57,5,FALSE))","v":-84207.9},{"$f":"I96*(-HLOOKUP($B$54,'04_Wirtschaftlichkeit'!$E$44:$L$57,7,FALSE)-HLOOKUP($B$54,'04_Wirtschaftlichkeit'!$E$44:$L$57,5,FALSE))","v":-84207.9},{"$f":"J96*(-HLOOKUP($B$54,'04_Wirtschaftlichkeit'!$E$44:$L$57,7,FALSE)-HLOOKUP($B$54,'04_Wirtschaftlichkeit'!$E$44:$L$57,5,FALSE))","v":-84207.9},{"$f":"K96*(-HLOOKUP($B$54,'04_Wirtschaftlichkeit'!$E$44:$L$57,7,FALSE)-HLOOKUP($B$54,'04_Wirtschaftlichkeit'!$E$44:$L$57,5,FALSE))","v":-84207.9},{"$f":"L96*(-HLOOKUP($B$54,'04_Wirtschaftlichkeit'!$E$44:$L$57,7,FALSE)-HLOOKUP($B$54,'04_Wirtschaftlichkeit'!$E$44:$L$57,5,FALSE))","v":-84207.9},{"$f":"M96*(-HLOOKUP($B$54,'04_Wirtschaftlichkeit'!$E$44:$L$57,7,FALSE)-HLOOKUP($B$54,'04_Wirtschaftlichkeit'!$E$44:$L$57,5,FALSE))","v":-84207.9},{"$f":"N96*(-HLOOKUP($B$54,'04_Wirtschaftlichkeit'!$E$44:$L$57,7,FALSE)-HLOOKUP($B$54,'04_Wirtschaftlichkeit'!$E$44:$L$57,5,FALSE))","v":0},{"$f":"O96*(-HLOOKUP($B$54,'04_Wirtschaftlichkeit'!$E$44:$L$57,7,FALSE)-HLOOKUP($B$54,'04_Wirtschaftlichkeit'!$E$44:$L$57,5,FALSE))","v":0},{"$f":"P96*(-HLOOKUP($B$54,'04_Wirtschaftlichkeit'!$E$44:$L$57,7,FALSE)-HLOOKUP($B$54,'04_Wirtschaftlichkeit'!$E$44:$L$57,5,FALSE))","v":0},{"$f":"Q96*(-HLOOKUP($B$54,'04_Wirtschaftlichkeit'!$E$44:$L$57,7,FALSE)-HLOOKUP($B$54,'04_Wirtschaftlichkeit'!$E$44:$L$57,5,FALSE))","v":0},{"$f":"R96*(-HLOOKUP($B$54,'04_Wirtschaftlichkeit'!$E$44:$L$57,7,FALSE)-HLOOKUP($B$54,'04_Wirtschaftlichkeit'!$E$44:$L$57,5,FALSE))","v":0},{"$f":"S96*(-HLOOKUP($B$54,'04_Wirtschaftlichkeit'!$E$44:$L$57,7,FALSE)-HLOOKUP($B$54,'04_Wirtschaftlichkeit'!$E$44:$L$57,5,FALSE))","v":0},{"$f":"T96*(-HLOOKUP($B$54,'04_Wirtschaftlichkeit'!$E$44:$L$57,7,FALSE)-HLOOKUP($B$54,'04_Wirtschaftlichkeit'!$E$44:$L$57,5,FALSE))","v":0},{"$f":"U96*(-HLOOKUP($B$54,'04_Wirtschaftlichkeit'!$E$44:$L$57,7,FALSE)-HLOOKUP($B$54,'04_Wirtschaftlichkeit'!$E$44:$L$57,5,FALSE))","v":0},{"$f":"V96*(-HLOOKUP($B$54,'04_Wirtschaftlichkeit'!$E$44:$L$57,7,FALSE)-HLOOKUP($B$54,'04_Wirtschaftlichkeit'!$E$44:$L$57,5,FALSE))","v":0},{"$f":"W96*(-HLOOKUP($B$54,'04_Wirtschaftlichkeit'!$E$44:$L$57,7,FALSE)-HLOOKUP($B$54,'04_Wirtschaftlichkeit'!$E$44:$L$57,5,FALSE))","v":0},{"$f":"X96*(-HLOOKUP($B$54,'04_Wirtschaftlichkeit'!$E$44:$L$57,7,FALSE)-HLOOKUP($B$54,'04_Wirtschaftlichkeit'!$E$44:$L$57,5,FALSE))","v":0},{"$f":"Y96*(-HLOOKUP($B$54,'04_Wirtschaftlichkeit'!$E$44:$L$57,7,FALSE)-HLOOKUP($B$54,'04_Wirtschaftlichkeit'!$E$44:$L$57,5,FALSE))","v":0},{"$f":"Z96*(-HLOOKUP($B$54,'04_Wirtschaftlichkeit'!$E$44:$L$57,7,FALSE)-HLOOKUP($B$54,'04_Wirtschaftlichkeit'!$E$44:$L$57,5,FALSE))","v":0},{"$f":"AA96*(-HLOOKUP($B$54,'04_Wirtschaftlichkeit'!$E$44:$L$57,7,FALSE)-HLOOKUP($B$54,'04_Wirtschaftlichkeit'!$E$44:$L$57,5,FALSE))","v":0},{"$f":"AB96*(-HLOOKUP($B$54,'04_Wirtschaftlichkeit'!$E$44:$L$57,7,FALSE)-HLOOKUP($B$54,'04_Wirtschaftlichkeit'!$E$44:$L$57,5,FALSE))","v":0},{"$f":"AC96*(-HLOOKUP($B$54,'04_Wirtschaftlichkeit'!$E$44:$L$57,7,FALSE)-HLOOKUP($B$54,'04_Wirtschaftlichkeit'!$E$44:$L$57,5,FALSE))","v":0},{"$f":"AD96*(-HLOOKUP($B$54,'04_Wirtschaftlichkeit'!$E$44:$L$57,7,FALSE)-HLOOKUP($B$54,'04_Wirtschaftlichkeit'!$E$44:$L$57,5,FALSE))","v":0},{"$f":"AE96*(-HLOOKUP($B$54,'04_Wirtschaftlichkeit'!$E$44:$L$57,7,FALSE)-HLOOKUP($B$54,'04_Wirtschaftlichkeit'!$E$44:$L$57,5,FALSE))","v":0},{"$f":"AF96*(-HLOOKUP($B$54,'04_Wirtschaftlichkeit'!$E$44:$L$57,7,FALSE)-HLOOKUP($B$54,'04_Wirtschaftlichkeit'!$E$44:$L$57,5,FALSE))","v":0},{"$f":"AG96*(-HLOOKUP($B$54,'04_Wirtschaftlichkeit'!$E$44:$L$57,7,FALSE)-HLOOKUP($B$54,'04_Wirtschaftlichkeit'!$E$44:$L$57,5,FALSE))","v":0},{"$f":"AH96*(-HLOOKUP($B$54,'04_Wirtschaftlichkeit'!$E$44:$L$57,7,FALSE)-HLOOKUP($B$54,'04_Wirtschaftlichkeit'!$E$44:$L$57,5,FALSE))","v":0},{"$f":"AI96*(-HLOOKUP($B$54,'04_Wirtschaftlichkeit'!$E$44:$L$57,7,FALSE)-HLOOKUP($B$54,'04_Wirtschaftlichkeit'!$E$44:$L$57,5,FALSE))","v":0},{"$f":"AJ96*(-HLOOKUP($B$54,'04_Wirtschaftlichkeit'!$E$44:$L$57,7,FALSE)-HLOOKUP($B$54,'04_Wirtschaftlichkeit'!$E$44:$L$57,5,FALSE))","v":0},{"$f":"AK96*(-HLOOKUP($B$54,'04_Wirtschaftlichkeit'!$E$44:$L$57,7,FALSE)-HLOOKUP($B$54,'04_Wirtschaftlichkeit'!$E$44:$L$57,5,FALSE))","v":0},{"$f":"AL96*(-HLOOKUP($B$54,'04_Wirtschaftlichkeit'!$E$44:$L$57,7,FALSE)-HLOOKUP($B$54,'04_Wirtschaftlichkeit'!$E$44:$L$57,5,FALSE))","v":0},{"$f":"AM96*(-HLOOKUP($B$54,'04_Wirtschaftlichkeit'!$E$44:$L$57,7,FALSE)-HLOOKUP($B$54,'04_Wirtschaftlichkeit'!$E$44:$L$57,5,FALSE))","v":0},{"$f":"AN96*(-HLOOKUP($B$54,'04_Wirtschaftlichkeit'!$E$44:$L$57,7,FALSE)-HLOOKUP($B$54,'04_Wirtschaftlichkeit'!$E$44:$L$57,5,FALSE))","v":0},{"$f":"AO96*(-HLOOKUP($B$54,'04_Wirtschaftlichkeit'!$E$44:$L$57,7,FALSE)-HLOOKUP($B$54,'04_Wirtschaftlichkeit'!$E$44:$L$57,5,FALSE))","v":0},{"$f":"AP96*(-HLOOKUP($B$54,'04_Wirtschaftlichkeit'!$E$44:$L$57,7,FALSE)-HLOOKUP($B$54,'04_Wirtschaftlichkeit'!$E$44:$L$57,5,FALSE))","v":0},{"$f":"AQ96*(-HLOOKUP($B$54,'04_Wirtschaftlichkeit'!$E$44:$L$57,7,FALSE)-HLOOKUP($B$54,'04_Wirtschaftlichkeit'!$E$44:$L$57,5,FALSE))","v":0},{"$f":"AR96*(-HLOOKUP($B$54,'04_Wirtschaftlichkeit'!$E$44:$L$57,7,FALSE)-HLOOKUP($B$54,'04_Wirtschaftlichkeit'!$E$44:$L$57,5,FALSE))","v":0},{"$f":"AS96*(-HLOOKUP($B$54,'04_Wirtschaftlichkeit'!$E$44:$L$57,7,FALSE)-HLOOKUP($B$54,'04_Wirtschaftlichkeit'!$E$44:$L$57,5,FALSE))","v":0},{"$f":"AT96*(-HLOOKUP($B$54,'04_Wirtschaftlichkeit'!$E$44:$L$57,7,FALSE)-HLOOKUP($B$54,'04_Wirtschaftlichkeit'!$E$44:$L$57,5,FALSE))","v":0},{"$f":"AU96*(-HLOOKUP($B$54,'04_Wirtschaftlichkeit'!$E$44:$L$57,7,FALSE)-HLOOKUP($B$54,'04_Wirtschaftlichkeit'!$E$44:$L$57,5,FALSE))","v":0},{"$f":"AV96*(-HLOOKUP($B$54,'04_Wirtschaftlichkeit'!$E$44:$L$57,7,FALSE)-HLOOKUP($B$54,'04_Wirtschaftlichkeit'!$E$44:$L$57,5,FALSE))","v":0},{"$f":"AW96*(-HLOOKUP($B$54,'04_Wirtschaftlichkeit'!$E$44:$L$57,7,FALSE)-HLOOKUP($B$54,'04_Wirtschaftlichkeit'!$E$44:$L$57,5,FALSE))","v":0},{"$f":"AX96*(-HLOOKUP($B$54,'04_Wirtschaftlichkeit'!$E$44:$L$57,7,FALSE)-HLOOKUP($B$54,'04_Wirtschaftlichkeit'!$E$44:$L$57,5,FALSE))","v":0},{"$f":"AY96*(-HLOOKUP($B$54,'04_Wirtschaftlichkeit'!$E$44:$L$57,7,FALSE)-HLOOKUP($B$54,'04_Wirtschaftlichkeit'!$E$44:$L$57,5,FALSE))","v":0},{"$f":"AZ96*(-HLOOKUP($B$54,'04_Wirtschaftlichkeit'!$E$44:$L$57,7,FALSE)-HLOOKUP($B$54,'04_Wirtschaftlichkeit'!$E$44:$L$57,5,FALSE))","v":0},{"$f":"BA96*(-HLOOKUP($B$54,'04_Wirtschaftlichkeit'!$E$44:$L$57,7,FALSE)-HLOOKUP($B$54,'04_Wirtschaftlichkeit'!$E$44:$L$57,5,FALSE))","v":0}]
[null,"Betr.-Dauer",{"$f":"IF('04_Wirtschaftlichkeit'!$F$17*(1+$B99)>=Nebenrechnungen!C$55,1,0)","v":1},{"$f":"IF('04_Wirtschaftlichkeit'!$F$17*(1+$B99)>=Nebenrechnungen!D$55,1,0)","v":1},{"$f":"IF('04_Wirtschaftlichkeit'!$F$17*(1+$B99)>=Nebenrechnungen!E$55,1,0)","v":1},{"$f":"IF('04_Wirtschaftlichkeit'!$F$17*(1+$B99)>=Nebenrechnungen!F$55,1,0)","v":1},{"$f":"IF('04_Wirtschaftlichkeit'!$F$17*(1+$B99)>=Nebenrechnungen!G$55,1,0)","v":1},{"$f":"IF('04_Wirtschaftlichkeit'!$F$17*(1+$B99)>=Nebenrechnungen!H$55,1,0)","v":1},{"$f":"IF('04_Wirtschaftlichkeit'!$F$17*(1+$B99)>=Nebenrechnungen!I$55,1,0)","v":1},{"$f":"IF('04_Wirtschaftlichkeit'!$F$17*(1+$B99)>=Nebenrechnungen!J$55,1,0)","v":1},{"$f":"IF('04_Wirtschaftlichkeit'!$F$17*(1+$B99)>=Nebenrechnungen!K$55,1,0)","v":1},{"$f":"IF('04_Wirtschaftlichkeit'!$F$17*(1+$B99)>=Nebenrechnungen!L$55,1,0)","v":1},{"$f":"IF('04_Wirtschaftlichkeit'!$F$17*(1+$B99)>=Nebenrechnungen!M$55,1,0)","v":1},{"$f":"IF('04_Wirtschaftlichkeit'!$F$17*(1+$B99)>=Nebenrechnungen!N$55,1,0)","v":1},{"$f":"IF('04_Wirtschaftlichkeit'!$F$17*(1+$B99)>=Nebenrechnungen!O$55,1,0)","v":1},{"$f":"IF('04_Wirtschaftlichkeit'!$F$17*(1+$B99)>=Nebenrechnungen!P$55,1,0)","v":0},{"$f":"IF('04_Wirtschaftlichkeit'!$F$17*(1+$B99)>=Nebenrechnungen!Q$55,1,0)","v":0},{"$f":"IF('04_Wirtschaftlichkeit'!$F$17*(1+$B99)>=Nebenrechnungen!R$55,1,0)","v":0},{"$f":"IF('04_Wirtschaftlichkeit'!$F$17*(1+$B99)>=Nebenrechnungen!S$55,1,0)","v":0},{"$f":"IF('04_Wirtschaftlichkeit'!$F$17*(1+$B99)>=Nebenrechnungen!T$55,1,0)","v":0},{"$f":"IF('04_Wirtschaftlichkeit'!$F$17*(1+$B99)>=Nebenrechnungen!U$55,1,0)","v":0},{"$f":"IF('04_Wirtschaftlichkeit'!$F$17*(1+$B99)>=Nebenrechnungen!V$55,1,0)","v":0},{"$f":"IF('04_Wirtschaftlichkeit'!$F$17*(1+$B99)>=Nebenrechnungen!W$55,1,0)","v":0},{"$f":"IF('04_Wirtschaftlichkeit'!$F$17*(1+$B99)>=Nebenrechnungen!X$55,1,0)","v":0},{"$f":"IF('04_Wirtschaftlichkeit'!$F$17*(1+$B99)>=Nebenrechnungen!Y$55,1,0)","v":0},{"$f":"IF('04_Wirtschaftlichkeit'!$F$17*(1+$B99)>=Nebenrechnungen!Z$55,1,0)","v":0},{"$f":"IF('04_Wirtschaftlichkeit'!$F$17*(1+$B99)>=Nebenrechnungen!AA$55,1,0)","v":0},{"$f":"IF('04_Wirtschaftlichkeit'!$F$17*(1+$B99)>=Nebenrechnungen!AB$55,1,0)","v":0},{"$f":"IF('04_Wirtschaftlichkeit'!$F$17*(1+$B99)>=Nebenrechnungen!AC$55,1,0)","v":0},{"$f":"IF('04_Wirtschaftlichkeit'!$F$17*(1+$B99)>=Nebenrechnungen!AD$55,1,0)","v":0},{"$f":"IF('04_Wirtschaftlichkeit'!$F$17*(1+$B99)>=Nebenrechnungen!AE$55,1,0)","v":0},{"$f":"IF('04_Wirtschaftlichkeit'!$F$17*(1+$B99)>=Nebenrechnungen!AF$55,1,0)","v":0},{"$f":"IF('04_Wirtschaftlichkeit'!$F$17*(1+$B99)>=Nebenrechnungen!AG$55,1,0)","v":0},{"$f":"IF('04_Wirtschaftlichkeit'!$F$17*(1+$B99)>=Nebenrechnungen!AH$55,1,0)","v":0},{"$f":"IF('04_Wirtschaftlichkeit'!$F$17*(1+$B99)>=Nebenrechnungen!AI$55,1,0)","v":0},{"$f":"IF('04_Wirtschaftlichkeit'!$F$17*(1+$B99)>=Nebenrechnungen!AJ$55,1,0)","v":0},{"$f":"IF('04_Wirtschaftlichkeit'!$F$17*(1+$B99)>=Nebenrechnungen!AK$55,1,0)","v":0},{"$f":"IF('04_Wirtschaftlichkeit'!$F$17*(1+$B99)>=Nebenrechnungen!AL$55,1,0)","v":0},{"$f":"IF('04_Wirtschaftlichkeit'!$F$17*(1+$B99)>=Nebenrechnungen!AM$55,1,0)","v":0},{"$f":"IF('04_Wirtschaftlichkeit'!$F$17*(1+$B99)>=Nebenrechnungen!AN$55,1,0)","v":0},{"$f":"IF('04_Wirtschaftlichkeit'!$F$17*(1+$B99)>=Nebenrechnungen!AO$55,1,0)","v":0},{"$f":"IF('04_Wirtschaftlichkeit'!$F$17*(1+$B99)>=Nebenrechnungen!AP$55,1,0)","v":0},{"$f":"IF('04_Wirtschaftlichkeit'!$F$17*(1+$B99)>=Nebenrechnungen!AQ$55,1,0)","v":0},{"$f":"IF('04_Wirtschaftlichkeit'!$F$17*(1+$B99)>=Nebenrechnungen!AR$55,1,0)","v":0},{"$f":"IF('04_Wirtschaftlichkeit'!$F$17*(1+$B99)>=Nebenrechnungen!AS$55,1,0)","v":0},{"$f":"IF('04_Wirtschaftlichkeit'!$F$17*(1+$B99)>=Nebenrechnungen!AT$55,1,0)","v":0},{"$f":"IF('04_Wirtschaftlichkeit'!$F$17*(1+$B99)>=Nebenrechnungen!AU$55,1,0)","v":0},{"$f":"IF('04_Wirtschaftlichkeit'!$F$17*(1+$B99)>=Nebenrechnungen!AV$55,1,0)","v":0},{"$f":"IF('04_Wirtschaftlichkeit'!$F$17*(1+$B99)>=Nebenrechnungen!AW$55,1,0)","v":0},{"$f":"IF('04_Wirtschaftlichkeit'!$F$17*(1+$B99)>=Nebenrechnungen!AX$55,1,0)","v":0},{"$f":"IF('04_Wirtschaftlichkeit'!$F$17*(1+$B99)>=Nebenrechnungen!AY$55,1,0)","v":0},{"$f":"IF('04_Wirtschaftlichkeit'!$F$17*(1+$B99)>=Nebenrechnungen!AZ$55,1,0)","v":0},{"$f":"IF('04_Wirtschaftlichkeit'!$F$17*(1+$B99)>=Nebenrechnungen!BA$55,1,0)","v":0}]
[null,-0.4,{"$f":"-HLOOKUP($B$54,'04_Wirtschaftlichkeit'!$E$44:$L$57,6,FALSE)","v":-1057830.7168757692},{"$f":"D98*(-HLOOKUP($B$54,'04_Wirtschaftlichkeit'!$E$44:$L$57,7,FALSE)-HLOOKUP($B$54,'04_Wirtschaftlichkeit'!$E$44:$L$57,5,FALSE))","v":-84207.9},{"$f":"E98*(-HLOOKUP($B$54,'04_Wirtschaftlichkeit'!$E$44:$L$57,7,FALSE)-HLOOKUP($B$54,'04_Wirtschaftlichkeit'!$E$44:$L$57,5,FALSE))","v":-84207.9},{"$f":"F98*(-HLOOKUP($B$54,'04_Wirtschaftlichkeit'!$E$44:$L$57,7,FALSE)-HLOOKUP($B$54,'04_Wirtschaftlichkeit'!$E$44:$L$57,5,FALSE))","v":-84207.9},{"$f":"G98*(-HLOOKUP($B$54,'04_Wirtschaftlichkeit'!$E$44:$L$57,7,FALSE)-HLOOKUP($B$54,'04_Wirtschaftlichkeit'!$E$44:$L$57,5,FALSE))","v":-84207.9},{"$f":"H98*(-HLOOKUP($B$54,'04_Wirtschaftlichkeit'!$E$44:$L$57,7,FALSE)-HLOOKUP($B$54,'04_Wirtschaftlichkeit'!$E$44:$L$57,5,FALSE))","v":-84207.9},{"$f":"I98*(-HLOOKUP($B$54,'04_Wirtschaftlichkeit'!$E$44:$L$57,7,FALSE)-HLOOKUP($B$54,'04_Wirtschaftlichkeit'!$E$44:$L$57,5,FALSE))","v":-84207.9},{"$f":"J98*(-HLOOKUP($B$54,'04_Wirtschaftlichkeit'!$E$44:$L$57,7,FALSE)-HLOOKUP($B$54,'04_Wirtschaftlichkeit'!$E$44:$L$57,5,FALSE))","v":-84207.9},{"$f":"K98*(-HLOOKUP($B$54,'04_Wirtschaftlichkeit'!$E$44:$L$57,7,FALSE)-HLOOKUP($B$54,'04_Wirtschaftlichkeit'!$E$44:$L$57,5,FALSE))","v":-84207.9},{"$f":"L98*(-HLOOKUP($B$54,'04_Wirtschaftlichkeit'!$E$44:$L$57,7,FALSE)-HLOOKUP($B$54,'04_Wirtschaftlichkeit'!$E$44:$L$57,5,FALSE))","v":-84207.9},{"$f":"M98*(-HLOOKUP($B$54,'04_Wirtschaftlichkeit'!$E$44:$L$57,7,FALSE)-HLOOKUP($B$54,'04_Wirtschaftlichkeit'!$E$44:$L$57,5,FALSE))","v":-84207.9},{"$f":"N98*(-HLOOKUP($B$54,'04_Wirtschaftlichkeit'!$E$44:$L$57,7,FALSE)-HLOOKUP($B$54,'04_Wirtschaftlichkeit'!$E$44:$L$57,5,FALSE))","v":-84207.9},{"$f":"O98*(-HLOOKUP($B$54,'04_Wirtschaftlichkeit'!$E$44:$L$57,7,FALSE)-HLOOKUP($B$54,'04_Wirtschaftlichkeit'!$E$44:$L$57,5,FALSE))","v":-84207.9},{"$f":"P98*(-HLOOKUP($B$54,'04_Wirtschaftlichkeit'!$E$44:$L$57,7,FALSE)-HLOOKUP($B$54,'04_Wirtschaftlichkeit'!$E$44:$L$57,5,FALSE))","v":0},{"$f":"Q98*(-HLOOKUP($B$54,'04_Wirtschaftlichkeit'!$E$44:$L$57,7,FALSE)-HLOOKUP($B$54,'04_Wirtschaftlichkeit'!$E$44:$L$57,5,FALSE))","v":0},{"$f":"R98*(-HLOOKUP($B$54,'04_Wirtschaftlichkeit'!$E$44:$L$57,7,FALSE)-HLOOKUP($B$54,'04_Wirtschaftlichkeit'!$E$44:$L$57,5,FALSE))","v":0},{"$f":"S98*(-HLOOKUP($B$54,'04_Wirtschaftlichkeit'!$E$44:$L$57,7,FALSE)-HLOOKUP($B$54,'04_Wirtschaftlichkeit'!$E$44:$L$57,5,FALSE))","v":0},{"$f":"T98*(-HLOOKUP($B$54,'04_Wirtschaftlichkeit'!$E$44:$L$57,7,FALSE)-HLOOKUP($B$54,'04_Wirtschaftlichkeit'!$E$44:$L$57,5,FALSE))","v":0},{"$f":"U98*(-HLOOKUP($B$54,'04_Wirtschaftlichkeit'!$E$44:$L$57,7,FALSE)-HLOOKUP($B$54,'04_Wirtschaftlichkeit'!$E$44:$L$57,5,FALSE))","v":0},{"$f":"V98*(-HLOOKUP($B$54,'04_Wirtschaftlichkeit'!$E$44:$L$57,7,FALSE)-HLOOKUP($B$54,'04_Wirtschaftlichkeit'!$E$44:$L$57,5,FALSE))","v":0},{"$f":"W98*(-HLOOKUP($B$54,'04_Wirtschaftlichkeit'!$E$44:$L$57,7,FALSE)-HLOOKUP($B$54,'04_Wirtschaftlichkeit'!$E$44:$L$57,5,FALSE))","v":0},{"$f":"X98*(-HLOOKUP($B$54,'04_Wirtschaftlichkeit'!$E$44:$L$57,7,FALSE)-HLOOKUP($B$54,'04_Wirtschaftlichkeit'!$E$44:$L$57,5,FALSE))","v":0},{"$f":"Y98*(-HLOOKUP($B$54,'04_Wirtschaftlichkeit'!$E$44:$L$57,7,FALSE)-HLOOKUP($B$54,'04_Wirtschaftlichkeit'!$E$44:$L$57,5,FALSE))","v":0},{"$f":"Z98*(-HLOOKUP($B$54,'04_Wirtschaftlichkeit'!$E$44:$L$57,7,FALSE)-HLOOKUP($B$54,'04_Wirtschaftlichkeit'!$E$44:$L$57,5,FALSE))","v":0},{"$f":"AA98*(-HLOOKUP($B$54,'04_Wirtschaftlichkeit'!$E$44:$L$57,7,FALSE)-HLOOKUP($B$54,'04_Wirtschaftlichkeit'!$E$44:$L$57,5,FALSE))","v":0},{"$f":"AB98*(-HLOOKUP($B$54,'04_Wirtschaftlichkeit'!$E$44:$L$57,7,FALSE)-HLOOKUP($B$54,'04_Wirtschaftlichkeit'!$E$44:$L$57,5,FALSE))","v":0},{"$f":"AC98*(-HLOOKUP($B$54,'04_Wirtschaftlichkeit'!$E$44:$L$57,7,FALSE)-HLOOKUP($B$54,'04_Wirtschaftlichkeit'!$E$44:$L$57,5,FALSE))","v":0},{"$f":"AD98*(-HLOOKUP($B$54,'04_Wirtschaftlichkeit'!$E$44:$L$57,7,FALSE)-HLOOKUP($B$54,'04_Wirtschaftlichkeit'!$E$44:$L$57,5,FALSE))","v":0},{"$f":"AE98*(-HLOOKUP($B$54,'04_Wirtschaftlichkeit'!$E$44:$L$57,7,FALSE)-HLOOKUP($B$54,'04_Wirtschaftlichkeit'!$E$44:$L$57,5,FALSE))","v":0},{"$f":"AF98*(-HLOOKUP($B$54,'04_Wirtschaftlichkeit'!$E$44:$L$57,7,FALSE)-HLOOKUP($B$54,'04_Wirtschaftlichkeit'!$E$44:$L$57,5,FALSE))","v":0},{"$f":"AG98*(-HLOOKUP($B$54,'04_Wirtschaftlichkeit'!$E$44:$L$57,7,FALSE)-HLOOKUP($B$54,'04_Wirtschaftlichkeit'!$E$44:$L$57,5,FALSE))","v":0},{"$f":"AH98*(-HLOOKUP($B$54,'04_Wirtschaftlichkeit'!$E$44:$L$57,7,FALSE)-HLOOKUP($B$54,'04_Wirtschaftlichkeit'!$E$44:$L$57,5,FALSE))","v":0},{"$f":"AI98*(-HLOOKUP($B$54,'04_Wirtschaftlichkeit'!$E$44:$L$57,7,FALSE)-HLOOKUP($B$54,'04_Wirtschaftlichkeit'!$E$44:$L$57,5,FALSE))","v":0},{"$f":"AJ98*(-HLOOKUP($B$54,'04_Wirtschaftlichkeit'!$E$44:$L$57,7,FALSE)-HLOOKUP($B$54,'04_Wirtschaftlichkeit'!$E$44:$L$57,5,FALSE))","v":0},{"$f":"AK98*(-HLOOKUP($B$54,'04_Wirtschaftlichkeit'!$E$44:$L$57,7,FALSE)-HLOOKUP($B$54,'04_Wirtschaftlichkeit'!$E$44:$L$57,5,FALSE))","v":0},{"$f":"AL98*(-HLOOKUP($B$54,'04_Wirtschaftlichkeit'!$E$44:$L$57,7,FALSE)-HLOOKUP($B$54,'04_Wirtschaftlichkeit'!$E$44:$L$57,5,FALSE))","v":0},{"$f":"AM98*(-HLOOKUP($B$54,'04_Wirtschaftlichkeit'!$E$44:$L$57,7,FALSE)-HLOOKUP($B$54,'04_Wirtschaftlichkeit'!$E$44:$L$57,5,FALSE))","v":0},{"$f":"AN98*(-HLOOKUP($B$54,'04_Wirtschaftlichkeit'!$E$44:$L$57,7,FALSE)-HLOOKUP($B$54,'04_Wirtschaftlichkeit'!$E$44:$L$57,5,FALSE))","v":0},{"$f":"AO98*(-HLOOKUP($B$54,'04_Wirtschaftlichkeit'!$E$44:$L$57,7,FALSE)-HLOOKUP($B$54,'04_Wirtschaftlichkeit'!$E$44:$L$57,5,FALSE))","v":0},{"$f":"AP98*(-HLOOKUP($B$54,'04_Wirtschaftlichkeit'!$E$44:$L$57,7,FALSE)-HLOOKUP($B$54,'04_Wirtschaftlichkeit'!$E$44:$L$57,5,FALSE))","v":0},{"$f":"AQ98*(-HLOOKUP($B$54,'04_Wirtschaftlichkeit'!$E$44:$L$57,7,FALSE)-HLOOKUP($B$54,'04_Wirtschaftlichkeit'!$E$44:$L$57,5,FALSE))","v":0},{"$f":"AR98*(-HLOOKUP($B$54,'04_Wirtschaftlichkeit'!$E$44:$L$57,7,FALSE)-HLOOKUP($B$54,'04_Wirtschaftlichkeit'!$E$44:$L$57,5,FALSE))","v":0},{"$f":"AS98*(-HLOOKUP($B$54,'04_Wirtschaftlichkeit'!$E$44:$L$57,7,FALSE)-HLOOKUP($B$54,'04_Wirtschaftlichkeit'!$E$44:$L$57,5,FALSE))","v":0},{"$f":"AT98*(-HLOOKUP($B$54,'04_Wirtschaftlichkeit'!$E$44:$L$57,7,FALSE)-HLOOKUP($B$54,'04_Wirtschaftlichkeit'!$E$44:$L$57,5,FALSE))","v":0},{"$f":"AU98*(-HLOOKUP($B$54,'04_Wirtschaftlichkeit'!$E$44:$L$57,7,FALSE)-HLOOKUP($B$54,'04_Wirtschaftlichkeit'!$E$44:$L$57,5,FALSE))","v":0},{"$f":"AV98*(-HLOOKUP($B$54,'04_Wirtschaftlichkeit'!$E$44:$L$57,7,FALSE)-HLOOKUP($B$54,'04_Wirtschaftlichkeit'!$E$44:$L$57,5,FALSE))","v":0},{"$f":"AW98*(-HLOOKUP($B$54,'04_Wirtschaftlichkeit'!$E$44:$L$57,7,FALSE)-HLOOKUP($B$54,'04_Wirtschaftlichkeit'!$E$44:$L$57,5,FALSE))","v":0},{"$f":"AX98*(-HLOOKUP($B$54,'04_Wirtschaftlichkeit'!$E$44:$L$57,7,FALSE)-HLOOKUP($B$54,'04_Wirtschaftlichkeit'!$E$44:$L$57,5,FALSE))","v":0},{"$f":"AY98*(-HLOOKUP($B$54,'04_Wirtschaftlichkeit'!$E$44:$L$57,7,FALSE)-HLOOKUP($B$54,'04_Wirtschaftlichkeit'!$E$44:$L$57,5,FALSE))","v":0},{"$f":"AZ98*(-HLOOKUP($B$54,'04_Wirtschaftlichkeit'!$E$44:$L$57,7,FALSE)-HLOOKUP($B$54,'04_Wirtschaftlichkeit'!$E$44:$L$57,5,FALSE))","v":0},{"$f":"BA98*(-HLOOKUP($B$54,'04_Wirtschaftlichkeit'!$E$44:$L$57,7,FALSE)-HLOOKUP($B$54,'04_Wirtschaftlichkeit'!$E$44:$L$57,5,FALSE))","v":0}]
[null,"Betr.-Dauer",{"$f":"IF('04_Wirtschaftlichkeit'!$F$17*(1+$B101)>=Nebenrechnungen!C$55,1,0)","v":1},{"$f":"IF('04_Wirtschaftlichkeit'!$F$17*(1+$B101)>=Nebenrechnungen!D$55,1,0)","v":1},{"$f":"IF('04_Wirtschaftlichkeit'!$F$17*(1+$B101)>=Nebenrechnungen!E$55,1,0)","v":1},{"$f":"IF('04_Wirtschaftlichkeit'!$F$17*(1+$B101)>=Nebenrechnungen!F$55,1,0)","v":1},{"$f":"IF('04_Wirtschaftlichkeit'!$F$17*(1+$B101)>=Nebenrechnungen!G$55,1,0)","v":1},{"$f":"IF('04_Wirtschaftlichkeit'!$F$17*(1+$B101)>=Nebenrechnungen!H$55,1,0)","v":1},{"$f":"IF('04_Wirtschaftlichkeit'!$F$17*(1+$B101)>=Nebenrechnungen!I$55,1,0)","v":1},{"$f":"IF('04_Wirtschaftlichkeit'!$F$17*(1+$B101)>=Nebenrechnungen!J$55,1,0)","v":1},{"$f":"IF('04_Wirtschaftlichkeit'!$F$17*(1+$B101)>=Nebenrechnungen!K$55,1,0)","v":1},{"$f":"IF('04_Wirtschaftlichkeit'!$F$17*(1+$B101)>=Nebenrechnungen!L$55,1,0)","v":1},{"$f":"IF('04_Wirtschaftlichkeit'!$F$17*(1+$B101)>=Nebenrechnungen!M$55,1,0)","v":1},{"$f":"IF('04_Wirtschaftlichkeit'!$F$17*(1+$B101)>=Nebenrechnungen!N$55,1,0)","v":1},{"$f":"IF('04_Wirtschaftlichkeit'!$F$17*(1+$B101)>=Nebenrechnungen!O$55,1,0)","v":1},{"$f":"IF('04_Wirtschaftlichkeit'!$F$17*(1+$B101)>=Nebenrechnungen!P$55,1,0)","v":1},{"$f":"IF('04_Wirtschaftlichkeit'!$F$17*(1+$B101)>=Nebenrechnungen!Q$55,1,0)","v":1},{"$f":"IF('04_Wirtschaftlichkeit'!$F$17*(1+$B101)>=Nebenrechnungen!R$55,1,0)","v":0},{"$f":"IF('04_Wirtschaftlichkeit'!$F$17*(1+$B101)>=Nebenrechnungen!S$55,1,0)","v":0},{"$f":"IF('04_Wirtschaftlichkeit'!$F$17*(1+$B101)>=Nebenrechnungen!T$55,1,0)","v":0},{"$f":"IF('04_Wirtschaftlichkeit'!$F$17*(1+$B101)>=Nebenrechnungen!U$55,1,0)","v":0},{"$f":"IF('04_Wirtschaftlichkeit'!$F$17*(1+$B101)>=Nebenrechnungen!V$55,1,0)","v":0},{"$f":"IF('04_Wirtschaftlichkeit'!$F$17*(1+$B101)>=Nebenrechnungen!W$55,1,0)","v":0},{"$f":"IF('04_Wirtschaftlichkeit'!$F$17*(1+$B101)>=Nebenrechnungen!X$55,1,0)","v":0},{"$f":"IF('04_Wirtschaftlichkeit'!$F$17*(1+$B101)>=Nebenrechnungen!Y$55,1,0)","v":0},{"$f":"IF('04_Wirtschaftlichkeit'!$F$17*(1+$B101)>=Nebenrechnungen!Z$55,1,0)","v":0},{"$f":"IF('04_Wirtschaftlichkeit'!$F$17*(1+$B101)>=Nebenrechnungen!AA$55,1,0)","v":0},{"$f":"IF('04_Wirtschaftlichkeit'!$F$17*(1+$B101)>=Nebenrechnungen!AB$55,1,0)","v":0},{"$f":"IF('04_Wirtschaftlichkeit'!$F$17*(1+$B101)>=Nebenrechnungen!AC$55,1,0)","v":0},{"$f":"IF('04_Wirtschaftlichkeit'!$F$17*(1+$B101)>=Nebenrechnungen!AD$55,1,0)","v":0},{"$f":"IF('04_Wirtschaftlichkeit'!$F$17*(1+$B101)>=Nebenrechnungen!AE$55,1,0)","v":0},{"$f":"IF('04_Wirtschaftlichkeit'!$F$17*(1+$B101)>=Nebenrechnungen!AF$55,1,0)","v":0},{"$f":"IF('04_Wirtschaftlichkeit'!$F$17*(1+$B101)>=Nebenrechnungen!AG$55,1,0)","v":0},{"$f":"IF('04_Wirtschaftlichkeit'!$F$17*(1+$B101)>=Nebenrechnungen!AH$55,1,0)","v":0},{"$f":"IF('04_Wirtschaftlichkeit'!$F$17*(1+$B101)>=Nebenrechnungen!AI$55,1,0)","v":0},{"$f":"IF('04_Wirtschaftlichkeit'!$F$17*(1+$B101)>=Nebenrechnungen!AJ$55,1,0)","v":0},{"$f":"IF('04_Wirtschaftlichkeit'!$F$17*(1+$B101)>=Nebenrechnungen!AK$55,1,0)","v":0},{"$f":"IF('04_Wirtschaftlichkeit'!$F$17*(1+$B101)>=Nebenrechnungen!AL$55,1,0)","v":0},{"$f":"IF('04_Wirtschaftlichkeit'!$F$17*(1+$B101)>=Nebenrechnungen!AM$55,1,0)","v":0},{"$f":"IF('04_Wirtschaftlichkeit'!$F$17*(1+$B101)>=Nebenrechnungen!AN$55,1,0)","v":0},{"$f":"IF('04_Wirtschaftlichkeit'!$F$17*(1+$B101)>=Nebenrechnungen!AO$55,1,0)","v":0},{"$f":"IF('04_Wirtschaftlichkeit'!$F$17*(1+$B101)>=Nebenrechnungen!AP$55,1,0)","v":0},{"$f":"IF('04_Wirtschaftlichkeit'!$F$17*(1+$B101)>=Nebenrechnungen!AQ$55,1,0)","v":0},{"$f":"IF('04_Wirtschaftlichkeit'!$F$17*(1+$B101)>=Nebenrechnungen!AR$55,1,0)","v":0},{"$f":"IF('04_Wirtschaftlichkeit'!$F$17*(1+$B101)>=Nebenrechnungen!AS$55,1,0)","v":0},{"$f":"IF('04_Wirtschaftlichkeit'!$F$17*(1+$B101)>=Nebenrechnungen!AT$55,1,0)","v":0},{"$f":"IF('04_Wirtschaftlichkeit'!$F$17*(1+$B101)>=Nebenrechnungen!AU$55,1,0)","v":0},{"$f":"IF('04_Wirtschaftlichkeit'!$F$17*(1+$B101)>=Nebenrechnungen!AV$55,1,0)","v":0},{"$f":"IF('04_Wirtschaftlichkeit'!$F$17*(1+$B101)>=Nebenrechnungen!AW$55,1,0)","v":0},{"$f":"IF('04_Wirtschaftlichkeit'!$F$17*(1+$B101)>=Nebenrechnungen!AX$55,1,0)","v":0},{"$f":"IF('04_Wirtschaftlichkeit'!$F$17*(1+$B101)>=Nebenrechnungen!AY$55,1,0)","v":0},{"$f":"IF('04_Wirtschaftlichkeit'!$F$17*(1+$B101)>=Nebenrechnungen!AZ$55,1,0)","v":0},{"$f":"IF('04_Wirtschaftlichkeit'!$F$17*(1+$B101)>=Nebenrechnungen!BA$55,1,0)","v":0}]
[null,-0.3,{"$f":"-HLOOKUP($B$54,'04_Wirtschaftlichkeit'!$E$44:$L$57,6,FALSE)","v":-1057830.7168757692},{"$f":"D100*(-HLOOKUP($B$54,'04_Wirtschaftlichkeit'!$E$44:$L$57,7,FALSE)-HLOOKUP($B$54,'04_Wirtschaftlichkeit'!$E$44:$L$57,5,FALSE))","v":-84207.9},{"$f":"E100*(-HLOOKUP($B$54,'04_Wirtschaftlichkeit'!$E$44:$L$57,7,FALSE)-HLOOKUP($B$54,'04_Wirtschaftlichkeit'!$E$44:$L$57,5,FALSE))","v":-84207.9},{"$f":"F100*(-HLOOKUP($B$54,'04_Wirtschaftlichkeit'!$E$44:$L$57,7,FALSE)-HLOOKUP($B$54,'04_Wirtschaftlichkeit'!$E$44:$L$57,5,FALSE))","v":-84207.9},{"$f":"G100*(-HLOOKUP($B$54,'04_Wirtschaftlichkeit'!$E$44:$L$57,7,FALSE)-HLOOKUP($B$54,'04_Wirtschaftlichkeit'!$E$44:$L$57,5,FALSE))","v":-84207.9},{"$f":"H100*(-HLOOKUP($B$54,'04_Wirtschaftlichkeit'!$E$44:$L$57,7,FALSE)-HLOOKUP($B$54,'04_Wirtschaftlichkeit'!$E$44:$L$57,5,FALSE))","v":-84207.9},{"$f":"I100*(-HLOOKUP($B$54,'04_Wirtschaftlichkeit'!$E$44:$L$57,7,FALSE)-HLOOKUP($B$54,'04_Wirtschaftlichkeit'!$E$44:$L$57,5,FALSE))","v":-84207.9},{"$f":"J100*(-HLOOKUP($B$54,'04_Wirtschaftlichkeit'!$E$44:$L$57,7,FALSE)-HLOOKUP($B$54,'04_Wirtschaftlichkeit'!$E$44:$L$57,5,FALSE))","v":-84207.9},{"$f":"K100*(-HLOOKUP($B$54,'04_Wirtschaftlichkeit'!$E$44:$L$57,7,FALSE)-HLOOKUP($B$54,'04_Wirtschaftlichkeit'!$E$44:$L$57,5,FALSE))","v":-84207.9},{"$f":"L100*(-HLOOKUP($B$54,'04_Wirtschaftlichkeit'!$E$44:$L$57,7,FALSE)-HLOOKUP($B$54,'04_Wirtschaftlichkeit'!$E$44:$L$57,5,FALSE))","v":-84207.9},{"$f":"M100*(-HLOOKUP($B$54,'04_Wirtschaftlichkeit'!$E$44:$L$57,7,FALSE)-HLOOKUP($B$54,'04_Wirtschaftlichkeit'!$E$44:$L$57,5,FALSE))","v":-84207.9},{"$f":"N100*(-HLOOKUP($B$54,'04_Wirtschaftlichkeit'!$E$44:$L$57,7,FALSE)-HLOOKUP($B$54,'04_Wirtschaftlichkeit'!$E$44:$L$57,5,FALSE))","v":-84207.9},{"$f":"O100*(-HLOOKUP($B$54,'04_Wirtschaftlichkeit'!$E$44:$L$57,7,FALSE)-HLOOKUP($B$54,'04_Wirtschaftlichkeit'!$E$44:$L$57,5,FALSE))","v":-84207.9},{"$f":"P100*(-HLOOKUP($B$54,'04_Wirtschaftlichkeit'!$E$44:$L$57,7,FALSE)-HLOOKUP($B$54,'04_Wirtschaftlichkeit'!$E$44:$L$57,5,FALSE))","v":-84207.9},{"$f":"Q100*(-HLOOKUP($B$54,'04_Wirtschaftlichkeit'!$E$44:$L$57,7,FALSE)-HLOOKUP($B$54,'04_Wirtschaftlichkeit'!$E$44:$L$57,5,FALSE))","v":-84207.9},{"$f":"R100*(-HLOOKUP($B$54,'04_Wirtschaftlichkeit'!$E$44:$L$57,7,FALSE)-HLOOKUP($B$54,'04_Wirtschaftlichkeit'!$E$44:$L$57,5,FALSE))","v":0},{"$f":"S100*(-HLOOKUP($B$54,'04_Wirtschaftlichkeit'!$E$44:$L$57,7,FALSE)-HLOOKUP($B$54,'04_Wirtschaftlichkeit'!$E$44:$L$57,5,FALSE))","v":0},{"$f":"T100*(-HLOOKUP($B$54,'04_Wirtschaftlichkeit'!$E$44:$L$57,7,FALSE)-HLOOKUP($B$54,'04_Wirtschaftlichkeit'!$E$44:$L$57,5,FALSE))","v":0},{"$f":"U100*(-HLOOKUP($B$54,'04_Wirtschaftlichkeit'!$E$44:$L$57,7,FALSE)-HLOOKUP($B$54,'04_Wirtschaftlichkeit'!$E$44:$L$57,5,FALSE))","v":0},{"$f":"V100*(-HLOOKUP($B$54,'04_Wirtschaftlichkeit'!$E$44:$L$57,7,FALSE)-HLOOKUP($B$54,'04_Wirtschaftlichkeit'!$E$44:$L$57,5,FALSE))","v":0},{"$f":"W100*(-HLOOKUP($B$54,'04_Wirtschaftlichkeit'!$E$44:$L$57,7,FALSE)-HLOOKUP($B$54,'04_Wirtschaftlichkeit'!$E$44:$L$57,5,FALSE))","v":0},{"$f":"X100*(-HLOOKUP($B$54,'04_Wirtschaftlichkeit'!$E$44:$L$57,7,FALSE)-HLOOKUP($B$54,'04_Wirtschaftlichkeit'!$E$44:$L$57,5,FALSE))","v":0},{"$f":"Y100*(-HLOOKUP($B$54,'04_Wirtschaftlichkeit'!$E$44:$L$57,7,FALSE)-HLOOKUP($B$54,'04_Wirtschaftlichkeit'!$E$44:$L$57,5,FALSE))","v":0},{"$f":"Z100*(-HLOOKUP($B$54,'04_Wirtschaftlichkeit'!$E$44:$L$57,7,FALSE)-HLOOKUP($B$54,'04_Wirtschaftlichkeit'!$E$44:$L$57,5,FALSE))","v":0},{"$f":"AA100*(-HLOOKUP($B$54,'04_Wirtschaftlichkeit'!$E$44:$L$57,7,FALSE)-HLOOKUP($B$54,'04_Wirtschaftlichkeit'!$E$44:$L$57,5,FALSE))","v":0},{"$f":"AB100*(-HLOOKUP($B$54,'04_Wirtschaftlichkeit'!$E$44:$L$57,7,FALSE)-HLOOKUP($B$54,'04_Wirtschaftlichkeit'!$E$44:$L$57,5,FALSE))","v":0},{"$f":"AC100*(-HLOOKUP($B$54,'04_Wirtschaftlichkeit'!$E$44:$L$57,7,FALSE)-HLOOKUP($B$54,'04_Wirtschaftlichkeit'!$E$44:$L$57,5,FALSE))","v":0},{"$f":"AD100*(-HLOOKUP($B$54,'04_Wirtschaftlichkeit'!$E$44:$L$57,7,FALSE)-HLOOKUP($B$54,'04_Wirtschaftlichkeit'!$E$44:$L$57,5,FALSE))","v":0},{"$f":"AE100*(-HLOOKUP($B$54,'04_Wirtschaftlichkeit'!$E$44:$L$57,7,FALSE)-HLOOKUP($B$54,'04_Wirtschaftlichkeit'!$E$44:$L$57,5,FALSE))","v":0},{"$f":"AF100*(-HLOOKUP($B$54,'04_Wirtschaftlichkeit'!$E$44:$L$57,7,FALSE)-HLOOKUP($B$54,'04_Wirtschaftlichkeit'!$E$44:$L$57,5,FALSE))","v":0},{"$f":"AG100*(-HLOOKUP($B$54,'04_Wirtschaftlichkeit'!$E$44:$L$57,7,FALSE)-HLOOKUP($B$54,'04_Wirtschaftlichkeit'!$E$44:$L$57,5,FALSE))","v":0},{"$f":"AH100*(-HLOOKUP($B$54,'04_Wirtschaftlichkeit'!$E$44:$L$57,7,FALSE)-HLOOKUP($B$54,'04_Wirtschaftlichkeit'!$E$44:$L$57,5,FALSE))","v":0},{"$f":"AI100*(-HLOOKUP($B$54,'04_Wirtschaftlichkeit'!$E$44:$L$57,7,FALSE)-HLOOKUP($B$54,'04_Wirtschaftlichkeit'!$E$44:$L$57,5,FALSE))","v":0},{"$f":"AJ100*(-HLOOKUP($B$54,'04_Wirtschaftlichkeit'!$E$44:$L$57,7,FALSE)-HLOOKUP($B$54,'04_Wirtschaftlichkeit'!$E$44:$L$57,5,FALSE))","v":0},{"$f":"AK100*(-HLOOKUP($B$54,'04_Wirtschaftlichkeit'!$E$44:$L$57,7,FALSE)-HLOOKUP($B$54,'04_Wirtschaftlichkeit'!$E$44:$L$57,5,FALSE))","v":0},{"$f":"AL100*(-HLOOKUP($B$54,'04_Wirtschaftlichkeit'!$E$44:$L$57,7,FALSE)-HLOOKUP($B$54,'04_Wirtschaftlichkeit'!$E$44:$L$57,5,FALSE))","v":0},{"$f":"AM100*(-HLOOKUP($B$54,'04_Wirtschaftlichkeit'!$E$44:$L$57,7,FALSE)-HLOOKUP($B$54,'04_Wirtschaftlichkeit'!$E$44:$L$57,5,FALSE))","v":0},{"$f":"AN100*(-HLOOKUP($B$54,'04_Wirtschaftlichkeit'!$E$44:$L$57,7,FALSE)-HLOOKUP($B$54,'04_Wirtschaftlichkeit'!$E$44:$L$57,5,FALSE))","v":0},{"$f":"AO100*(-HLOOKUP($B$54,'04_Wirtschaftlichkeit'!$E$44:$L$57,7,FALSE)-HLOOKUP($B$54,'04_Wirtschaftlichkeit'!$E$44:$L$57,5,FALSE))","v":0},{"$f":"AP100*(-HLOOKUP($B$54,'04_Wirtschaftlichkeit'!$E$44:$L$57,7,FALSE)-HLOOKUP($B$54,'04_Wirtschaftlichkeit'!$E$44:$L$57,5,FALSE))","v":0},{"$f":"AQ100*(-HLOOKUP($B$54,'04_Wirtschaftlichkeit'!$E$44:$L$57,7,FALSE)-HLOOKUP($B$54,'04_Wirtschaftlichkeit'!$E$44:$L$57,5,FALSE))","v":0},{"$f":"AR100*(-HLOOKUP($B$54,'04_Wirtschaftlichkeit'!$E$44:$L$57,7,FALSE)-HLOOKUP($B$54,'04_Wirtschaftlichkeit'!$E$44:$L$57,5,FALSE))","v":0},{"$f":"AS100*(-HLOOKUP($B$54,'04_Wirtschaftlichkeit'!$E$44:$L$57,7,FALSE)-HLOOKUP($B$54,'04_Wirtschaftlichkeit'!$E$44:$L$57,5,FALSE))","v":0},{"$f":"AT100*(-HLOOKUP($B$54,'04_Wirtschaftlichkeit'!$E$44:$L$57,7,FALSE)-HLOOKUP($B$54,'04_Wirtschaftlichkeit'!$E$44:$L$57,5,FALSE))","v":0},{"$f":"AU100*(-HLOOKUP($B$54,'04_Wirtschaftlichkeit'!$E$44:$L$57,7,FALSE)-HLOOKUP($B$54,'04_Wirtschaftlichkeit'!$E$44:$L$57,5,FALSE))","v":0},{"$f":"AV100*(-HLOOKUP($B$54,'04_Wirtschaftlichkeit'!$E$44:$L$57,7,FALSE)-HLOOKUP($B$54,'04_Wirtschaftlichkeit'!$E$44:$L$57,5,FALSE))","v":0},{"$f":"AW100*(-HLOOKUP($B$54,'04_Wirtschaftlichkeit'!$E$44:$L$57,7,FALSE)-HLOOKUP($B$54,'04_Wirtschaftlichkeit'!$E$44:$L$57,5,FALSE))","v":0},{"$f":"AX100*(-HLOOKUP($B$54,'04_Wirtschaftlichkeit'!$E$44:$L$57,7,FALSE)-HLOOKUP($B$54,'04_Wirtschaftlichkeit'!$E$44:$L$57,5,FALSE))","v":0},{"$f":"AY100*(-HLOOKUP($B$54,'04_Wirtschaftlichkeit'!$E$44:$L$57,7,FALSE)-HLOOKUP($B$54,'04_Wirtschaftlichkeit'!$E$44:$L$57,5,FALSE))","v":0},{"$f":"AZ100*(-HLOOKUP($B$54,'04_Wirtschaftlichkeit'!$E$44:$L$57,7,FALSE)-HLOOKUP($B$54,'04_Wirtschaftlichkeit'!$E$44:$L$57,5,FALSE))","v":0},{"$f":"BA100*(-HLOOKUP($B$54,'04_Wirtschaftlichkeit'!$E$44:$L$57,7,FALSE)-HLOOKUP($B$54,'04_Wirtschaftlichkeit'!$E$44:$L$57,5,FALSE))","v":0}]
[null,"Betr.-Dauer",{"$f":"IF('04_Wirtschaftlichkeit'!$F$17*(1+$B103)>=Nebenrechnungen!C$55,1,0)","v":1},{"$f":"IF('04_Wirtschaftlichkeit'!$F$17*(1+$B103)>=Nebenrechnungen!D$55,1,0)","v":1},{"$f":"IF('04_Wirtschaftlichkeit'!$F$17*(1+$B103)>=Nebenrechnungen!E$55,1,0)","v":1},{"$f":"IF('04_Wirtschaftlichkeit'!$F$17*(1+$B103)>=Nebenrechnungen!F$55,1,0)","v":1},{"$f":"IF('04_Wirtschaftlichkeit'!$F$17*(1+$B103)>=Nebenrechnungen!G$55,1,0)","v":1},{"$f":"IF('04_Wirtschaftlichkeit'!$F$17*(1+$B103)>=Nebenrechnungen!H$55,1,0)","v":1},{"$f":"IF('04_Wirtschaftlichkeit'!$F$17*(1+$B103)>=Nebenrechnungen!I$55,1,0)","v":1},{"$f":"IF('04_Wirtschaftlichkeit'!$F$17*(1+$B103)>=Nebenrechnungen!J$55,1,0)","v":1},{"$f":"IF('04_Wirtschaftlichkeit'!$F$17*(1+$B103)>=Nebenrechnungen!K$55,1,0)","v":1},{"$f":"IF('04_Wirtschaftlichkeit'!$F$17*(1+$B103)>=Nebenrechnungen!L$55,1,0)","v":1},{"$f":"IF('04_Wirtschaftlichkeit'!$F$17*(1+$B103)>=Nebenrechnungen!M$55,1,0)","v":1},{"$f":"IF('04_Wirtschaftlichkeit'!$F$17*(1+$B103)>=Nebenrechnungen!N$55,1,0)","v":1},{"$f":"IF('04_Wirtschaftlichkeit'!$F$17*(1+$B103)>=Nebenrechnungen!O$55,1,0)","v":1},{"$f":"IF('04_Wirtschaftlichkeit'!$F$17*(1+$B103)>=Nebenrechnungen!P$55,1,0)","v":1},{"$f":"IF('04_Wirtschaftlichkeit'!$F$17*(1+$B103)>=Nebenrechnungen!Q$55,1,0)","v":1},{"$f":"IF('04_Wirtschaftlichkeit'!$F$17*(1+$B103)>=Nebenrechnungen!R$55,1,0)","v":1},{"$f":"IF('04_Wirtschaftlichkeit'!$F$17*(1+$B103)>=Nebenrechnungen!S$55,1,0)","v":1},{"$f":"IF('04_Wirtschaftlichkeit'!$F$17*(1+$B103)>=Nebenrechnungen!T$55,1,0)","v":0},{"$f":"IF('04_Wirtschaftlichkeit'!$F$17*(1+$B103)>=Nebenrechnungen!U$55,1,0)","v":0},{"$f":"IF('04_Wirtschaftlichkeit'!$F$17*(1+$B103)>=Nebenrechnungen!V$55,1,0)","v":0},{"$f":"IF('04_Wirtschaftlichkeit'!$F$17*(1+$B103)>=Nebenrechnungen!W$55,1,0)","v":0},{"$f":"IF('04_Wirtschaftlichkeit'!$F$17*(1+$B103)>=Nebenrechnungen!X$55,1,0)","v":0},{"$f":"IF('04_Wirtschaftlichkeit'!$F$17*(1+$B103)>=Nebenrechnungen!Y$55,1,0)","v":0},{"$f":"IF('04_Wirtschaftlichkeit'!$F$17*(1+$B103)>=Nebenrechnungen!Z$55,1,0)","v":0},{"$f":"IF('04_Wirtschaftlichkeit'!$F$17*(1+$B103)>=Nebenrechnungen!AA$55,1,0)","v":0},{"$f":"IF('04_Wirtschaftlichkeit'!$F$17*(1+$B103)>=Nebenrechnungen!AB$55,1,0)","v":0},{"$f":"IF('04_Wirtschaftlichkeit'!$F$17*(1+$B103)>=Nebenrechnungen!AC$55,1,0)","v":0},{"$f":"IF('04_Wirtschaftlichkeit'!$F$17*(1+$B103)>=Nebenrechnungen!AD$55,1,0)","v":0},{"$f":"IF('04_Wirtschaftlichkeit'!$F$17*(1+$B103)>=Nebenrechnungen!AE$55,1,0)","v":0},{"$f":"IF('04_Wirtschaftlichkeit'!$F$17*(1+$B103)>=Nebenrechnungen!AF$55,1,0)","v":0},{"$f":"IF('04_Wirtschaftlichkeit'!$F$17*(1+$B103)>=Nebenrechnungen!AG$55,1,0)","v":0},{"$f":"IF('04_Wirtschaftlichkeit'!$F$17*(1+$B103)>=Nebenrechnungen!AH$55,1,0)","v":0},{"$f":"IF('04_Wirtschaftlichkeit'!$F$17*(1+$B103)>=Nebenrechnungen!AI$55,1,0)","v":0},{"$f":"IF('04_Wirtschaftlichkeit'!$F$17*(1+$B103)>=Nebenrechnungen!AJ$55,1,0)","v":0},{"$f":"IF('04_Wirtschaftlichkeit'!$F$17*(1+$B103)>=Nebenrechnungen!AK$55,1,0)","v":0},{"$f":"IF('04_Wirtschaftlichkeit'!$F$17*(1+$B103)>=Nebenrechnungen!AL$55,1,0)","v":0},{"$f":"IF('04_Wirtschaftlichkeit'!$F$17*(1+$B103)>=Nebenrechnungen!AM$55,1,0)","v":0},{"$f":"IF('04_Wirtschaftlichkeit'!$F$17*(1+$B103)>=Nebenrechnungen!AN$55,1,0)","v":0},{"$f":"IF('04_Wirtschaftlichkeit'!$F$17*(1+$B103)>=Nebenrechnungen!AO$55,1,0)","v":0},{"$f":"IF('04_Wirtschaftlichkeit'!$F$17*(1+$B103)>=Nebenrechnungen!AP$55,1,0)","v":0},{"$f":"IF('04_Wirtschaftlichkeit'!$F$17*(1+$B103)>=Nebenrechnungen!AQ$55,1,0)","v":0},{"$f":"IF('04_Wirtschaftlichkeit'!$F$17*(1+$B103)>=Nebenrechnungen!AR$55,1,0)","v":0},{"$f":"IF('04_Wirtschaftlichkeit'!$F$17*(1+$B103)>=Nebenrechnungen!AS$55,1,0)","v":0},{"$f":"IF('04_Wirtschaftlichkeit'!$F$17*(1+$B103)>=Nebenrechnungen!AT$55,1,0)","v":0},{"$f":"IF('04_Wirtschaftlichkeit'!$F$17*(1+$B103)>=Nebenrechnungen!AU$55,1,0)","v":0},{"$f":"IF('04_Wirtschaftlichkeit'!$F$17*(1+$B103)>=Nebenrechnungen!AV$55,1,0)","v":0},{"$f":"IF('04_Wirtschaftlichkeit'!$F$17*(1+$B103)>=Nebenrechnungen!AW$55,1,0)","v":0},{"$f":"IF('04_Wirtschaftlichkeit'!$F$17*(1+$B103)>=Nebenrechnungen!AX$55,1,0)","v":0},{"$f":"IF('04_Wirtschaftlichkeit'!$F$17*(1+$B103)>=Nebenrechnungen!AY$55,1,0)","v":0},{"$f":"IF('04_Wirtschaftlichkeit'!$F$17*(1+$B103)>=Nebenrechnungen!AZ$55,1,0)","v":0},{"$f":"IF('04_Wirtschaftlichkeit'!$F$17*(1+$B103)>=Nebenrechnungen!BA$55,1,0)","v":0}]
[null,-0.2,{"$f":"-HLOOKUP($B$54,'04_Wirtschaftlichkeit'!$E$44:$L$57,6,FALSE)","v":-1057830.7168757692},{"$f":"D102*(-HLOOKUP($B$54,'04_Wirtschaftlichkeit'!$E$44:$L$57,7,FALSE)-HLOOKUP($B$54,'04_Wirtschaftlichkeit'!$E$44:$L$57,5,FALSE))","v":-84207.9},{"$f":"E102*(-HLOOKUP($B$54,'04_Wirtschaftlichkeit'!$E$44:$L$57,7,FALSE)-HLOOKUP($B$54,'04_Wirtschaftlichkeit'!$E$44:$L$57,5,FALSE))","v":-84207.9},{"$f":"F102*(-HLOOKUP($B$54,'04_Wirtschaftlichkeit'!$E$44:$L$57,7,FALSE)-HLOOKUP($B$54,'04_Wirtschaftlichkeit'!$E$44:$L$57,5,FALSE))","v":-84207.9},{"$f":"G102*(-HLOOKUP($B$54,'04_Wirtschaftlichkeit'!$E$44:$L$57,7,FALSE)-HLOOKUP($B$54,'04_Wirtschaftlichkeit'!$E$44:$L$57,5,FALSE))","v":-84207.9},{"$f":"H102*(-HLOOKUP($B$54,'04_Wirtschaftlichkeit'!$E$44:$L$57,7,FALSE)-HLOOKUP($B$54,'04_Wirtschaftlichkeit'!$E$44:$L$57,5,FALSE))","v":-84207.9},{"$f":"I102*(-HLOOKUP($B$54,'04_Wirtschaftlichkeit'!$E$44:$L$57,7,FALSE)-HLOOKUP($B$54,'04_Wirtschaftlichkeit'!$E$44:$L$57,5,FALSE))","v":-84207.9},{"$f":"J102*(-HLOOKUP($B$54,'04_Wirtschaftlichkeit'!$E$44:$L$57,7,FALSE)-HLOOKUP($B$54,'04_Wirtschaftlichkeit'!$E$44:$L$57,5,FALSE))","v":-84207.9},{"$f":"K102*(-HLOOKUP($B$54,'04_Wirtschaftlichkeit'!$E$44:$L$57,7,FALSE)-HLOOKUP($B$54,'04_Wirtschaftlichkeit'!$E$44:$L$57,5,FALSE))","v":-84207.9},{"$f":"L102*(-HLOOKUP($B$54,'04_Wirtschaftlichkeit'!$E$44:$L$57,7,FALSE)-HLOOKUP($B$54,'04_Wirtschaftlichkeit'!$E$44:$L$57,5,FALSE))","v":-84207.9},{"$f":"M102*(-HLOOKUP($B$54,'04_Wirtschaftlichkeit'!$E$44:$L$57,7,FALSE)-HLOOKUP($B$54,'04_Wirtschaftlichkeit'!$E$44:$L$57,5,FALSE))","v":-84207.9},{"$f":"N102*(-HLOOKUP($B$54,'04_Wirtschaftlichkeit'!$E$44:$L$57,7,FALSE)-HLOOKUP($B$54,'04_Wirtschaftlichkeit'!$E$44:$L$57,5,FALSE))","v":-84207.9},{"$f":"O102*(-HLOOKUP($B$54,'04_Wirtschaftlichkeit'!$E$44:$L$57,7,FALSE)-HLOOKUP($B$54,'04_Wirtschaftlichkeit'!$E$44:$L$57,5,FALSE))","v":-84207.9},{"$f":"P102*(-HLOOKUP($B$54,'04_Wirtschaftlichkeit'!$E$44:$L$57,7,FALSE)-HLOOKUP($B$54,'04_Wirtschaftlichkeit'!$E$44:$L$57,5,FALSE))","v":-84207.9},{"$f":"Q102*(-HLOOKUP($B$54,'04_Wirtschaftlichkeit'!$E$44:$L$57,7,FALSE)-HLOOKUP($B$54,'04_Wirtschaftlichkeit'!$E$44:$L$57,5,FALSE))","v":-84207.9},{"$f":"R102*(-HLOOKUP($B$54,'04_Wirtschaftlichkeit'!$E$44:$L$57,7,FALSE)-HLOOKUP($B$54,'04_Wirtschaftlichkeit'!$E$44:$L$57,5,FALSE))","v":-84207.9},{"$f":"S102*(-HLOOKUP($B$54,'04_Wirtschaftlichkeit'!$E$44:$L$57,7,FALSE)-HLOOKUP($B$54,'04_Wirtschaftlichkeit'!$E$44:$L$57,5,FALSE))","v":-84207.9},{"$f":"T102*(-HLOOKUP($B$54,'04_Wirtschaftlichkeit'!$E$44:$L$57,7,FALSE)-HLOOKUP($B$54,'04_Wirtschaftlichkeit'!$E$44:$L$57,5,FALSE))","v":0},{"$f":"U102*(-HLOOKUP($B$54,'04_Wirtschaftlichkeit'!$E$44:$L$57,7,FALSE)-HLOOKUP($B$54,'04_Wirtschaftlichkeit'!$E$44:$L$57,5,FALSE))","v":0},{"$f":"V102*(-HLOOKUP($B$54,'04_Wirtschaftlichkeit'!$E$44:$L$57,7,FALSE)-HLOOKUP($B$54,'04_Wirtschaftlichkeit'!$E$44:$L$57,5,FALSE))","v":0},{"$f":"W102*(-HLOOKUP($B$54,'04_Wirtschaftlichkeit'!$E$44:$L$57,7,FALSE)-HLOOKUP($B$54,'04_Wirtschaftlichkeit'!$E$44:$L$57,5,FALSE))","v":0},{"$f":"X102*(-HLOOKUP($B$54,'04_Wirtschaftlichkeit'!$E$44:$L$57,7,FALSE)-HLOOKUP($B$54,'04_Wirtschaftlichkeit'!$E$44:$L$57,5,FALSE))","v":0},{"$f":"Y102*(-HLOOKUP($B$54,'04_Wirtschaftlichkeit'!$E$44:$L$57,7,FALSE)-HLOOKUP($B$54,'04_Wirtschaftlichkeit'!$E$44:$L$57,5,FALSE))","v":0},{"$f":"Z102*(-HLOOKUP($B$54,'04_Wirtschaftlichkeit'!$E$44:$L$57,7,FALSE)-HLOOKUP($B$54,'04_Wirtschaftlichkeit'!$E$44:$L$57,5,FALSE))","v":0},{"$f":"AA102*(-HLOOKUP($B$54,'04_Wirtschaftlichkeit'!$E$44:$L$57,7,FALSE)-HLOOKUP($B$54,'04_Wirtschaftlichkeit'!$E$44:$L$57,5,FALSE))","v":0},{"$f":"AB102*(-HLOOKUP($B$54,'04_Wirtschaftlichkeit'!$E$44:$L$57,7,FALSE)-HLOOKUP($B$54,'04_Wirtschaftlichkeit'!$E$44:$L$57,5,FALSE))","v":0},{"$f":"AC102*(-HLOOKUP($B$54,'04_Wirtschaftlichkeit'!$E$44:$L$57,7,FALSE)-HLOOKUP($B$54,'04_Wirtschaftlichkeit'!$E$44:$L$57,5,FALSE))","v":0},{"$f":"AD102*(-HLOOKUP($B$54,'04_Wirtschaftlichkeit'!$E$44:$L$57,7,FALSE)-HLOOKUP($B$54,'04_Wirtschaftlichkeit'!$E$44:$L$57,5,FALSE))","v":0},{"$f":"AE102*(-HLOOKUP($B$54,'04_Wirtschaftlichkeit'!$E$44:$L$57,7,FALSE)-HLOOKUP($B$54,'04_Wirtschaftlichkeit'!$E$44:$L$57,5,FALSE))","v":0},{"$f":"AF102*(-HLOOKUP($B$54,'04_Wirtschaftlichkeit'!$E$44:$L$57,7,FALSE)-HLOOKUP($B$54,'04_Wirtschaftlichkeit'!$E$44:$L$57,5,FALSE))","v":0},{"$f":"AG102*(-HLOOKUP($B$54,'04_Wirtschaftlichkeit'!$E$44:$L$57,7,FALSE)-HLOOKUP($B$54,'04_Wirtschaftlichkeit'!$E$44:$L$57,5,FALSE))","v":0},{"$f":"AH102*(-HLOOKUP($B$54,'04_Wirtschaftlichkeit'!$E$44:$L$57,7,FALSE)-HLOOKUP($B$54,'04_Wirtschaftlichkeit'!$E$44:$L$57,5,FALSE))","v":0},{"$f":"AI102*(-HLOOKUP($B$54,'04_Wirtschaftlichkeit'!$E$44:$L$57,7,FALSE)-HLOOKUP($B$54,'04_Wirtschaftlichkeit'!$E$44:$L$57,5,FALSE))","v":0},{"$f":"AJ102*(-HLOOKUP($B$54,'04_Wirtschaftlichkeit'!$E$44:$L$57,7,FALSE)-HLOOKUP($B$54,'04_Wirtschaftlichkeit'!$E$44:$L$57,5,FALSE))","v":0},{"$f":"AK102*(-HLOOKUP($B$54,'04_Wirtschaftlichkeit'!$E$44:$L$57,7,FALSE)-HLOOKUP($B$54,'04_Wirtschaftlichkeit'!$E$44:$L$57,5,FALSE))","v":0},{"$f":"AL102*(-HLOOKUP($B$54,'04_Wirtschaftlichkeit'!$E$44:$L$57,7,FALSE)-HLOOKUP($B$54,'04_Wirtschaftlichkeit'!$E$44:$L$57,5,FALSE))","v":0},{"$f":"AM102*(-HLOOKUP($B$54,'04_Wirtschaftlichkeit'!$E$44:$L$57,7,FALSE)-HLOOKUP($B$54,'04_Wirtschaftlichkeit'!$E$44:$L$57,5,FALSE))","v":0},{"$f":"AN102*(-HLOOKUP($B$54,'04_Wirtschaftlichkeit'!$E$44:$L$57,7,FALSE)-HLOOKUP($B$54,'04_Wirtschaftlichkeit'!$E$44:$L$57,5,FALSE))","v":0},{"$f":"AO102*(-HLOOKUP($B$54,'04_Wirtschaftlichkeit'!$E$44:$L$57,7,FALSE)-HLOOKUP($B$54,'04_Wirtschaftlichkeit'!$E$44:$L$57,5,FALSE))","v":0},{"$f":"AP102*(-HLOOKUP($B$54,'04_Wirtschaftlichkeit'!$E$44:$L$57,7,FALSE)-HLOOKUP($B$54,'04_Wirtschaftlichkeit'!$E$44:$L$57,5,FALSE))","v":0},{"$f":"AQ102*(-HLOOKUP($B$54,'04_Wirtschaftlichkeit'!$E$44:$L$57,7,FALSE)-HLOOKUP($B$54,'04_Wirtschaftlichkeit'!$E$44:$L$57,5,FALSE))","v":0},{"$f":"AR102*(-HLOOKUP($B$54,'04_Wirtschaftlichkeit'!$E$44:$L$57,7,FALSE)-HLOOKUP($B$54,'04_Wirtschaftlichkeit'!$E$44:$L$57,5,FALSE))","v":0},{"$f":"AS102*(-HLOOKUP($B$54,'04_Wirtschaftlichkeit'!$E$44:$L$57,7,FALSE)-HLOOKUP($B$54,'04_Wirtschaftlichkeit'!$E$44:$L$57,5,FALSE))","v":0},{"$f":"AT102*(-HLOOKUP($B$54,'04_Wirtschaftlichkeit'!$E$44:$L$57,7,FALSE)-HLOOKUP($B$54,'04_Wirtschaftlichkeit'!$E$44:$L$57,5,FALSE))","v":0},{"$f":"AU102*(-HLOOKUP($B$54,'04_Wirtschaftlichkeit'!$E$44:$L$57,7,FALSE)-HLOOKUP($B$54,'04_Wirtschaftlichkeit'!$E$44:$L$57,5,FALSE))","v":0},{"$f":"AV102*(-HLOOKUP($B$54,'04_Wirtschaftlichkeit'!$E$44:$L$57,7,FALSE)-HLOOKUP($B$54,'04_Wirtschaftlichkeit'!$E$44:$L$57,5,FALSE))","v":0},{"$f":"AW102*(-HLOOKUP($B$54,'04_Wirtschaftlichkeit'!$E$44:$L$57,7,FALSE)-HLOOKUP($B$54,'04_Wirtschaftlichkeit'!$E$44:$L$57,5,FALSE))","v":0},{"$f":"AX102*(-HLOOKUP($B$54,'04_Wirtschaftlichkeit'!$E$44:$L$57,7,FALSE)-HLOOKUP($B$54,'04_Wirtschaftlichkeit'!$E$44:$L$57,5,FALSE))","v":0},{"$f":"AY102*(-HLOOKUP($B$54,'04_Wirtschaftlichkeit'!$E$44:$L$57,7,FALSE)-HLOOKUP($B$54,'04_Wirtschaftlichkeit'!$E$44:$L$57,5,FALSE))","v":0},{"$f":"AZ102*(-HLOOKUP($B$54,'04_Wirtschaftlichkeit'!$E$44:$L$57,7,FALSE)-HLOOKUP($B$54,'04_Wirtschaftlichkeit'!$E$44:$L$57,5,FALSE))","v":0},{"$f":"BA102*(-HLOOKUP($B$54,'04_Wirtschaftlichkeit'!$E$44:$L$57,7,FALSE)-HLOOKUP($B$54,'04_Wirtschaftlichkeit'!$E$44:$L$57,5,FALSE))","v":0}]
[null,"Betr.-Dauer",{"$f":"IF('04_Wirtschaftlichkeit'!$F$17*(1+$B105)>=Nebenrechnungen!C$55,1,0)","v":1},{"$f":"IF('04_Wirtschaftlichkeit'!$F$17*(1+$B105)>=Nebenrechnungen!D$55,1,0)","v":1},{"$f":"IF('04_Wirtschaftlichkeit'!$F$17*(1+$B105)>=Nebenrechnungen!E$55,1,0)","v":1},{"$f":"IF('04_Wirtschaftlichkeit'!$F$17*(1+$B105)>=Nebenrechnungen!F$55,1,0)","v":1},{"$f":"IF('04_Wirtschaftlichkeit'!$F$17*(1+$B105)>=Nebenrechnungen!G$55,1,0)","v":1},{"$f":"IF('04_Wirtschaftlichkeit'!$F$17*(1+$B105)>=Nebenrechnungen!H$55,1,0)","v":1},{"$f":"IF('04_Wirtschaftlichkeit'!$F$17*(1+$B105)>=Nebenrechnungen!I$55,1,0)","v":1},{"$f":"IF('04_Wirtschaftlichkeit'!$F$17*(1+$B105)>=Nebenrechnungen!J$55,1,0)","v":1},{"$f":"IF('04_Wirtschaftlichkeit'!$F$17*(1+$B105)>=Nebenrechnungen!K$55,1,0)","v":1},{"$f":"IF('04_Wirtschaftlichkeit'!$F$17*(1+$B105)>=Nebenrechnungen!L$55,1,0)","v":1},{"$f":"IF('04_Wirtschaftlichkeit'!$F$17*(1+$B105)>=Nebenrechnungen!M$55,1,0)","v":1},{"$f":"IF('04_Wirtschaftlichkeit'!$F$17*(1+$B105)>=Nebenrechnungen!N$55,1,0)","v":1},{"$f":"IF('04_Wirtschaftlichkeit'!$F$17*(1+$B105)>=Nebenrechnungen!O$55,1,0)","v":1},{"$f":"IF('04_Wirtschaftlichkeit'!$F$17*(1+$B105)>=Nebenrechnungen!P$55,1,0)","v":1},{"$f":"IF('04_Wirtschaftlichkeit'!$F$17*(1+$B105)>=Nebenrechnungen!Q$55,1,0)","v":1},{"$f":"IF('04_Wirtschaftlichkeit'!$F$17*(1+$B105)>=Nebenrechnungen!R$55,1,0)","v":1},{"$f":"IF('04_Wirtschaftlichkeit'!$F$17*(1+$B105)>=Nebenrechnungen!S$55,1,0)","v":1},{"$f":"IF('04_Wirtschaftlichkeit'!$F$17*(1+$B105)>=Nebenrechnungen!T$55,1,0)","v":1},{"$f":"IF('04_Wirtschaftlichkeit'!$F$17*(1+$B105)>=Nebenrechnungen!U$55,1,0)","v":1},{"$f":"IF('04_Wirtschaftlichkeit'!$F$17*(1+$B105)>=Nebenrechnungen!V$55,1,0)","v":0},{"$f":"IF('04_Wirtschaftlichkeit'!$F$17*(1+$B105)>=Nebenrechnungen!W$55,1,0)","v":0},{"$f":"IF('04_Wirtschaftlichkeit'!$F$17*(1+$B105)>=Nebenrechnungen!X$55,1,0)","v":0},{"$f":"IF('04_Wirtschaftlichkeit'!$F$17*(1+$B105)>=Nebenrechnungen!Y$55,1,0)","v":0},{"$f":"IF('04_Wirtschaftlichkeit'!$F$17*(1+$B105)>=Nebenrechnungen!Z$55,1,0)","v":0},{"$f":"IF('04_Wirtschaftlichkeit'!$F$17*(1+$B105)>=Nebenrechnungen!AA$55,1,0)","v":0},{"$f":"IF('04_Wirtschaftlichkeit'!$F$17*(1+$B105)>=Nebenrechnungen!AB$55,1,0)","v":0},{"$f":"IF('04_Wirtschaftlichkeit'!$F$17*(1+$B105)>=Nebenrechnungen!AC$55,1,0)","v":0},{"$f":"IF('04_Wirtschaftlichkeit'!$F$17*(1+$B105)>=Nebenrechnungen!AD$55,1,0)","v":0},{"$f":"IF('04_Wirtschaftlichkeit'!$F$17*(1+$B105)>=Nebenrechnungen!AE$55,1,0)","v":0},{"$f":"IF('04_Wirtschaftlichkeit'!$F$17*(1+$B105)>=Nebenrechnungen!AF$55,1,0)","v":0},{"$f":"IF('04_Wirtschaftlichkeit'!$F$17*(1+$B105)>=Nebenrechnungen!AG$55,1,0)","v":0},{"$f":"IF('04_Wirtschaftlichkeit'!$F$17*(1+$B105)>=Nebenrechnungen!AH$55,1,0)","v":0},{"$f":"IF('04_Wirtschaftlichkeit'!$F$17*(1+$B105)>=Nebenrechnungen!AI$55,1,0)","v":0},{"$f":"IF('04_Wirtschaftlichkeit'!$F$17*(1+$B105)>=Nebenrechnungen!AJ$55,1,0)","v":0},{"$f":"IF('04_Wirtschaftlichkeit'!$F$17*(1+$B105)>=Nebenrechnungen!AK$55,1,0)","v":0},{"$f":"IF('04_Wirtschaftlichkeit'!$F$17*(1+$B105)>=Nebenrechnungen!AL$55,1,0)","v":0},{"$f":"IF('04_Wirtschaftlichkeit'!$F$17*(1+$B105)>=Nebenrechnungen!AM$55,1,0)","v":0},{"$f":"IF('04_Wirtschaftlichkeit'!$F$17*(1+$B105)>=Nebenrechnungen!AN$55,1,0)","v":0},{"$f":"IF('04_Wirtschaftlichkeit'!$F$17*(1+$B105)>=Nebenrechnungen!AO$55,1,0)","v":0},{"$f":"IF('04_Wirtschaftlichkeit'!$F$17*(1+$B105)>=Nebenrechnungen!AP$55,1,0)","v":0},{"$f":"IF('04_Wirtschaftlichkeit'!$F$17*(1+$B105)>=Nebenrechnungen!AQ$55,1,0)","v":0},{"$f":"IF('04_Wirtschaftlichkeit'!$F$17*(1+$B105)>=Nebenrechnungen!AR$55,1,0)","v":0},{"$f":"IF('04_Wirtschaftlichkeit'!$F$17*(1+$B105)>=Nebenrechnungen!AS$55,1,0)","v":0},{"$f":"IF('04_Wirtschaftlichkeit'!$F$17*(1+$B105)>=Nebenrechnungen!AT$55,1,0)","v":0},{"$f":"IF('04_Wirtschaftlichkeit'!$F$17*(1+$B105)>=Nebenrechnungen!AU$55,1,0)","v":0},{"$f":"IF('04_Wirtschaftlichkeit'!$F$17*(1+$B105)>=Nebenrechnungen!AV$55,1,0)","v":0},{"$f":"IF('04_Wirtschaftlichkeit'!$F$17*(1+$B105)>=Nebenrechnungen!AW$55,1,0)","v":0},{"$f":"IF('04_Wirtschaftlichkeit'!$F$17*(1+$B105)>=Nebenrechnungen!AX$55,1,0)","v":0},{"$f":"IF('04_Wirtschaftlichkeit'!$F$17*(1+$B105)>=Nebenrechnungen!AY$55,1,0)","v":0},{"$f":"IF('04_Wirtschaftlichkeit'!$F$17*(1+$B105)>=Nebenrechnungen!AZ$55,1,0)","v":0},{"$f":"IF('04_Wirtschaftlichkeit'!$F$17*(1+$B105)>=Nebenrechnungen!BA$55,1,0)","v":0}]
[null,-0.1,{"$f":"-HLOOKUP($B$54,'04_Wirtschaftlichkeit'!$E$44:$L$57,6,FALSE)","v":-1057830.7168757692},{"$f":"D104*(-HLOOKUP($B$54,'04_Wirtschaftlichkeit'!$E$44:$L$57,7,FALSE)-HLOOKUP($B$54,'04_Wirtschaftlichkeit'!$E$44:$L$57,5,FALSE))","v":-84207.9},{"$f":"E104*(-HLOOKUP($B$54,'04_Wirtschaftlichkeit'!$E$44:$L$57,7,FALSE)-HLOOKUP($B$54,'04_Wirtschaftlichkeit'!$E$44:$L$57,5,FALSE))","v":-84207.9},{"$f":"F104*(-HLOOKUP($B$54,'04_Wirtschaftlichkeit'!$E$44:$L$57,7,FALSE)-HLOOKUP($B$54,'04_Wirtschaftlichkeit'!$E$44:$L$57,5,FALSE))","v":-84207.9},{"$f":"G104*(-HLOOKUP($B$54,'04_Wirtschaftlichkeit'!$E$44:$L$57,7,FALSE)-HLOOKUP($B$54,'04_Wirtschaftlichkeit'!$E$44:$L$57,5,FALSE))","v":-84207.9},{"$f":"H104*(-HLOOKUP($B$54,'04_Wirtschaftlichkeit'!$E$44:$L$57,7,FALSE)-HLOOKUP($B$54,'04_Wirtschaftlichkeit'!$E$44:$L$57,5,FALSE))","v":-84207.9},{"$f":"I104*(-HLOOKUP($B$54,'04_Wirtschaftlichkeit'!$E$44:$L$57,7,FALSE)-HLOOKUP($B$54,'04_Wirtschaftlichkeit'!$E$44:$L$57,5,FALSE))","v":-84207.9},{"$f":"J104*(-HLOOKUP($B$54,'04_Wirtschaftlichkeit'!$E$44:$L$57,7,FALSE)-HLOOKUP($B$54,'04_Wirtschaftlichkeit'!$E$44:$L$57,5,FALSE))","v":-84207.9},{"$f":"K104*(-HLOOKUP($B$54,'04_Wirtschaftlichkeit'!$E$44:$L$57,7,FALSE)-HLOOKUP($B$54,'04_Wirtschaftlichkeit'!$E$44:$L$57,5,FALSE))","v":-84207.9},{"$f":"L104*(-HLOOKUP($B$54,'04_Wirtschaftlichkeit'!$E$44:$L$57,7,FALSE)-HLOOKUP($B$54,'04_Wirtschaftlichkeit'!$E$44:$L$57,5,FALSE))","v":-84207.9},{"$f":"M104*(-HLOOKUP($B$54,'04_Wirtschaftlichkeit'!$E$44:$L$57,7,FALSE)-HLOOKUP($B$54,'04_Wirtschaftlichkeit'!$E$44:$L$57,5,FALSE))","v":-84207.9},{"$f":"N104*(-HLOOKUP($B$54,'04_Wirtschaftlichkeit'!$E$44:$L$57,7,FALSE)-HLOOKUP($B$54,'04_Wirtschaftlichkeit'!$E$44:$L$57,5,FALSE))","v":-84207.9},{"$f":"O104*(-HLOOKUP($B$54,'04_Wirtschaftlichkeit'!$E$44:$L$57,7,FALSE)-HLOOKUP($B$54,'04_Wirtschaftlichkeit'!$E$44:$L$57,5,FALSE))","v":-84207.9},{"$f":"P104*(-HLOOKUP($B$54,'04_Wirtschaftlichkeit'!$E$44:$L$57,7,FALSE)-HLOOKUP($B$54,'04_Wirtschaftlichkeit'!$E$44:$L$57,5,FALSE))","v":-84207.9},{"$f":"Q104*(-HLOOKUP($B$54,'04_Wirtschaftlichkeit'!$E$44:$L$57,7,FALSE)-HLOOKUP($B$54,'04_Wirtschaftlichkeit'!$E$44:$L$57,5,FALSE))","v":-84207.9},{"$f":"R104*(-HLOOKUP($B$54,'04_Wirtschaftlichkeit'!$E$44:$L$57,7,FALSE)-HLOOKUP($B$54,'04_Wirtschaftlichkeit'!$E$44:$L$57,5,FALSE))","v":-84207.9},{"$f":"S104*(-HLOOKUP($B$54,'04_Wirtschaftlichkeit'!$E$44:$L$57,7,FALSE)-HLOOKUP($B$54,'04_Wirtschaftlichkeit'!$E$44:$L$57,5,FALSE))","v":-84207.9},{"$f":"T104*(-HLOOKUP($B$54,'04_Wirtschaftlichkeit'!$E$44:$L$57,7,FALSE)-HLOOKUP($B$54,'04_Wirtschaftlichkeit'!$E$44:$L$57,5,FALSE))","v":-84207.9},{"$f":"U104*(-HLOOKUP($B$54,'04_Wirtschaftlichkeit'!$E$44:$L$57,7,FALSE)-HLOOKUP($B$54,'04_Wirtschaftlichkeit'!$E$44:$L$57,5,FALSE))","v":-84207.9},{"$f":"V104*(-HLOOKUP($B$54,'04_Wirtschaftlichkeit'!$E$44:$L$57,7,FALSE)-HLOOKUP($B$54,'04_Wirtschaftlichkeit'!$E$44:$L$57,5,FALSE))","v":0},{"$f":"W104*(-HLOOKUP($B$54,'04_Wirtschaftlichkeit'!$E$44:$L$57,7,FALSE)-HLOOKUP($B$54,'04_Wirtschaftlichkeit'!$E$44:$L$57,5,FALSE))","v":0},{"$f":"X104*(-HLOOKUP($B$54,'04_Wirtschaftlichkeit'!$E$44:$L$57,7,FALSE)-HLOOKUP($B$54,'04_Wirtschaftlichkeit'!$E$44:$L$57,5,FALSE))","v":0},{"$f":"Y104*(-HLOOKUP($B$54,'04_Wirtschaftlichkeit'!$E$44:$L$57,7,FALSE)-HLOOKUP($B$54,'04_Wirtschaftlichkeit'!$E$44:$L$57,5,FALSE))","v":0},{"$f":"Z104*(-HLOOKUP($B$54,'04_Wirtschaftlichkeit'!$E$44:$L$57,7,FALSE)-HLOOKUP($B$54,'04_Wirtschaftlichkeit'!$E$44:$L$57,5,FALSE))","v":0},{"$f":"AA104*(-HLOOKUP($B$54,'04_Wirtschaftlichkeit'!$E$44:$L$57,7,FALSE)-HLOOKUP($B$54,'04_Wirtschaftlichkeit'!$E$44:$L$57,5,FALSE))","v":0},{"$f":"AB104*(-HLOOKUP($B$54,'04_Wirtschaftlichkeit'!$E$44:$L$57,7,FALSE)-HLOOKUP($B$54,'04_Wirtschaftlichkeit'!$E$44:$L$57,5,FALSE))","v":0},{"$f":"AC104*(-HLOOKUP($B$54,'04_Wirtschaftlichkeit'!$E$44:$L$57,7,FALSE)-HLOOKUP($B$54,'04_Wirtschaftlichkeit'!$E$44:$L$57,5,FALSE))","v":0},{"$f":"AD104*(-HLOOKUP($B$54,'04_Wirtschaftlichkeit'!$E$44:$L$57,7,FALSE)-HLOOKUP($B$54,'04_Wirtschaftlichkeit'!$E$44:$L$57,5,FALSE))","v":0},{"$f":"AE104*(-HLOOKUP($B$54,'04_Wirtschaftlichkeit'!$E$44:$L$57,7,FALSE)-HLOOKUP($B$54,'04_Wirtschaftlichkeit'!$E$44:$L$57,5,FALSE))","v":0},{"$f":"AF104*(-HLOOKUP($B$54,'04_Wirtschaftlichkeit'!$E$44:$L$57,7,FALSE)-HLOOKUP($B$54,'04_Wirtschaftlichkeit'!$E$44:$L$57,5,FALSE))","v":0},{"$f":"AG104*(-HLOOKUP($B$54,'04_Wirtschaftlichkeit'!$E$44:$L$57,7,FALSE)-HLOOKUP($B$54,'04_Wirtschaftlichkeit'!$E$44:$L$57,5,FALSE))","v":0},{"$f":"AH104*(-HLOOKUP($B$54,'04_Wirtschaftlichkeit'!$E$44:$L$57,7,FALSE)-HLOOKUP($B$54,'04_Wirtschaftlichkeit'!$E$44:$L$57,5,FALSE))","v":0},{"$f":"AI104*(-HLOOKUP($B$54,'04_Wirtschaftlichkeit'!$E$44:$L$57,7,FALSE)-HLOOKUP($B$54,'04_Wirtschaftlichkeit'!$E$44:$L$57,5,FALSE))","v":0},{"$f":"AJ104*(-HLOOKUP($B$54,'04_Wirtschaftlichkeit'!$E$44:$L$57,7,FALSE)-HLOOKUP($B$54,'04_Wirtschaftlichkeit'!$E$44:$L$57,5,FALSE))","v":0},{"$f":"AK104*(-HLOOKUP($B$54,'04_Wirtschaftlichkeit'!$E$44:$L$57,7,FALSE)-HLOOKUP($B$54,'04_Wirtschaftlichkeit'!$E$44:$L$57,5,FALSE))","v":0},{"$f":"AL104*(-HLOOKUP($B$54,'04_Wirtschaftlichkeit'!$E$44:$L$57,7,FALSE)-HLOOKUP($B$54,'04_Wirtschaftlichkeit'!$E$44:$L$57,5,FALSE))","v":0},{"$f":"AM104*(-HLOOKUP($B$54,'04_Wirtschaftlichkeit'!$E$44:$L$57,7,FALSE)-HLOOKUP($B$54,'04_Wirtschaftlichkeit'!$E$44:$L$57,5,FALSE))","v":0},{"$f":"AN104*(-HLOOKUP($B$54,'04_Wirtschaftlichkeit'!$E$44:$L$57,7,FALSE)-HLOOKUP($B$54,'04_Wirtschaftlichkeit'!$E$44:$L$57,5,FALSE))","v":0},{"$f":"AO104*(-HLOOKUP($B$54,'04_Wirtschaftlichkeit'!$E$44:$L$57,7,FALSE)-HLOOKUP($B$54,'04_Wirtschaftlichkeit'!$E$44:$L$57,5,FALSE))","v":0},{"$f":"AP104*(-HLOOKUP($B$54,'04_Wirtschaftlichkeit'!$E$44:$L$57,7,FALSE)-HLOOKUP($B$54,'04_Wirtschaftlichkeit'!$E$44:$L$57,5,FALSE))","v":0},{"$f":"AQ104*(-HLOOKUP($B$54,'04_Wirtschaftlichkeit'!$E$44:$L$57,7,FALSE)-HLOOKUP($B$54,'04_Wirtschaftlichkeit'!$E$44:$L$57,5,FALSE))","v":0},{"$f":"AR104*(-HLOOKUP($B$54,'04_Wirtschaftlichkeit'!$E$44:$L$57,7,FALSE)-HLOOKUP($B$54,'04_Wirtschaftlichkeit'!$E$44:$L$57,5,FALSE))","v":0},{"$f":"AS104*(-HLOOKUP($B$54,'04_Wirtschaftlichkeit'!$E$44:$L$57,7,FALSE)-HLOOKUP($B$54,'04_Wirtschaftlichkeit'!$E$44:$L$57,5,FALSE))","v":0},{"$f":"AT104*(-HLOOKUP($B$54,'04_Wirtschaftlichkeit'!$E$44:$L$57,7,FALSE)-HLOOKUP($B$54,'04_Wirtschaftlichkeit'!$E$44:$L$57,5,FALSE))","v":0},{"$f":"AU104*(-HLOOKUP($B$54,'04_Wirtschaftlichkeit'!$E$44:$L$57,7,FALSE)-HLOOKUP($B$54,'04_Wirtschaftlichkeit'!$E$44:$L$57,5,FALSE))","v":0},{"$f":"AV104*(-HLOOKUP($B$54,'04_Wirtschaftlichkeit'!$E$44:$L$57,7,FALSE)-HLOOKUP($B$54,'04_Wirtschaftlichkeit'!$E$44:$L$57,5,FALSE))","v":0},{"$f":"AW104*(-HLOOKUP($B$54,'04_Wirtschaftlichkeit'!$E$44:$L$57,7,FALSE)-HLOOKUP($B$54,'04_Wirtschaftlichkeit'!$E$44:$L$57,5,FALSE))","v":0},{"$f":"AX104*(-HLOOKUP($B$54,'04_Wirtschaftlichkeit'!$E$44:$L$57,7,FALSE)-HLOOKUP($B$54,'04_Wirtschaftlichkeit'!$E$44:$L$57,5,FALSE))","v":0},{"$f":"AY104*(-HLOOKUP($B$54,'04_Wirtschaftlichkeit'!$E$44:$L$57,7,FALSE)-HLOOKUP($B$54,'04_Wirtschaftlichkeit'!$E$44:$L$57,5,FALSE))","v":0},{"$f":"AZ104*(-HLOOKUP($B$54,'04_Wirtschaftlichkeit'!$E$44:$L$57,7,FALSE)-HLOOKUP($B$54,'04_Wirtschaftlichkeit'!$E$44:$L$57,5,FALSE))","v":0},{"$f":"BA104*(-HLOOKUP($B$54,'04_Wirtschaftlichkeit'!$E$44:$L$57,7,FALSE)-HLOOKUP($B$54,'04_Wirtschaftlichkeit'!$E$44:$L$57,5,FALSE))","v":0}]
[null,"Betr.-Dauer",{"$f":"IF('04_Wirtschaftlichkeit'!$F$17*(1+$B107)>=Nebenrechnungen!C$55,1,0)","v":1},{"$f":"IF('04_Wirtschaftlichkeit'!$F$17*(1+$B107)>=Nebenrechnungen!D$55,1,0)","v":1},{"$f":"IF('04_Wirtschaftlichkeit'!$F$17*(1+$B107)>=Nebenrechnungen!E$55,1,0)","v":1},{"$f":"IF('04_Wirtschaftlichkeit'!$F$17*(1+$B107)>=Nebenrechnungen!F$55,1,0)","v":1},{"$f":"IF('04_Wirtschaftlichkeit'!$F$17*(1+$B107)>=Nebenrechnungen!G$55,1,0)","v":1},{"$f":"IF('04_Wirtschaftlichkeit'!$F$17*(1+$B107)>=Nebenrechnungen!H$55,1,0)","v":1},{"$f":"IF('04_Wirtschaftlichkeit'!$F$17*(1+$B107)>=Nebenrechnungen!I$55,1,0)","v":1},{"$f":"IF('04_Wirtschaftlichkeit'!$F$17*(1+$B107)>=Nebenrechnungen!J$55,1,0)","v":1},{"$f":"IF('04_Wirtschaftlichkeit'!$F$17*(1+$B107)>=Nebenrechnungen!K$55,1,0)","v":1},{"$f":"IF('04_Wirtschaftlichkeit'!$F$17*(1+$B107)>=Nebenrechnungen!L$55,1,0)","v":1},{"$f":"IF('04_Wirtschaftlichkeit'!$F$17*(1+$B107)>=Nebenrechnungen!M$55,1,0)","v":1},{"$f":"IF('04_Wirtschaftlichkeit'!$F$17*(1+$B107)>=Nebenrechnungen!N$55,1,0)","v":1},{"$f":"IF('04_Wirtschaftlichkeit'!$F$17*(1+$B107)>=Nebenrechnungen!O$55,1,0)","v":1},{"$f":"IF('04_Wirtschaftlichkeit'!$F$17*(1+$B107)>=Nebenrechnungen!P$55,1,0)","v":1},{"$f":"IF('04_Wirtschaftlichkeit'!$F$17*(1+$B107)>=Nebenrechnungen!Q$55,1,0)","v":1},{"$f":"IF('04_Wirtschaftlichkeit'!$F$17*(1+$B107)>=Nebenrechnungen!R$55,1,0)","v":1},{"$f":"IF('04_Wirtschaftlichkeit'!$F$17*(1+$B107)>=Nebenrechnungen!S$55,1,0)","v":1},{"$f":"IF('04_Wirtschaftlichkeit'!$F$17*(1+$B107)>=Nebenrechnungen!T$55,1,0)","v":1},{"$f":"IF('04_Wirtschaftlichkeit'!$F$17*(1+$B107)>=Nebenrechnungen!U$55,1,0)","v":1},{"$f":"IF('04_Wirtschaftlichkeit'!$F$17*(1+$B107)>=Nebenrechnungen!V$55,1,0)","v":1},{"$f":"IF('04_Wirtschaftlichkeit'!$F$17*(1+$B107)>=Nebenrechnungen!W$55,1,0)","v":1},{"$f":"IF('04_Wirtschaftlichkeit'!$F$17*(1+$B107)>=Nebenrechnungen!X$55,1,0)","v":0},{"$f":"IF('04_Wirtschaftlichkeit'!$F$17*(1+$B107)>=Nebenrechnungen!Y$55,1,0)","v":0},{"$f":"IF('04_Wirtschaftlichkeit'!$F$17*(1+$B107)>=Nebenrechnungen!Z$55,1,0)","v":0},{"$f":"IF('04_Wirtschaftlichkeit'!$F$17*(1+$B107)>=Nebenrechnungen!AA$55,1,0)","v":0},{"$f":"IF('04_Wirtschaftlichkeit'!$F$17*(1+$B107)>=Nebenrechnungen!AB$55,1,0)","v":0},{"$f":"IF('04_Wirtschaftlichkeit'!$F$17*(1+$B107)>=Nebenrechnungen!AC$55,1,0)","v":0},{"$f":"IF('04_Wirtschaftlichkeit'!$F$17*(1+$B107)>=Nebenrechnungen!AD$55,1,0)","v":0},{"$f":"IF('04_Wirtschaftlichkeit'!$F$17*(1+$B107)>=Nebenrechnungen!AE$55,1,0)","v":0},{"$f":"IF('04_Wirtschaftlichkeit'!$F$17*(1+$B107)>=Nebenrechnungen!AF$55,1,0)","v":0},{"$f":"IF('04_Wirtschaftlichkeit'!$F$17*(1+$B107)>=Nebenrechnungen!AG$55,1,0)","v":0},{"$f":"IF('04_Wirtschaftlichkeit'!$F$17*(1+$B107)>=Nebenrechnungen!AH$55,1,0)","v":0},{"$f":"IF('04_Wirtschaftlichkeit'!$F$17*(1+$B107)>=Nebenrechnungen!AI$55,1,0)","v":0},{"$f":"IF('04_Wirtschaftlichkeit'!$F$17*(1+$B107)>=Nebenrechnungen!AJ$55,1,0)","v":0},{"$f":"IF('04_Wirtschaftlichkeit'!$F$17*(1+$B107)>=Nebenrechnungen!AK$55,1,0)","v":0},{"$f":"IF('04_Wirtschaftlichkeit'!$F$17*(1+$B107)>=Nebenrechnungen!AL$55,1,0)","v":0},{"$f":"IF('04_Wirtschaftlichkeit'!$F$17*(1+$B107)>=Nebenrechnungen!AM$55,1,0)","v":0},{"$f":"IF('04_Wirtschaftlichkeit'!$F$17*(1+$B107)>=Nebenrechnungen!AN$55,1,0)","v":0},{"$f":"IF('04_Wirtschaftlichkeit'!$F$17*(1+$B107)>=Nebenrechnungen!AO$55,1,0)","v":0},{"$f":"IF('04_Wirtschaftlichkeit'!$F$17*(1+$B107)>=Nebenrechnungen!AP$55,1,0)","v":0},{"$f":"IF('04_Wirtschaftlichkeit'!$F$17*(1+$B107)>=Nebenrechnungen!AQ$55,1,0)","v":0},{"$f":"IF('04_Wirtschaftlichkeit'!$F$17*(1+$B107)>=Nebenrechnungen!AR$55,1,0)","v":0},{"$f":"IF('04_Wirtschaftlichkeit'!$F$17*(1+$B107)>=Nebenrechnungen!AS$55,1,0)","v":0},{"$f":"IF('04_Wirtschaftlichkeit'!$F$17*(1+$B107)>=Nebenrechnungen!AT$55,1,0)","v":0},{"$f":"IF('04_Wirtschaftlichkeit'!$F$17*(1+$B107)>=Nebenrechnungen!AU$55,1,0)","v":0},{"$f":"IF('04_Wirtschaftlichkeit'!$F$17*(1+$B107)>=Nebenrechnungen!AV$55,1,0)","v":0},{"$f":"IF('04_Wirtschaftlichkeit'!$F$17*(1+$B107)>=Nebenrechnungen!AW$55,1,0)","v":0},{"$f":"IF('04_Wirtschaftlichkeit'!$F$17*(1+$B107)>=Nebenrechnungen!AX$55,1,0)","v":0},{"$f":"IF('04_Wirtschaftlichkeit'!$F$17*(1+$B107)>=Nebenrechnungen!AY$55,1,0)","v":0},{"$f":"IF('04_Wirtschaftlichkeit'!$F$17*(1+$B107)>=Nebenrechnungen!AZ$55,1,0)","v":0},{"$f":"IF('04_Wirtschaftlichkeit'!$F$17*(1+$B107)>=Nebenrechnungen!BA$55,1,0)","v":0}]
[null,0,{"$f":"-HLOOKUP($B$54,'04_Wirtschaftlichkeit'!$E$44:$L$57,6,FALSE)","v":-1057830.7168757692},{"$f":"D106*(-HLOOKUP($B$54,'04_Wirtschaftlichkeit'!$E$44:$L$57,7,FALSE)-HLOOKUP($B$54,'04_Wirtschaftlichkeit'!$E$44:$L$57,5,FALSE))","v":-84207.9},{"$f":"E106*(-HLOOKUP($B$54,'04_Wirtschaftlichkeit'!$E$44:$L$57,7,FALSE)-HLOOKUP($B$54,'04_Wirtschaftlichkeit'!$E$44:$L$57,5,FALSE))","v":-84207.9},{"$f":"F106*(-HLOOKUP($B$54,'04_Wirtschaftlichkeit'!$E$44:$L$57,7,FALSE)-HLOOKUP($B$54,'04_Wirtschaftlichkeit'!$E$44:$L$57,5,FALSE))","v":-84207.9},{"$f":"G106*(-HLOOKUP($B$54,'04_Wirtschaftlichkeit'!$E$44:$L$57,7,FALSE)-HLOOKUP($B$54,'04_Wirtschaftlichkeit'!$E$44:$L$57,5,FALSE))","v":-84207.9},{"$f":"H106*(-HLOOKUP($B$54,'04_Wirtschaftlichkeit'!$E$44:$L$57,7,FALSE)-HLOOKUP($B$54,'04_Wirtschaftlichkeit'!$E$44:$L$57,5,FALSE))","v":-84207.9},{"$f":"I106*(-HLOOKUP($B$54,'04_Wirtschaftlichkeit'!$E$44:$L$57,7,FALSE)-HLOOKUP($B$54,'04_Wirtschaftlichkeit'!$E$44:$L$57,5,FALSE))","v":-84207.9},{"$f":"J106*(-HLOOKUP($B$54,'04_Wirtschaftlichkeit'!$E$44:$L$57,7,FALSE)-HLOOKUP($B$54,'04_Wirtschaftlichkeit'!$E$44:$L$57,5,FALSE))","v":-84207.9},{"$f":"K106*(-HLOOKUP($B$54,'04_Wirtschaftlichkeit'!$E$44:$L$57,7,FALSE)-HLOOKUP($B$54,'04_Wirtschaftlichkeit'!$E$44:$L$57,5,FALSE))","v":-84207.9},{"$f":"L106*(-HLOOKUP($B$54,'04_Wirtschaftlichkeit'!$E$44:$L$57,7,FALSE)-HLOOKUP($B$54,'04_Wirtschaftlichkeit'!$E$44:$L$57,5,FALSE))","v":-84207.9},{"$f":"M106*(-HLOOKUP($B$54,'04_Wirtschaftlichkeit'!$E$44:$L$57,7,FALSE)-HLOOKUP($B$54,'04_Wirtschaftlichkeit'!$E$44:$L$57,5,FALSE))","v":-84207.9},{"$f":"N106*(-HLOOKUP($B$54,'04_Wirtschaftlichkeit'!$E$44:$L$57,7,FALSE)-HLOOKUP($B$54,'04_Wirtschaftlichkeit'!$E$44:$L$57,5,FALSE))","v":-84207.9},{"$f":"O106*(-HLOOKUP($B$54,'04_Wirtschaftlichkeit'!$E$44:$L$57,7,FALSE)-HLOOKUP($B$54,'04_Wirtschaftlichkeit'!$E$44:$L$57,5,FALSE))","v":-84207.9},{"$f":"P106*(-HLOOKUP($B$54,'04_Wirtschaftlichkeit'!$E$44:$L$57,7,FALSE)-HLOOKUP($B$54,'04_Wirtschaftlichkeit'!$E$44:$L$57,5,FALSE))","v":-84207.9},{"$f":"Q106*(-HLOOKUP($B$54,'04_Wirtschaftlichkeit'!$E$44:$L$57,7,FALSE)-HLOOKUP($B$54,'04_Wirtschaftlichkeit'!$E$44:$L$57,5,FALSE))","v":-84207.9},{"$f":"R106*(-HLOOKUP($B$54,'04_Wirtschaftlichkeit'!$E$44:$L$57,7,FALSE)-HLOOKUP($B$54,'04_Wirtschaftlichkeit'!$E$44:$L$57,5,FALSE))","v":-84207.9},{"$f":"S106*(-HLOOKUP($B$54,'04_Wirtschaftlichkeit'!$E$44:$L$57,7,FALSE)-HLOOKUP($B$54,'04_Wirtschaftlichkeit'!$E$44:$L$57,5,FALSE))","v":-84207.9},{"$f":"T106*(-HLOOKUP($B$54,'04_Wirtschaftlichkeit'!$E$44:$L$57,7,FALSE)-HLOOKUP($B$54,'04_Wirtschaftlichkeit'!$E$44:$L$57,5,FALSE))","v":-84207.9},{"$f":"U106*(-HLOOKUP($B$54,'04_Wirtschaftlichkeit'!$E$44:$L$57,7,FALSE)-HLOOKUP($B$54,'04_Wirtschaftlichkeit'!$E$44:$L$57,5,FALSE))","v":-84207.9},{"$f":"V106*(-HLOOKUP($B$54,'04_Wirtschaftlichkeit'!$E$44:$L$57,7,FALSE)-HLOOKUP($B$54,'04_Wirtschaftlichkeit'!$E$44:$L$57,5,FALSE))","v":-84207.9},{"$f":"W106*(-HLOOKUP($B$54,'04_Wirtschaftlichkeit'!$E$44:$L$57,7,FALSE)-HLOOKUP($B$54,'04_Wirtschaftlichkeit'!$E$44:$L$57,5,FALSE))","v":-84207.9},{"$f":"X106*(-HLOOKUP($B$54,'04_Wirtschaftlichkeit'!$E$44:$L$57,7,FALSE)-HLOOKUP($B$54,'04_Wirtschaftlichkeit'!$E$44:$L$57,5,FALSE))","v":0},{"$f":"Y106*(-HLOOKUP($B$54,'04_Wirtschaftlichkeit'!$E$44:$L$57,7,FALSE)-HLOOKUP($B$54,'04_Wirtschaftlichkeit'!$E$44:$L$57,5,FALSE))","v":0},{"$f":"Z106*(-HLOOKUP($B$54,'04_Wirtschaftlichkeit'!$E$44:$L$57,7,FALSE)-HLOOKUP($B$54,'04_Wirtschaftlichkeit'!$E$44:$L$57,5,FALSE))","v":0},{"$f":"AA106*(-HLOOKUP($B$54,'04_Wirtschaftlichkeit'!$E$44:$L$57,7,FALSE)-HLOOKUP($B$54,'04_Wirtschaftlichkeit'!$E$44:$L$57,5,FALSE))","v":0},{"$f":"AB106*(-HLOOKUP($B$54,'04_Wirtschaftlichkeit'!$E$44:$L$57,7,FALSE)-HLOOKUP($B$54,'04_Wirtschaftlichkeit'!$E$44:$L$57,5,FALSE))","v":0},{"$f":"AC106*(-HLOOKUP($B$54,'04_Wirtschaftlichkeit'!$E$44:$L$57,7,FALSE)-HLOOKUP($B$54,'04_Wirtschaftlichkeit'!$E$44:$L$57,5,FALSE))","v":0},{"$f":"AD106*(-HLOOKUP($B$54,'04_Wirtschaftlichkeit'!$E$44:$L$57,7,FALSE)-HLOOKUP($B$54,'04_Wirtschaftlichkeit'!$E$44:$L$57,5,FALSE))","v":0},{"$f":"AE106*(-HLOOKUP($B$54,'04_Wirtschaftlichkeit'!$E$44:$L$57,7,FALSE)-HLOOKUP($B$54,'04_Wirtschaftlichkeit'!$E$44:$L$57,5,FALSE))","v":0},{"$f":"AF106*(-HLOOKUP($B$54,'04_Wirtschaftlichkeit'!$E$44:$L$57,7,FALSE)-HLOOKUP($B$54,'04_Wirtschaftlichkeit'!$E$44:$L$57,5,FALSE))","v":0},{"$f":"AG106*(-HLOOKUP($B$54,'04_Wirtschaftlichkeit'!$E$44:$L$57,7,FALSE)-HLOOKUP($B$54,'04_Wirtschaftlichkeit'!$E$44:$L$57,5,FALSE))","v":0},{"$f":"AH106*(-HLOOKUP($B$54,'04_Wirtschaftlichkeit'!$E$44:$L$57,7,FALSE)-HLOOKUP($B$54,'04_Wirtschaftlichkeit'!$E$44:$L$57,5,FALSE))","v":0},{"$f":"AI106*(-HLOOKUP($B$54,'04_Wirtschaftlichkeit'!$E$44:$L$57,7,FALSE)-HLOOKUP($B$54,'04_Wirtschaftlichkeit'!$E$44:$L$57,5,FALSE))","v":0},{"$f":"AJ106*(-HLOOKUP($B$54,'04_Wirtschaftlichkeit'!$E$44:$L$57,7,FALSE)-HLOOKUP($B$54,'04_Wirtschaftlichkeit'!$E$44:$L$57,5,FALSE))","v":0},{"$f":"AK106*(-HLOOKUP($B$54,'04_Wirtschaftlichkeit'!$E$44:$L$57,7,FALSE)-HLOOKUP($B$54,'04_Wirtschaftlichkeit'!$E$44:$L$57,5,FALSE))","v":0},{"$f":"AL106*(-HLOOKUP($B$54,'04_Wirtschaftlichkeit'!$E$44:$L$57,7,FALSE)-HLOOKUP($B$54,'04_Wirtschaftlichkeit'!$E$44:$L$57,5,FALSE))","v":0},{"$f":"AM106*(-HLOOKUP($B$54,'04_Wirtschaftlichkeit'!$E$44:$L$57,7,FALSE)-HLOOKUP($B$54,'04_Wirtschaftlichkeit'!$E$44:$L$57,5,FALSE))","v":0},{"$f":"AN106*(-HLOOKUP($B$54,'04_Wirtschaftlichkeit'!$E$44:$L$57,7,FALSE)-HLOOKUP($B$54,'04_Wirtschaftlichkeit'!$E$44:$L$57,5,FALSE))","v":0},{"$f":"AO106*(-HLOOKUP($B$54,'04_Wirtschaftlichkeit'!$E$44:$L$57,7,FALSE)-HLOOKUP($B$54,'04_Wirtschaftlichkeit'!$E$44:$L$57,5,FALSE))","v":0},{"$f":"AP106*(-HLOOKUP($B$54,'04_Wirtschaftlichkeit'!$E$44:$L$57,7,FALSE)-HLOOKUP($B$54,'04_Wirtschaftlichkeit'!$E$44:$L$57,5,FALSE))","v":0},{"$f":"AQ106*(-HLOOKUP($B$54,'04_Wirtschaftlichkeit'!$E$44:$L$57,7,FALSE)-HLOOKUP($B$54,'04_Wirtschaftlichkeit'!$E$44:$L$57,5,FALSE))","v":0},{"$f":"AR106*(-HLOOKUP($B$54,'04_Wirtschaftlichkeit'!$E$44:$L$57,7,FALSE)-HLOOKUP($B$54,'04_Wirtschaftlichkeit'!$E$44:$L$57,5,FALSE))","v":0},{"$f":"AS106*(-HLOOKUP($B$54,'04_Wirtschaftlichkeit'!$E$44:$L$57,7,FALSE)-HLOOKUP($B$54,'04_Wirtschaftlichkeit'!$E$44:$L$57,5,FALSE))","v":0},{"$f":"AT106*(-HLOOKUP($B$54,'04_Wirtschaftlichkeit'!$E$44:$L$57,7,FALSE)-HLOOKUP($B$54,'04_Wirtschaftlichkeit'!$E$44:$L$57,5,FALSE))","v":0},{"$f":"AU106*(-HLOOKUP($B$54,'04_Wirtschaftlichkeit'!$E$44:$L$57,7,FALSE)-HLOOKUP($B$54,'04_Wirtschaftlichkeit'!$E$44:$L$57,5,FALSE))","v":0},{"$f":"AV106*(-HLOOKUP($B$54,'04_Wirtschaftlichkeit'!$E$44:$L$57,7,FALSE)-HLOOKUP($B$54,'04_Wirtschaftlichkeit'!$E$44:$L$57,5,FALSE))","v":0},{"$f":"AW106*(-HLOOKUP($B$54,'04_Wirtschaftlichkeit'!$E$44:$L$57,7,FALSE)-HLOOKUP($B$54,'04_Wirtschaftlichkeit'!$E$44:$L$57,5,FALSE))","v":0},{"$f":"AX106*(-HLOOKUP($B$54,'04_Wirtschaftlichkeit'!$E$44:$L$57,7,FALSE)-HLOOKUP($B$54,'04_Wirtschaftlichkeit'!$E$44:$L$57,5,FALSE))","v":0},{"$f":"AY106*(-HLOOKUP($B$54,'04_Wirtschaftlichkeit'!$E$44:$L$57,7,FALSE)-HLOOKUP($B$54,'04_Wirtschaftlichkeit'!$E$44:$L$57,5,FALSE))","v":0},{"$f":"AZ106*(-HLOOKUP($B$54,'04_Wirtschaftlichkeit'!$E$44:$L$57,7,FALSE)-HLOOKUP($B$54,'04_Wirtschaftlichkeit'!$E$44:$L$57,5,FALSE))","v":0},{"$f":"BA106*(-HLOOKUP($B$54,'04_Wirtschaftlichkeit'!$E$44:$L$57,7,FALSE)-HLOOKUP($B$54,'04_Wirtschaftlichkeit'!$E$44:$L$57,5,FALSE))","v":0}]
[null,"Betr.-Dauer",{"$f":"IF('04_Wirtschaftlichkeit'!$F$17*(1+$B109)>=Nebenrechnungen!C$55,1,0)","v":1},{"$f":"IF('04_Wirtschaftlichkeit'!$F$17*(1+$B109)>=Nebenrechnungen!D$55,1,0)","v":1},{"$f":"IF('04_Wirtschaftlichkeit'!$F$17*(1+$B109)>=Nebenrechnungen!E$55,1,0)","v":1},{"$f":"IF('04_Wirtschaftlichkeit'!$F$17*(1+$B109)>=Nebenrechnungen!F$55,1,0)","v":1},{"$f":"IF('04_Wirtschaftlichkeit'!$F$17*(1+$B109)>=Nebenrechnungen!G$55,1,0)","v":1},{"$f":"IF('04_Wirtschaftlichkeit'!$F$17*(1+$B109)>=Nebenrechnungen!H$55,1,0)","v":1},{"$f":"IF('04_Wirtschaftlichkeit'!$F$17*(1+$B109)>=Nebenrechnungen!I$55,1,0)","v":1},{"$f":"IF('04_Wirtschaftlichkeit'!$F$17*(1+$B109)>=Nebenrechnungen!J$55,1,0)","v":1},{"$f":"IF('04_Wirtschaftlichkeit'!$F$17*(1+$B109)>=Nebenrechnungen!K$55,1,0)","v":1},{"$f":"IF('04_Wirtschaftlichkeit'!$F$17*(1+$B109)>=Nebenrechnungen!L$55,1,0)","v":1},{"$f":"IF('04_Wirtschaftlichkeit'!$F$17*(1+$B109)>=Nebenrechnungen!M$55,1,0)","v":1},{"$f":"IF('04_Wirtschaftlichkeit'!$F$17*(1+$B109)>=Nebenrechnungen!N$55,1,0)","v":1},{"$f":"IF('04_Wirtschaftlichkeit'!$F$17*(1+$B109)>=Nebenrechnungen!O$55,1,0)","v":1},{"$f":"IF('04_Wirtschaftlichkeit'!$F$17*(1+$B109)>=Nebenrechnungen!P$55,1,0)","v":1},{"$f":"IF('04_Wirtschaftlichkeit'!$F$17*(1+$B109)>=Nebenrechnungen!Q$55,1,0)","v":1},{"$f":"IF('04_Wirtschaftlichkeit'!$F$17*(1+$B109)>=Nebenrechnungen!R$55,1,0)","v":1},{"$f":"IF('04_Wirtschaftlichkeit'!$F$17*(1+$B109)>=Nebenrechnungen!S$55,1,0)","v":1},{"$f":"IF('04_Wirtschaftlichkeit'!$F$17*(1+$B109)>=Nebenrechnungen!T$55,1,0)","v":1},{"$f":"IF('04_Wirtschaftlichkeit'!$F$17*(1+$B109)>=Nebenrechnungen!U$55,1,0)","v":1},{"$f":"IF('04_Wirtschaftlichkeit'!$F$17*(1+$B109)>=Nebenrechnungen!V$55,1,0)","v":1},{"$f":"IF('04_Wirtschaftlichkeit'!$F$17*(1+$B109)>=Nebenrechnungen!W$55,1,0)","v":1},{"$f":"IF('04_Wirtschaftlichkeit'!$F$17*(1+$B109)>=Nebenrechnungen!X$55,1,0)","v":1},{"$f":"IF('04_Wirtschaftlichkeit'!$F$17*(1+$B109)>=Nebenrechnungen!Y$55,1,0)","v":1},{"$f":"IF('04_Wirtschaftlichkeit'!$F$17*(1+$B109)>=Nebenrechnungen!Z$55,1,0)","v":0},{"$f":"IF('04_Wirtschaftlichkeit'!$F$17*(1+$B109)>=Nebenrechnungen!AA$55,1,0)","v":0},{"$f":"IF('04_Wirtschaftlichkeit'!$F$17*(1+$B109)>=Nebenrechnungen!AB$55,1,0)","v":0},{"$f":"IF('04_Wirtschaftlichkeit'!$F$17*(1+$B109)>=Nebenrechnungen!AC$55,1,0)","v":0},{"$f":"IF('04_Wirtschaftlichkeit'!$F$17*(1+$B109)>=Nebenrechnungen!AD$55,1,0)","v":0},{"$f":"IF('04_Wirtschaftlichkeit'!$F$17*(1+$B109)>=Nebenrechnungen!AE$55,1,0)","v":0},{"$f":"IF('04_Wirtschaftlichkeit'!$F$17*(1+$B109)>=Nebenrechnungen!AF$55,1,0)","v":0},{"$f":"IF('04_Wirtschaftlichkeit'!$F$17*(1+$B109)>=Nebenrechnungen!AG$55,1,0)","v":0},{"$f":"IF('04_Wirtschaftlichkeit'!$F$17*(1+$B109)>=Nebenrechnungen!AH$55,1,0)","v":0},{"$f":"IF('04_Wirtschaftlichkeit'!$F$17*(1+$B109)>=Nebenrechnungen!AI$55,1,0)","v":0},{"$f":"IF('04_Wirtschaftlichkeit'!$F$17*(1+$B109)>=Nebenrechnungen!AJ$55,1,0)","v":0},{"$f":"IF('04_Wirtschaftlichkeit'!$F$17*(1+$B109)>=Nebenrechnungen!AK$55,1,0)","v":0},{"$f":"IF('04_Wirtschaftlichkeit'!$F$17*(1+$B109)>=Nebenrechnungen!AL$55,1,0)","v":0},{"$f":"IF('04_Wirtschaftlichkeit'!$F$17*(1+$B109)>=Nebenrechnungen!AM$55,1,0)","v":0},{"$f":"IF('04_Wirtschaftlichkeit'!$F$17*(1+$B109)>=Nebenrechnungen!AN$55,1,0)","v":0},{"$f":"IF('04_Wirtschaftlichkeit'!$F$17*(1+$B109)>=Nebenrechnungen!AO$55,1,0)","v":0},{"$f":"IF('04_Wirtschaftlichkeit'!$F$17*(1+$B109)>=Nebenrechnungen!AP$55,1,0)","v":0},{"$f":"IF('04_Wirtschaftlichkeit'!$F$17*(1+$B109)>=Nebenrechnungen!AQ$55,1,0)","v":0},{"$f":"IF('04_Wirtschaftlichkeit'!$F$17*(1+$B109)>=Nebenrechnungen!AR$55,1,0)","v":0},{"$f":"IF('04_Wirtschaftlichkeit'!$F$17*(1+$B109)>=Nebenrechnungen!AS$55,1,0)","v":0},{"$f":"IF('04_Wirtschaftlichkeit'!$F$17*(1+$B109)>=Nebenrechnungen!AT$55,1,0)","v":0},{"$f":"IF('04_Wirtschaftlichkeit'!$F$17*(1+$B109)>=Nebenrechnungen!AU$55,1,0)","v":0},{"$f":"IF('04_Wirtschaftlichkeit'!$F$17*(1+$B109)>=Nebenrechnungen!AV$55,1,0)","v":0},{"$f":"IF('04_Wirtschaftlichkeit'!$F$17*(1+$B109)>=Nebenrechnungen!AW$55,1,0)","v":0},{"$f":"IF('04_Wirtschaftlichkeit'!$F$17*(1+$B109)>=Nebenrechnungen!AX$55,1,0)","v":0},{"$f":"IF('04_Wirtschaftlichkeit'!$F$17*(1+$B109)>=Nebenrechnungen!AY$55,1,0)","v":0},{"$f":"IF('04_Wirtschaftlichkeit'!$F$17*(1+$B109)>=Nebenrechnungen!AZ$55,1,0)","v":0},{"$f":"IF('04_Wirtschaftlichkeit'!$F$17*(1+$B109)>=Nebenrechnungen!BA$55,1,0)","v":0}]
[null,0.1,{"$f":"-HLOOKUP($B$54,'04_Wirtschaftlichkeit'!$E$44:$L$57,6,FALSE)","v":-1057830.7168757692},{"$f":"D108*(-HLOOKUP($B$54,'04_Wirtschaftlichkeit'!$E$44:$L$57,7,FALSE)-HLOOKUP($B$54,'04_Wirtschaftlichkeit'!$E$44:$L$57,5,FALSE))","v":-84207.9},{"$f":"E108*(-HLOOKUP($B$54,'04_Wirtschaftlichkeit'!$E$44:$L$57,7,FALSE)-HLOOKUP($B$54,'04_Wirtschaftlichkeit'!$E$44:$L$57,5,FALSE))","v":-84207.9},{"$f":"F108*(-HLOOKUP($B$54,'04_Wirtschaftlichkeit'!$E$44:$L$57,7,FALSE)-HLOOKUP($B$54,'04_Wirtschaftlichkeit'!$E$44:$L$57,5,FALSE))","v":-84207.9},{"$f":"G108*(-HLOOKUP($B$54,'04_Wirtschaftlichkeit'!$E$44:$L$57,7,FALSE)-HLOOKUP($B$54,'04_Wirtschaftlichkeit'!$E$44:$L$57,5,FALSE))","v":-84207.9},{"$f":"H108*(-HLOOKUP($B$54,'04_Wirtschaftlichkeit'!$E$44:$L$57,7,FALSE)-HLOOKUP($B$54,'04_Wirtschaftlichkeit'!$E$44:$L$57,5,FALSE))","v":-84207.9},{"$f":"I108*(-HLOOKUP($B$54,'04_Wirtschaftlichkeit'!$E$44:$L$57,7,FALSE)-HLOOKUP($B$54,'04_Wirtschaftlichkeit'!$E$44:$L$57,5,FALSE))","v":-84207.9},{"$f":"J108*(-HLOOKUP($B$54,'04_Wirtschaftlichkeit'!$E$44:$L$57,7,FALSE)-HLOOKUP($B$54,'04_Wirtschaftlichkeit'!$E$44:$L$57,5,FALSE))","v":-84207.9},{"$f":"K108*(-HLOOKUP($B$54,'04_Wirtschaftlichkeit'!$E$44:$L$57,7,FALSE)-HLOOKUP($B$54,'04_Wirtschaftlichkeit'!$E$44:$L$57,5,FALSE))","v":-84207.9},{"$f":"L108*(-HLOOKUP($B$54,'04_Wirtschaftlichkeit'!$E$44:$L$57,7,FALSE)-HLOOKUP($B$54,'04_Wirtschaftlichkeit'!$E$44:$L$57,5,FALSE))","v":-84207.9},{"$f":"M108*(-HLOOKUP($B$54,'04_Wirtschaftlichkeit'!$E$44:$L$57,7,FALSE)-HLOOKUP($B$54,'04_Wirtschaftlichkeit'!$E$44:$L$57,5,FALSE))","v":-84207.9},{"$f":"N108*(-HLOOKUP($B$54,'04_Wirtschaftlichkeit'!$E$44:$L$57,7,FALSE)-HLOOKUP($B$54,'04_Wirtschaftlichkeit'!$E$44:$L$57,5,FALSE))","v":-84207.9},{"$f":"O108*(-HLOOKUP($B$54,'04_Wirtschaftlichkeit'!$E$44:$L$57,7,FALSE)-HLOOKUP($B$54,'04_Wirtschaftlichkeit'!$E$44:$L$57,5,FALSE))","v":-84207.9},{"$f":"P108*(-HLOOKUP($B$54,'04_Wirtschaftlichkeit'!$E$44:$L$57,7,FALSE)-HLOOKUP($B$54,'04_Wirtschaftlichkeit'!$E$44:$L$57,5,FALSE))","v":-84207.9},{"$f":"Q108*(-HLOOKUP($B$54,'04_Wirtschaftlichkeit'!$E$44:$L$57,7,FALSE)-HLOOKUP($B$54,'04_Wirtschaftlichkeit'!$E$44:$L$57,5,FALSE))","v":-84207.9},{"$f":"R108*(-HLOOKUP($B$54,'04_Wirtschaftlichkeit'!$E$44:$L$57,7,FALSE)-HLOOKUP($B$54,'04_Wirtschaftlichkeit'!$E$44:$L$57,5,FALSE))","v":-84207.9},{"$f":"S108*(-HLOOKUP($B$54,'04_Wirtschaftlichkeit'!$E$44:$L$57,7,FALSE)-HLOOKUP($B$54,'04_Wirtschaftlichkeit'!$E$44:$L$57,5,FALSE))","v":-84207.9},{"$f":"T108*(-HLOOKUP($B$54,'04_Wirtschaftlichkeit'!$E$44:$L$57,7,FALSE)-HLOOKUP($B$54,'04_Wirtschaftlichkeit'!$E$44:$L$57,5,FALSE))","v":-84207.9},{"$f":"U108*(-HLOOKUP($B$54,'04_Wirtschaftlichkeit'!$E$44:$L$57,7,FALSE)-HLOOKUP($B$54,'04_Wirtschaftlichkeit'!$E$44:$L$57,5,FALSE))","v":-84207.9},{"$f":"V108*(-HLOOKUP($B$54,'04_Wirtschaftlichkeit'!$E$44:$L$57,7,FALSE)-HLOOKUP($B$54,'04_Wirtschaftlichkeit'!$E$44:$L$57,5,FALSE))","v":-84207.9},{"$f":"W108*(-HLOOKUP($B$54,'04_Wirtschaftlichkeit'!$E$44:$L$57,7,FALSE)-HLOOKUP($B$54,'04_Wirtschaftlichkeit'!$E$44:$L$57,5,FALSE))","v":-84207.9},{"$f":"X108*(-HLOOKUP($B$54,'04_Wirtschaftlichkeit'!$E$44:$L$57,7,FALSE)-HLOOKUP($B$54,'04_Wirtschaftlichkeit'!$E$44:$L$57,5,FALSE))","v":-84207.9},{"$f":"Y108*(-HLOOKUP($B$54,'04_Wirtschaftlichkeit'!$E$44:$L$57,7,FALSE)-HLOOKUP($B$54,'04_Wirtschaftlichkeit'!$E$44:$L$57,5,FALSE))","v":-84207.9},{"$f":"Z108*(-HLOOKUP($B$54,'04_Wirtschaftlichkeit'!$E$44:$L$57,7,FALSE)-HLOOKUP($B$54,'04_Wirtschaftlichkeit'!$E$44:$L$57,5,FALSE))","v":0},{"$f":"AA108*(-HLOOKUP($B$54,'04_Wirtschaftlichkeit'!$E$44:$L$57,7,FALSE)-HLOOKUP($B$54,'04_Wirtschaftlichkeit'!$E$44:$L$57,5,FALSE))","v":0},{"$f":"AB108*(-HLOOKUP($B$54,'04_Wirtschaftlichkeit'!$E$44:$L$57,7,FALSE)-HLOOKUP($B$54,'04_Wirtschaftlichkeit'!$E$44:$L$57,5,FALSE))","v":0},{"$f":"AC108*(-HLOOKUP($B$54,'04_Wirtschaftlichkeit'!$E$44:$L$57,7,FALSE)-HLOOKUP($B$54,'04_Wirtschaftlichkeit'!$E$44:$L$57,5,FALSE))","v":0},{"$f":"AD108*(-HLOOKUP($B$54,'04_Wirtschaftlichkeit'!$E$44:$L$57,7,FALSE)-HLOOKUP($B$54,'04_Wirtschaftlichkeit'!$E$44:$L$57,5,FALSE))","v":0},{"$f":"AE108*(-HLOOKUP($B$54,'04_Wirtschaftlichkeit'!$E$44:$L$57,7,FALSE)-HLOOKUP($B$54,'04_Wirtschaftlichkeit'!$E$44:$L$57,5,FALSE))","v":0},{"$f":"AF108*(-HLOOKUP($B$54,'04_Wirtschaftlichkeit'!$E$44:$L$57,7,FALSE)-HLOOKUP($B$54,'04_Wirtschaftlichkeit'!$E$44:$L$57,5,FALSE))","v":0},{"$f":"AG108*(-HLOOKUP($B$54,'04_Wirtschaftlichkeit'!$E$44:$L$57,7,FALSE)-HLOOKUP($B$54,'04_Wirtschaftlichkeit'!$E$44:$L$57,5,FALSE))","v":0},{"$f":"AH108*(-HLOOKUP($B$54,'04_Wirtschaftlichkeit'!$E$44:$L$57,7,FALSE)-HLOOKUP($B$54,'04_Wirtschaftlichkeit'!$E$44:$L$57,5,FALSE))","v":0},{"$f":"AI108*(-HLOOKUP($B$54,'04_Wirtschaftlichkeit'!$E$44:$L$57,7,FALSE)-HLOOKUP($B$54,'04_Wirtschaftlichkeit'!$E$44:$L$57,5,FALSE))","v":0},{"$f":"AJ108*(-HLOOKUP($B$54,'04_Wirtschaftlichkeit'!$E$44:$L$57,7,FALSE)-HLOOKUP($B$54,'04_Wirtschaftlichkeit'!$E$44:$L$57,5,FALSE))","v":0},{"$f":"AK108*(-HLOOKUP($B$54,'04_Wirtschaftlichkeit'!$E$44:$L$57,7,FALSE)-HLOOKUP($B$54,'04_Wirtschaftlichkeit'!$E$44:$L$57,5,FALSE))","v":0},{"$f":"AL108*(-HLOOKUP($B$54,'04_Wirtschaftlichkeit'!$E$44:$L$57,7,FALSE)-HLOOKUP($B$54,'04_Wirtschaftlichkeit'!$E$44:$L$57,5,FALSE))","v":0},{"$f":"AM108*(-HLOOKUP($B$54,'04_Wirtschaftlichkeit'!$E$44:$L$57,7,FALSE)-HLOOKUP($B$54,'04_Wirtschaftlichkeit'!$E$44:$L$57,5,FALSE))","v":0},{"$f":"AN108*(-HLOOKUP($B$54,'04_Wirtschaftlichkeit'!$E$44:$L$57,7,FALSE)-HLOOKUP($B$54,'04_Wirtschaftlichkeit'!$E$44:$L$57,5,FALSE))","v":0},{"$f":"AO108*(-HLOOKUP($B$54,'04_Wirtschaftlichkeit'!$E$44:$L$57,7,FALSE)-HLOOKUP($B$54,'04_Wirtschaftlichkeit'!$E$44:$L$57,5,FALSE))","v":0},{"$f":"AP108*(-HLOOKUP($B$54,'04_Wirtschaftlichkeit'!$E$44:$L$57,7,FALSE)-HLOOKUP($B$54,'04_Wirtschaftlichkeit'!$E$44:$L$57,5,FALSE))","v":0},{"$f":"AQ108*(-HLOOKUP($B$54,'04_Wirtschaftlichkeit'!$E$44:$L$57,7,FALSE)-HLOOKUP($B$54,'04_Wirtschaftlichkeit'!$E$44:$L$57,5,FALSE))","v":0},{"$f":"AR108*(-HLOOKUP($B$54,'04_Wirtschaftlichkeit'!$E$44:$L$57,7,FALSE)-HLOOKUP($B$54,'04_Wirtschaftlichkeit'!$E$44:$L$57,5,FALSE))","v":0},{"$f":"AS108*(-HLOOKUP($B$54,'04_Wirtschaftlichkeit'!$E$44:$L$57,7,FALSE)-HLOOKUP($B$54,'04_Wirtschaftlichkeit'!$E$44:$L$57,5,FALSE))","v":0},{"$f":"AT108*(-HLOOKUP($B$54,'04_Wirtschaftlichkeit'!$E$44:$L$57,7,FALSE)-HLOOKUP($B$54,'04_Wirtschaftlichkeit'!$E$44:$L$57,5,FALSE))","v":0},{"$f":"AU108*(-HLOOKUP($B$54,'04_Wirtschaftlichkeit'!$E$44:$L$57,7,FALSE)-HLOOKUP($B$54,'04_Wirtschaftlichkeit'!$E$44:$L$57,5,FALSE))","v":0},{"$f":"AV108*(-HLOOKUP($B$54,'04_Wirtschaftlichkeit'!$E$44:$L$57,7,FALSE)-HLOOKUP($B$54,'04_Wirtschaftlichkeit'!$E$44:$L$57,5,FALSE))","v":0},{"$f":"AW108*(-HLOOKUP($B$54,'04_Wirtschaftlichkeit'!$E$44:$L$57,7,FALSE)-HLOOKUP($B$54,'04_Wirtschaftlichkeit'!$E$44:$L$57,5,FALSE))","v":0},{"$f":"AX108*(-HLOOKUP($B$54,'04_Wirtschaftlichkeit'!$E$44:$L$57,7,FALSE)-HLOOKUP($B$54,'04_Wirtschaftlichkeit'!$E$44:$L$57,5,FALSE))","v":0},{"$f":"AY108*(-HLOOKUP($B$54,'04_Wirtschaftlichkeit'!$E$44:$L$57,7,FALSE)-HLOOKUP($B$54,'04_Wirtschaftlichkeit'!$E$44:$L$57,5,FALSE))","v":0},{"$f":"AZ108*(-HLOOKUP($B$54,'04_Wirtschaftlichkeit'!$E$44:$L$57,7,FALSE)-HLOOKUP($B$54,'04_Wirtschaftlichkeit'!$E$44:$L$57,5,FALSE))","v":0},{"$f":"BA108*(-HLOOKUP($B$54,'04_Wirtschaftlichkeit'!$E$44:$L$57,7,FALSE)-HLOOKUP($B$54,'04_Wirtschaftlichkeit'!$E$44:$L$57,5,FALSE))","v":0}]
[null,"Betr.-Dauer",{"$f":"IF('04_Wirtschaftlichkeit'!$F$17*(1+$B111)>=Nebenrechnungen!C$55,1,0)","v":1},{"$f":"IF('04_Wirtschaftlichkeit'!$F$17*(1+$B111)>=Nebenrechnungen!D$55,1,0)","v":1},{"$f":"IF('04_Wirtschaftlichkeit'!$F$17*(1+$B111)>=Nebenrechnungen!E$55,1,0)","v":1},{"$f":"IF('04_Wirtschaftlichkeit'!$F$17*(1+$B111)>=Nebenrechnungen!F$55,1,0)","v":1},{"$f":"IF('04_Wirtschaftlichkeit'!$F$17*(1+$B111)>=Nebenrechnungen!G$55,1,0)","v":1},{"$f":"IF('04_Wirtschaftlichkeit'!$F$17*(1+$B111)>=Nebenrechnungen!H$55,1,0)","v":1},{"$f":"IF('04_Wirtschaftlichkeit'!$F$17*(1+$B111)>=Nebenrechnungen!I$55,1,0)","v":1},{"$f":"IF('04_Wirtschaftlichkeit'!$F$17*(1+$B111)>=Nebenrechnungen!J$55,1,0)","v":1},{"$f":"IF('04_Wirtschaftlichkeit'!$F$17*(1+$B111)>=Nebenrechnungen!K$55,1,0)","v":1},{"$f":"IF('04_Wirtschaftlichkeit'!$F$17*(1+$B111)>=Nebenrechnungen!L$55,1,0)","v":1},{"$f":"IF('04_Wirtschaftlichkeit'!$F$17*(1+$B111)>=Nebenrechnungen!M$55,1,0)","v":1},{"$f":"IF('04_Wirtschaftlichkeit'!$F$17*(1+$B111)>=Nebenrechnungen!N$55,1,0)","v":1},{"$f":"IF('04_Wirtschaftlichkeit'!$F$17*(1+$B111)>=Nebenrechnungen!O$55,1,0)","v":1},{"$f":"IF('04_Wirtschaftlichkeit'!$F$17*(1+$B111)>=Nebenrechnungen!P$55,1,0)","v":1},{"$f":"IF('04_Wirtschaftlichkeit'!$F$17*(1+$B111)>=Nebenrechnungen!Q$55,1,0)","v":1},{"$f":"IF('04_Wirtschaftlichkeit'!$F$17*(1+$B111)>=Nebenrechnungen!R$55,1,0)","v":1},{"$f":"IF('04_Wirtschaftlichkeit'!$F$17*(1+$B111)>=Nebenrechnungen!S$55,1,0)","v":1},{"$f":"IF('04_Wirtschaftlichkeit'!$F$17*(1+$B111)>=Nebenrechnungen!T$55,1,0)","v":1},{"$f":"IF('04_Wirtschaftlichkeit'!$F$17*(1+$B111)>=Nebenrechnungen!U$55,1,0)","v":1},{"$f":"IF('04_Wirtschaftlichkeit'!$F$17*(1+$B111)>=Nebenrechnungen!V$55,1,0)","v":1},{"$f":"IF('04_Wirtschaftlichkeit'!$F$17*(1+$B111)>=Nebenrechnungen!W$55,1,0)","v":1},{"$f":"IF('04_Wirtschaftlichkeit'!$F$17*(1+$B111)>=Nebenrechnungen!X$55,1,0)","v":1},{"$f":"IF('04_Wirtschaftlichkeit'!$F$17*(1+$B111)>=Nebenrechnungen!Y$55,1,0)","v":1},{"$f":"IF('04_Wirtschaftlichkeit'!$F$17*(1+$B111)>=Nebenrechnungen!Z$55,1,0)","v":1},{"$f":"IF('04_Wirtschaftlichkeit'!$F$17*(1+$B111)>=Nebenrechnungen!AA$55,1,0)","v":1},{"$f":"IF('04_Wirtschaftlichkeit'!$F$17*(1+$B111)>=Nebenrechnungen!AB$55,1,0)","v":0},{"$f":"IF('04_Wirtschaftlichkeit'!$F$17*(1+$B111)>=Nebenrechnungen!AC$55,1,0)","v":0},{"$f":"IF('04_Wirtschaftlichkeit'!$F$17*(1+$B111)>=Nebenrechnungen!AD$55,1,0)","v":0},{"$f":"IF('04_Wirtschaftlichkeit'!$F$17*(1+$B111)>=Nebenrechnungen!AE$55,1,0)","v":0},{"$f":"IF('04_Wirtschaftlichkeit'!$F$17*(1+$B111)>=Nebenrechnungen!AF$55,1,0)","v":0},{"$f":"IF('04_Wirtschaftlichkeit'!$F$17*(1+$B111)>=Nebenrechnungen!AG$55,1,0)","v":0},{"$f":"IF('04_Wirtschaftlichkeit'!$F$17*(1+$B111)>=Nebenrechnungen!AH$55,1,0)","v":0},{"$f":"IF('04_Wirtschaftlichkeit'!$F$17*(1+$B111)>=Nebenrechnungen!AI$55,1,0)","v":0},{"$f":"IF('04_Wirtschaftlichkeit'!$F$17*(1+$B111)>=Nebenrechnungen!AJ$55,1,0)","v":0},{"$f":"IF('04_Wirtschaftlichkeit'!$F$17*(1+$B111)>=Nebenrechnungen!AK$55,1,0)","v":0},{"$f":"IF('04_Wirtschaftlichkeit'!$F$17*(1+$B111)>=Nebenrechnungen!AL$55,1,0)","v":0},{"$f":"IF('04_Wirtschaftlichkeit'!$F$17*(1+$B111)>=Nebenrechnungen!AM$55,1,0)","v":0},{"$f":"IF('04_Wirtschaftlichkeit'!$F$17*(1+$B111)>=Nebenrechnungen!AN$55,1,0)","v":0},{"$f":"IF('04_Wirtschaftlichkeit'!$F$17*(1+$B111)>=Nebenrechnungen!AO$55,1,0)","v":0},{"$f":"IF('04_Wirtschaftlichkeit'!$F$17*(1+$B111)>=Nebenrechnungen!AP$55,1,0)","v":0},{"$f":"IF('04_Wirtschaftlichkeit'!$F$17*(1+$B111)>=Nebenrechnungen!AQ$55,1,0)","v":0},{"$f":"IF('04_Wirtschaftlichkeit'!$F$17*(1+$B111)>=Nebenrechnungen!AR$55,1,0)","v":0},{"$f":"IF('04_Wirtschaftlichkeit'!$F$17*(1+$B111)>=Nebenrechnungen!AS$55,1,0)","v":0},{"$f":"IF('04_Wirtschaftlichkeit'!$F$17*(1+$B111)>=Nebenrechnungen!AT$55,1,0)","v":0},{"$f":"IF('04_Wirtschaftlichkeit'!$F$17*(1+$B111)>=Nebenrechnungen!AU$55,1,0)","v":0},{"$f":"IF('04_Wirtschaftlichkeit'!$F$17*(1+$B111)>=Nebenrechnungen!AV$55,1,0)","v":0},{"$f":"IF('04_Wirtschaftlichkeit'!$F$17*(1+$B111)>=Nebenrechnungen!AW$55,1,0)","v":0},{"$f":"IF('04_Wirtschaftlichkeit'!$F$17*(1+$B111)>=Nebenrechnungen!AX$55,1,0)","v":0},{"$f":"IF('04_Wirtschaftlichkeit'!$F$17*(1+$B111)>=Nebenrechnungen!AY$55,1,0)","v":0},{"$f":"IF('04_Wirtschaftlichkeit'!$F$17*(1+$B111)>=Nebenrechnungen!AZ$55,1,0)","v":0},{"$f":"IF('04_Wirtschaftlichkeit'!$F$17*(1+$B111)>=Nebenrechnungen!BA$55,1,0)","v":0}]
[null,0.2,{"$f":"-HLOOKUP($B$54,'04_Wirtschaftlichkeit'!$E$44:$L$57,6,FALSE)","v":-1057830.7168757692},{"$f":"D110*(-HLOOKUP($B$54,'04_Wirtschaftlichkeit'!$E$44:$L$57,7,FALSE)-HLOOKUP($B$54,'04_Wirtschaftlichkeit'!$E$44:$L$57,5,FALSE))","v":-84207.9},{"$f":"E110*(-HLOOKUP($B$54,'04_Wirtschaftlichkeit'!$E$44:$L$57,7,FALSE)-HLOOKUP($B$54,'04_Wirtschaftlichkeit'!$E$44:$L$57,5,FALSE))","v":-84207.9},{"$f":"F110*(-HLOOKUP($B$54,'04_Wirtschaftlichkeit'!$E$44:$L$57,7,FALSE)-HLOOKUP($B$54,'04_Wirtschaftlichkeit'!$E$44:$L$57,5,FALSE))","v":-84207.9},{"$f":"G110*(-HLOOKUP($B$54,'04_Wirtschaftlichkeit'!$E$44:$L$57,7,FALSE)-HLOOKUP($B$54,'04_Wirtschaftlichkeit'!$E$44:$L$57,5,FALSE))","v":-84207.9},{"$f":"H110*(-HLOOKUP($B$54,'04_Wirtschaftlichkeit'!$E$44:$L$57,7,FALSE)-HLOOKUP($B$54,'04_Wirtschaftlichkeit'!$E$44:$L$57,5,FALSE))","v":-84207.9},{"$f":"I110*(-HLOOKUP($B$54,'04_Wirtschaftlichkeit'!$E$44:$L$57,7,FALSE)-HLOOKUP($B$54,'04_Wirtschaftlichkeit'!$E$44:$L$57,5,FALSE))","v":-84207.9},{"$f":"J110*(-HLOOKUP($B$54,'04_Wirtschaftlichkeit'!$E$44:$L$57,7,FALSE)-HLOOKUP($B$54,'04_Wirtschaftlichkeit'!$E$44:$L$57,5,FALSE))","v":-84207.9},{"$f":"K110*(-HLOOKUP($B$54,'04_Wirtschaftlichkeit'!$E$44:$L$57,7,FALSE)-HLOOKUP($B$54,'04_Wirtschaftlichkeit'!$E$44:$L$57,5,FALSE))","v":-84207.9},{"$f":"L110*(-HLOOKUP($B$54,'04_Wirtschaftlichkeit'!$E$44:$L$57,7,FALSE)-HLOOKUP($B$54,'04_Wirtschaftlichkeit'!$E$44:$L$57,5,FALSE))","v":-84207.9},{"$f":"M110*(-HLOOKUP($B$54,'04_Wirtschaftlichkeit'!$E$44:$L$57,7,FALSE)-HLOOKUP($B$54,'04_Wirtschaftlichkeit'!$E$44:$L$57,5,FALSE))","v":-84207.9},{"$f":"N110*(-HLOOKUP($B$54,'04_Wirtschaftlichkeit'!$E$44:$L$57,7,FALSE)-HLOOKUP($B$54,'04_Wirtschaftlichkeit'!$E$44:$L$57,5,FALSE))","v":-84207.9},{"$f":"O110*(-HLOOKUP($B$54,'04_Wirtschaftlichkeit'!$E$44:$L$57,7,FALSE)-HLOOKUP($B$54,'04_Wirtschaftlichkeit'!$E$44:$L$57,5,FALSE))","v":-84207.9},{"$f":"P110*(-HLOOKUP($B$54,'04_Wirtschaftlichkeit'!$E$44:$L$57,7,FALSE)-HLOOKUP($B$54,'04_Wirtschaftlichkeit'!$E$44:$L$57,5,FALSE))","v":-84207.9},{"$f":"Q110*(-HLOOKUP($B$54,'04_Wirtschaftlichkeit'!$E$44:$L$57,7,FALSE)-HLOOKUP($B$54,'04_Wirtschaftlichkeit'!$E$44:$L$57,5,FALSE))","v":-84207.9},{"$f":"R110*(-HLOOKUP($B$54,'04_Wirtschaftlichkeit'!$E$44:$L$57,7,FALSE)-HLOOKUP($B$54,'04_Wirtschaftlichkeit'!$E$44:$L$57,5,FALSE))","v":-84207.9},{"$f":"S110*(-HLOOKUP($B$54,'04_Wirtschaftlichkeit'!$E$44:$L$57,7,FALSE)-HLOOKUP($B$54,'04_Wirtschaftlichkeit'!$E$44:$L$57,5,FALSE))","v":-84207.9},{"$f":"T110*(-HLOOKUP($B$54,'04_Wirtschaftlichkeit'!$E$44:$L$57,7,FALSE)-HLOOKUP($B$54,'04_Wirtschaftlichkeit'!$E$44:$L$57,5,FALSE))","v":-84207.9},{"$f":"U110*(-HLOOKUP($B$54,'04_Wirtschaftlichkeit'!$E$44:$L$57,7,FALSE)-HLOOKUP($B$54,'04_Wirtschaftlichkeit'!$E$44:$L$57,5,FALSE))","v":-84207.9},{"$f":"V110*(-HLOOKUP($B$54,'04_Wirtschaftlichkeit'!$E$44:$L$57,7,FALSE)-HLOOKUP($B$54,'04_Wirtschaftlichkeit'!$E$44:$L$57,5,FALSE))","v":-84207.9},{"$f":"W110*(-HLOOKUP($B$54,'04_Wirtschaftlichkeit'!$E$44:$L$57,7,FALSE)-HLOOKUP($B$54,'04_Wirtschaftlichkeit'!$E$44:$L$57,5,FALSE))","v":-84207.9},{"$f":"X110*(-HLOOKUP($B$54,'04_Wirtschaftlichkeit'!$E$44:$L$57,7,FALSE)-HLOOKUP($B$54,'04_Wirtschaftlichkeit'!$E$44:$L$57,5,FALSE))","v":-84207.9},{"$f":"Y110*(-HLOOKUP($B$54,'04_Wirtschaftlichkeit'!$E$44:$L$57,7,FALSE)-HLOOKUP($B$54,'04_Wirtschaftlichkeit'!$E$44:$L$57,5,FALSE))","v":-84207.9},{"$f":"Z110*(-HLOOKUP($B$54,'04_Wirtschaftlichkeit'!$E$44:$L$57,7,FALSE)-HLOOKUP($B$54,'04_Wirtschaftlichkeit'!$E$44:$L$57,5,FALSE))","v":-84207.9},{"$f":"AA110*(-HLOOKUP($B$54,'04_Wirtschaftlichkeit'!$E$44:$L$57,7,FALSE)-HLOOKUP($B$54,'04_Wirtschaftlichkeit'!$E$44:$L$57,5,FALSE))","v":-84207.9},{"$f":"AB110*(-HLOOKUP($B$54,'04_Wirtschaftlichkeit'!$E$44:$L$57,7,FALSE)-HLOOKUP($B$54,'04_Wirtschaftlichkeit'!$E$44:$L$57,5,FALSE))","v":0},{"$f":"AC110*(-HLOOKUP($B$54,'04_Wirtschaftlichkeit'!$E$44:$L$57,7,FALSE)-HLOOKUP($B$54,'04_Wirtschaftlichkeit'!$E$44:$L$57,5,FALSE))","v":0},{"$f":"AD110*(-HLOOKUP($B$54,'04_Wirtschaftlichkeit'!$E$44:$L$57,7,FALSE)-HLOOKUP($B$54,'04_Wirtschaftlichkeit'!$E$44:$L$57,5,FALSE))","v":0},{"$f":"AE110*(-HLOOKUP($B$54,'04_Wirtschaftlichkeit'!$E$44:$L$57,7,FALSE)-HLOOKUP($B$54,'04_Wirtschaftlichkeit'!$E$44:$L$57,5,FALSE))","v":0},{"$f":"AF110*(-HLOOKUP($B$54,'04_Wirtschaftlichkeit'!$E$44:$L$57,7,FALSE)-HLOOKUP($B$54,'04_Wirtschaftlichkeit'!$E$44:$L$57,5,FALSE))","v":0},{"$f":"AG110*(-HLOOKUP($B$54,'04_Wirtschaftlichkeit'!$E$44:$L$57,7,FALSE)-HLOOKUP($B$54,'04_Wirtschaftlichkeit'!$E$44:$L$57,5,FALSE))","v":0},{"$f":"AH110*(-HLOOKUP($B$54,'04_Wirtschaftlichkeit'!$E$44:$L$57,7,FALSE)-HLOOKUP($B$54,'04_Wirtschaftlichkeit'!$E$44:$L$57,5,FALSE))","v":0},{"$f":"AI110*(-HLOOKUP($B$54,'04_Wirtschaftlichkeit'!$E$44:$L$57,7,FALSE)-HLOOKUP($B$54,'04_Wirtschaftlichkeit'!$E$44:$L$57,5,FALSE))","v":0},{"$f":"AJ110*(-HLOOKUP($B$54,'04_Wirtschaftlichkeit'!$E$44:$L$57,7,FALSE)-HLOOKUP($B$54,'04_Wirtschaftlichkeit'!$E$44:$L$57,5,FALSE))","v":0},{"$f":"AK110*(-HLOOKUP($B$54,'04_Wirtschaftlichkeit'!$E$44:$L$57,7,FALSE)-HLOOKUP($B$54,'04_Wirtschaftlichkeit'!$E$44:$L$57,5,FALSE))","v":0},{"$f":"AL110*(-HLOOKUP($B$54,'04_Wirtschaftlichkeit'!$E$44:$L$57,7,FALSE)-HLOOKUP($B$54,'04_Wirtschaftlichkeit'!$E$44:$L$57,5,FALSE))","v":0},{"$f":"AM110*(-HLOOKUP($B$54,'04_Wirtschaftlichkeit'!$E$44:$L$57,7,FALSE)-HLOOKUP($B$54,'04_Wirtschaftlichkeit'!$E$44:$L$57,5,FALSE))","v":0},{"$f":"AN110*(-HLOOKUP($B$54,'04_Wirtschaftlichkeit'!$E$44:$L$57,7,FALSE)-HLOOKUP($B$54,'04_Wirtschaftlichkeit'!$E$44:$L$57,5,FALSE))","v":0},{"$f":"AO110*(-HLOOKUP($B$54,'04_Wirtschaftlichkeit'!$E$44:$L$57,7,FALSE)-HLOOKUP($B$54,'04_Wirtschaftlichkeit'!$E$44:$L$57,5,FALSE))","v":0},{"$f":"AP110*(-HLOOKUP($B$54,'04_Wirtschaftlichkeit'!$E$44:$L$57,7,FALSE)-HLOOKUP($B$54,'04_Wirtschaftlichkeit'!$E$44:$L$57,5,FALSE))","v":0},{"$f":"AQ110*(-HLOOKUP($B$54,'04_Wirtschaftlichkeit'!$E$44:$L$57,7,FALSE)-HLOOKUP($B$54,'04_Wirtschaftlichkeit'!$E$44:$L$57,5,FALSE))","v":0},{"$f":"AR110*(-HLOOKUP($B$54,'04_Wirtschaftlichkeit'!$E$44:$L$57,7,FALSE)-HLOOKUP($B$54,'04_Wirtschaftlichkeit'!$E$44:$L$57,5,FALSE))","v":0},{"$f":"AS110*(-HLOOKUP($B$54,'04_Wirtschaftlichkeit'!$E$44:$L$57,7,FALSE)-HLOOKUP($B$54,'04_Wirtschaftlichkeit'!$E$44:$L$57,5,FALSE))","v":0},{"$f":"AT110*(-HLOOKUP($B$54,'04_Wirtschaftlichkeit'!$E$44:$L$57,7,FALSE)-HLOOKUP($B$54,'04_Wirtschaftlichkeit'!$E$44:$L$57,5,FALSE))","v":0},{"$f":"AU110*(-HLOOKUP($B$54,'04_Wirtschaftlichkeit'!$E$44:$L$57,7,FALSE)-HLOOKUP($B$54,'04_Wirtschaftlichkeit'!$E$44:$L$57,5,FALSE))","v":0},{"$f":"AV110*(-HLOOKUP($B$54,'04_Wirtschaftlichkeit'!$E$44:$L$57,7,FALSE)-HLOOKUP($B$54,'04_Wirtschaftlichkeit'!$E$44:$L$57,5,FALSE))","v":0},{"$f":"AW110*(-HLOOKUP($B$54,'04_Wirtschaftlichkeit'!$E$44:$L$57,7,FALSE)-HLOOKUP($B$54,'04_Wirtschaftlichkeit'!$E$44:$L$57,5,FALSE))","v":0},{"$f":"AX110*(-HLOOKUP($B$54,'04_Wirtschaftlichkeit'!$E$44:$L$57,7,FALSE)-HLOOKUP($B$54,'04_Wirtschaftlichkeit'!$E$44:$L$57,5,FALSE))","v":0},{"$f":"AY110*(-HLOOKUP($B$54,'04_Wirtschaftlichkeit'!$E$44:$L$57,7,FALSE)-HLOOKUP($B$54,'04_Wirtschaftlichkeit'!$E$44:$L$57,5,FALSE))","v":0},{"$f":"AZ110*(-HLOOKUP($B$54,'04_Wirtschaftlichkeit'!$E$44:$L$57,7,FALSE)-HLOOKUP($B$54,'04_Wirtschaftlichkeit'!$E$44:$L$57,5,FALSE))","v":0},{"$f":"BA110*(-HLOOKUP($B$54,'04_Wirtschaftlichkeit'!$E$44:$L$57,7,FALSE)-HLOOKUP($B$54,'04_Wirtschaftlichkeit'!$E$44:$L$57,5,FALSE))","v":0}]
[null,"Betr.-Dauer",{"$f":"IF('04_Wirtschaftlichkeit'!$F$17*(1+$B113)>=Nebenrechnungen!C$55,1,0)","v":1},{"$f":"IF('04_Wirtschaftlichkeit'!$F$17*(1+$B113)>=Nebenrechnungen!D$55,1,0)","v":1},{"$f":"IF('04_Wirtschaftlichkeit'!$F$17*(1+$B113)>=Nebenrechnungen!E$55,1,0)","v":1},{"$f":"IF('04_Wirtschaftlichkeit'!$F$17*(1+$B113)>=Nebenrechnungen!F$55,1,0)","v":1},{"$f":"IF('04_Wirtschaftlichkeit'!$F$17*(1+$B113)>=Nebenrechnungen!G$55,1,0)","v":1},{"$f":"IF('04_Wirtschaftlichkeit'!$F$17*(1+$B113)>=Nebenrechnungen!H$55,1,0)","v":1},{"$f":"IF('04_Wirtschaftlichkeit'!$F$17*(1+$B113)>=Nebenrechnungen!I$55,1,0)","v":1},{"$f":"IF('04_Wirtschaftlichkeit'!$F$17*(1+$B113)>=Nebenrechnungen!J$55,1,0)","v":1},{"$f":"IF('04_Wirtschaftlichkeit'!$F$17*(1+$B113)>=Nebenrechnungen!K$55,1,0)","v":1},{"$f":"IF('04_Wirtschaftlichkeit'!$F$17*(1+$B113)>=Nebenrechnungen!L$55,1,0)","v":1},{"$f":"IF('04_Wirtschaftlichkeit'!$F$17*(1+$B113)>=Nebenrechnungen!M$55,1,0)","v":1},{"$f":"IF('04_Wirtschaftlichkeit'!$F$17*(1+$B113)>=Nebenrechnungen!N$55,1,0)","v":1},{"$f":"IF('04_Wirtschaftlichkeit'!$F$17*(1+$B113)>=Nebenrechnungen!O$55,1,0)","v":1},{"$f":"IF('04_Wirtschaftlichkeit'!$F$17*(1+$B113)>=Nebenrechnungen!P$55,1,0)","v":1},{"$f":"IF('04_Wirtschaftlichkeit'!$F$17*(1+$B113)>=Nebenrechnungen!Q$55,1,0)","v":1},{"$f":"IF('04_Wirtschaftlichkeit'!$F$17*(1+$B113)>=Nebenrechnungen!R$55,1,0)","v":1},{"$f":"IF('04_Wirtschaftlichkeit'!$F$17*(1+$B113)>=Nebenrechnungen!S$55,1,0)","v":1},{"$f":"IF('04_Wirtschaftlichkeit'!$F$17*(1+$B113)>=Nebenrechnungen!T$55,1,0)","v":1},{"$f":"IF('04_Wirtschaftlichkeit'!$F$17*(1+$B113)>=Nebenrechnungen!U$55,1,0)","v":1},{"$f":"IF('04_Wirtschaftlichkeit'!$F$17*(1+$B113)>=Nebenrechnungen!V$55,1,0)","v":1},{"$f":"IF('04_Wirtschaftlichkeit'!$F$17*(1+$B113)>=Nebenrechnungen!W$55,1,0)","v":1},{"$f":"IF('04_Wirtschaftlichkeit'!$F$17*(1+$B113)>=Nebenrechnungen!X$55,1,0)","v":1},{"$f":"IF('04_Wirtschaftlichkeit'!$F$17*(1+$B113)>=Nebenrechnungen!Y$55,1,0)","v":1},{"$f":"IF('04_Wirtschaftlichkeit'!$F$17*(1+$B113)>=Nebenrechnungen!Z$55,1,0)","v":1},{"$f":"IF('04_Wirtschaftlichkeit'!$F$17*(1+$B113)>=Nebenrechnungen!AA$55,1,0)","v":1},{"$f":"IF('04_Wirtschaftlichkeit'!$F$17*(1+$B113)>=Nebenrechnungen!AB$55,1,0)","v":1},{"$f":"IF('04_Wirtschaftlichkeit'!$F$17*(1+$B113)>=Nebenrechnungen!AC$55,1,0)","v":1},{"$f":"IF('04_Wirtschaftlichkeit'!$F$17*(1+$B113)>=Nebenrechnungen!AD$55,1,0)","v":0},{"$f":"IF('04_Wirtschaftlichkeit'!$F$17*(1+$B113)>=Nebenrechnungen!AE$55,1,0)","v":0},{"$f":"IF('04_Wirtschaftlichkeit'!$F$17*(1+$B113)>=Nebenrechnungen!AF$55,1,0)","v":0},{"$f":"IF('04_Wirtschaftlichkeit'!$F$17*(1+$B113)>=Nebenrechnungen!AG$55,1,0)","v":0},{"$f":"IF('04_Wirtschaftlichkeit'!$F$17*(1+$B113)>=Nebenrechnungen!AH$55,1,0)","v":0},{"$f":"IF('04_Wirtschaftlichkeit'!$F$17*(1+$B113)>=Nebenrechnungen!AI$55,1,0)","v":0},{"$f":"IF('04_Wirtschaftlichkeit'!$F$17*(1+$B113)>=Nebenrechnungen!AJ$55,1,0)","v":0},{"$f":"IF('04_Wirtschaftlichkeit'!$F$17*(1+$B113)>=Nebenrechnungen!AK$55,1,0)","v":0},{"$f":"IF('04_Wirtschaftlichkeit'!$F$17*(1+$B113)>=Nebenrechnungen!AL$55,1,0)","v":0},{"$f":"IF('04_Wirtschaftlichkeit'!$F$17*(1+$B113)>=Nebenrechnungen!AM$55,1,0)","v":0},{"$f":"IF('04_Wirtschaftlichkeit'!$F$17*(1+$B113)>=Nebenrechnungen!AN$55,1,0)","v":0},{"$f":"IF('04_Wirtschaftlichkeit'!$F$17*(1+$B113)>=Nebenrechnungen!AO$55,1,0)","v":0},{"$f":"IF('04_Wirtschaftlichkeit'!$F$17*(1+$B113)>=Nebenrechnungen!AP$55,1,0)","v":0},{"$f":"IF('04_Wirtschaftlichkeit'!$F$17*(1+$B113)>=Nebenrechnungen!AQ$55,1,0)","v":0},{"$f":"IF('04_Wirtschaftlichkeit'!$F$17*(1+$B113)>=Nebenrechnungen!AR$55,1,0)","v":0},{"$f":"IF('04_Wirtschaftlichkeit'!$F$17*(1+$B113)>=Nebenrechnungen!AS$55,1,0)","v":0},{"$f":"IF('04_Wirtschaftlichkeit'!$F$17*(1+$B113)>=Nebenrechnungen!AT$55,1,0)","v":0},{"$f":"IF('04_Wirtschaftlichkeit'!$F$17*(1+$B113)>=Nebenrechnungen!AU$55,1,0)","v":0},{"$f":"IF('04_Wirtschaftlichkeit'!$F$17*(1+$B113)>=Nebenrechnungen!AV$55,1,0)","v":0},{"$f":"IF('04_Wirtschaftlichkeit'!$F$17*(1+$B113)>=Nebenrechnungen!AW$55,1,0)","v":0},{"$f":"IF('04_Wirtschaftlichkeit'!$F$17*(1+$B113)>=Nebenrechnungen!AX$55,1,0)","v":0},{"$f":"IF('04_Wirtschaftlichkeit'!$F$17*(1+$B113)>=Nebenrechnungen!AY$55,1,0)","v":0},{"$f":"IF('04_Wirtschaftlichkeit'!$F$17*(1+$B113)>=Nebenrechnungen!AZ$55,1,0)","v":0},{"$f":"IF('04_Wirtschaftlichkeit'!$F$17*(1+$B113)>=Nebenrechnungen!BA$55,1,0)","v":0}]
[null,0.3,{"$f":"-HLOOKUP($B$54,'04_Wirtschaftlichkeit'!$E$44:$L$57,6,FALSE)","v":-1057830.7168757692},{"$f":"D112*(-HLOOKUP($B$54,'04_Wirtschaftlichkeit'!$E$44:$L$57,7,FALSE)-HLOOKUP($B$54,'04_Wirtschaftlichkeit'!$E$44:$L$57,5,FALSE))","v":-84207.9},{"$f":"E112*(-HLOOKUP($B$54,'04_Wirtschaftlichkeit'!$E$44:$L$57,7,FALSE)-HLOOKUP($B$54,'04_Wirtschaftlichkeit'!$E$44:$L$57,5,FALSE))","v":-84207.9},{"$f":"F112*(-HLOOKUP($B$54,'04_Wirtschaftlichkeit'!$E$44:$L$57,7,FALSE)-HLOOKUP($B$54,'04_Wirtschaftlichkeit'!$E$44:$L$57,5,FALSE))","v":-84207.9},{"$f":"G112*(-HLOOKUP($B$54,'04_Wirtschaftlichkeit'!$E$44:$L$57,7,FALSE)-HLOOKUP($B$54,'04_Wirtschaftlichkeit'!$E$44:$L$57,5,FALSE))","v":-84207.9},{"$f":"H112*(-HLOOKUP($B$54,'04_Wirtschaftlichkeit'!$E$44:$L$57,7,FALSE)-HLOOKUP($B$54,'04_Wirtschaftlichkeit'!$E$44:$L$57,5,FALSE))","v":-84207.9},{"$f":"I112*(-HLOOKUP($B$54,'04_Wirtschaftlichkeit'!$E$44:$L$57,7,FALSE)-HLOOKUP($B$54,'04_Wirtschaftlichkeit'!$E$44:$L$57,5,FALSE))","v":-84207.9},{"$f":"J112*(-HLOOKUP($B$54,'04_Wirtschaftlichkeit'!$E$44:$L$57,7,FALSE)-HLOOKUP($B$54,'04_Wirtschaftlichkeit'!$E$44:$L$57,5,FALSE))","v":-84207.9},{"$f":"K112*(-HLOOKUP($B$54,'04_Wirtschaftlichkeit'!$E$44:$L$57,7,FALSE)-HLOOKUP($B$54,'04_Wirtschaftlichkeit'!$E$44:$L$57,5,FALSE))","v":-84207.9},{"$f":"L112*(-HLOOKUP($B$54,'04_Wirtschaftlichkeit'!$E$44:$L$57,7,FALSE)-HLOOKUP($B$54,'04_Wirtschaftlichkeit'!$E$44:$L$57,5,FALSE))","v":-84207.9},{"$f":"M112*(-HLOOKUP($B$54,'04_Wirtschaftlichkeit'!$E$44:$L$57,7,FALSE)-HLOOKUP($B$54,'04_Wirtschaftlichkeit'!$E$44:$L$57,5,FALSE))","v":-84207.9},{"$f":"N112*(-HLOOKUP($B$54,'04_Wirtschaftlichkeit'!$E$44:$L$57,7,FALSE)-HLOOKUP($B$54,'04_Wirtschaftlichkeit'!$E$44:$L$57,5,FALSE))","v":-84207.9},{"$f":"O112*(-HLOOKUP($B$54,'04_Wirtschaftlichkeit'!$E$44:$L$57,7,FALSE)-HLOOKUP($B$54,'04_Wirtschaftlichkeit'!$E$44:$L$57,5,FALSE))","v":-84207.9},{"$f":"P112*(-HLOOKUP($B$54,'04_Wirtschaftlichkeit'!$E$44:$L$57,7,FALSE)-HLOOKUP($B$54,'04_Wirtschaftlichkeit'!$E$44:$L$57,5,FALSE))","v":-84207.9},{"$f":"Q112*(-HLOOKUP($B$54,'04_Wirtschaftlichkeit'!$E$44:$L$57,7,FALSE)-HLOOKUP($B$54,'04_Wirtschaftlichkeit'!$E$44:$L$57,5,FALSE))","v":-84207.9},{"$f":"R112*(-HLOOKUP($B$54,'04_Wirtschaftlichkeit'!$E$44:$L$57,7,FALSE)-HLOOKUP($B$54,'04_Wirtschaftlichkeit'!$E$44:$L$57,5,FALSE))","v":-84207.9},{"$f":"S112*(-HLOOKUP($B$54,'04_Wirtschaftlichkeit'!$E$44:$L$57,7,FALSE)-HLOOKUP($B$54,'04_Wirtschaftlichkeit'!$E$44:$L$57,5,FALSE))","v":-84207.9},{"$f":"T112*(-HLOOKUP($B$54,'04_Wirtschaftlichkeit'!$E$44:$L$57,7,FALSE)-HLOOKUP($B$54,'04_Wirtschaftlichkeit'!$E$44:$L$57,5,FALSE))","v":-84207.9},{"$f":"U112*(-HLOOKUP($B$54,'04_Wirtschaftlichkeit'!$E$44:$L$57,7,FALSE)-HLOOKUP($B$54,'04_Wirtschaftlichkeit'!$E$44:$L$57,5,FALSE))","v":-84207.9},{"$f":"V112*(-HLOOKUP($B$54,'04_Wirtschaftlichkeit'!$E$44:$L$57,7,FALSE)-HLOOKUP($B$54,'04_Wirtschaftlichkeit'!$E$44:$L$57,5,FALSE))","v":-84207.9},{"$f":"W112*(-HLOOKUP($B$54,'04_Wirtschaftlichkeit'!$E$44:$L$57,7,FALSE)-HLOOKUP($B$54,'04_Wirtschaftlichkeit'!$E$44:$L$57,5,FALSE))","v":-84207.9},{"$f":"X112*(-HLOOKUP($B$54,'04_Wirtschaftlichkeit'!$E$44:$L$57,7,FALSE)-HLOOKUP($B$54,'04_Wirtschaftlichkeit'!$E$44:$L$57,5,FALSE))","v":-84207.9},{"$f":"Y112*(-HLOOKUP($B$54,'04_Wirtschaftlichkeit'!$E$44:$L$57,7,FALSE)-HLOOKUP($B$54,'04_Wirtschaftlichkeit'!$E$44:$L$57,5,FALSE))","v":-84207.9},{"$f":"Z112*(-HLOOKUP($B$54,'04_Wirtschaftlichkeit'!$E$44:$L$57,7,FALSE)-HLOOKUP($B$54,'04_Wirtschaftlichkeit'!$E$44:$L$57,5,FALSE))","v":-84207.9},{"$f":"AA112*(-HLOOKUP($B$54,'04_Wirtschaftlichkeit'!$E$44:$L$57,7,FALSE)-HLOOKUP($B$54,'04_Wirtschaftlichkeit'!$E$44:$L$57,5,FALSE))","v":-84207.9},{"$f":"AB112*(-HLOOKUP($B$54,'04_Wirtschaftlichkeit'!$E$44:$L$57,7,FALSE)-HLOOKUP($B$54,'04_Wirtschaftlichkeit'!$E$44:$L$57,5,FALSE))","v":-84207.9},{"$f":"AC112*(-HLOOKUP($B$54,'04_Wirtschaftlichkeit'!$E$44:$L$57,7,FALSE)-HLOOKUP($B$54,'04_Wirtschaftlichkeit'!$E$44:$L$57,5,FALSE))","v":-84207.9},{"$f":"AD112*(-HLOOKUP($B$54,'04_Wirtschaftlichkeit'!$E$44:$L$57,7,FALSE)-HLOOKUP($B$54,'04_Wirtschaftlichkeit'!$E$44:$L$57,5,FALSE))","v":0},{"$f":"AE112*(-HLOOKUP($B$54,'04_Wirtschaftlichkeit'!$E$44:$L$57,7,FALSE)-HLOOKUP($B$54,'04_Wirtschaftlichkeit'!$E$44:$L$57,5,FALSE))","v":0},{"$f":"AF112*(-HLOOKUP($B$54,'04_Wirtschaftlichkeit'!$E$44:$L$57,7,FALSE)-HLOOKUP($B$54,'04_Wirtschaftlichkeit'!$E$44:$L$57,5,FALSE))","v":0},{"$f":"AG112*(-HLOOKUP($B$54,'04_Wirtschaftlichkeit'!$E$44:$L$57,7,FALSE)-HLOOKUP($B$54,'04_Wirtschaftlichkeit'!$E$44:$L$57,5,FALSE))","v":0},{"$f":"AH112*(-HLOOKUP($B$54,'04_Wirtschaftlichkeit'!$E$44:$L$57,7,FALSE)-HLOOKUP($B$54,'04_Wirtschaftlichkeit'!$E$44:$L$57,5,FALSE))","v":0},{"$f":"AI112*(-HLOOKUP($B$54,'04_Wirtschaftlichkeit'!$E$44:$L$57,7,FALSE)-HLOOKUP($B$54,'04_Wirtschaftlichkeit'!$E$44:$L$57,5,FALSE))","v":0},{"$f":"AJ112*(-HLOOKUP($B$54,'04_Wirtschaftlichkeit'!$E$44:$L$57,7,FALSE)-HLOOKUP($B$54,'04_Wirtschaftlichkeit'!$E$44:$L$57,5,FALSE))","v":0},{"$f":"AK112*(-HLOOKUP($B$54,'04_Wirtschaftlichkeit'!$E$44:$L$57,7,FALSE)-HLOOKUP($B$54,'04_Wirtschaftlichkeit'!$E$44:$L$57,5,FALSE))","v":0},{"$f":"AL112*(-HLOOKUP($B$54,'04_Wirtschaftlichkeit'!$E$44:$L$57,7,FALSE)-HLOOKUP($B$54,'04_Wirtschaftlichkeit'!$E$44:$L$57,5,FALSE))","v":0},{"$f":"AM112*(-HLOOKUP($B$54,'04_Wirtschaftlichkeit'!$E$44:$L$57,7,FALSE)-HLOOKUP($B$54,'04_Wirtschaftlichkeit'!$E$44:$L$57,5,FALSE))","v":0},{"$f":"AN112*(-HLOOKUP($B$54,'04_Wirtschaftlichkeit'!$E$44:$L$57,7,FALSE)-HLOOKUP($B$54,'04_Wirtschaftlichkeit'!$E$44:$L$57,5,FALSE))","v":0},{"$f":"AO112*(-HLOOKUP($B$54,'04_Wirtschaftlichkeit'!$E$44:$L$57,7,FALSE)-HLOOKUP($B$54,'04_Wirtschaftlichkeit'!$E$44:$L$57,5,FALSE))","v":0},{"$f":"AP112*(-HLOOKUP($B$54,'04_Wirtschaftlichkeit'!$E$44:$L$57,7,FALSE)-HLOOKUP($B$54,'04_Wirtschaftlichkeit'!$E$44:$L$57,5,FALSE))","v":0},{"$f":"AQ112*(-HLOOKUP($B$54,'04_Wirtschaftlichkeit'!$E$44:$L$57,7,FALSE)-HLOOKUP($B$54,'04_Wirtschaftlichkeit'!$E$44:$L$57,5,FALSE))","v":0},{"$f":"AR112*(-HLOOKUP($B$54,'04_Wirtschaftlichkeit'!$E$44:$L$57,7,FALSE)-HLOOKUP($B$54,'04_Wirtschaftlichkeit'!$E$44:$L$57,5,FALSE))","v":0},{"$f":"AS112*(-HLOOKUP($B$54,'04_Wirtschaftlichkeit'!$E$44:$L$57,7,FALSE)-HLOOKUP($B$54,'04_Wirtschaftlichkeit'!$E$44:$L$57,5,FALSE))","v":0},{"$f":"AT112*(-HLOOKUP($B$54,'04_Wirtschaftlichkeit'!$E$44:$L$57,7,FALSE)-HLOOKUP($B$54,'04_Wirtschaftlichkeit'!$E$44:$L$57,5,FALSE))","v":0},{"$f":"AU112*(-HLOOKUP($B$54,'04_Wirtschaftlichkeit'!$E$44:$L$57,7,FALSE)-HLOOKUP($B$54,'04_Wirtschaftlichkeit'!$E$44:$L$57,5,FALSE))","v":0},{"$f":"AV112*(-HLOOKUP($B$54,'04_Wirtschaftlichkeit'!$E$44:$L$57,7,FALSE)-HLOOKUP($B$54,'04_Wirtschaftlichkeit'!$E$44:$L$57,5,FALSE))","v":0},{"$f":"AW112*(-HLOOKUP($B$54,'04_Wirtschaftlichkeit'!$E$44:$L$57,7,FALSE)-HLOOKUP($B$54,'04_Wirtschaftlichkeit'!$E$44:$L$57,5,FALSE))","v":0},{"$f":"AX112*(-HLOOKUP($B$54,'04_Wirtschaftlichkeit'!$E$44:$L$57,7,FALSE)-HLOOKUP($B$54,'04_Wirtschaftlichkeit'!$E$44:$L$57,5,FALSE))","v":0},{"$f":"AY112*(-HLOOKUP($B$54,'04_Wirtschaftlichkeit'!$E$44:$L$57,7,FALSE)-HLOOKUP($B$54,'04_Wirtschaftlichkeit'!$E$44:$L$57,5,FALSE))","v":0},{"$f":"AZ112*(-HLOOKUP($B$54,'04_Wirtschaftlichkeit'!$E$44:$L$57,7,FALSE)-HLOOKUP($B$54,'04_Wirtschaftlichkeit'!$E$44:$L$57,5,FALSE))","v":0},{"$f":"BA112*(-HLOOKUP($B$54,'04_Wirtschaftlichkeit'!$E$44:$L$57,7,FALSE)-HLOOKUP($B$54,'04_Wirtschaftlichkeit'!$E$44:$L$57,5,FALSE))","v":0}]
[null,"Betr.-Dauer",{"$f":"IF('04_Wirtschaftlichkeit'!$F$17*(1+$B115)>=Nebenrechnungen!C$55,1,0)","v":1},{"$f":"IF('04_Wirtschaftlichkeit'!$F$17*(1+$B115)>=Nebenrechnungen!D$55,1,0)","v":1},{"$f":"IF('04_Wirtschaftlichkeit'!$F$17*(1+$B115)>=Nebenrechnungen!E$55,1,0)","v":1},{"$f":"IF('04_Wirtschaftlichkeit'!$F$17*(1+$B115)>=Nebenrechnungen!F$55,1,0)","v":1},{"$f":"IF('04_Wirtschaftlichkeit'!$F$17*(1+$B115)>=Nebenrechnungen!G$55,1,0)","v":1},{"$f":"IF('04_Wirtschaftlichkeit'!$F$17*(1+$B115)>=Nebenrechnungen!H$55,1,0)","v":1},{"$f":"IF('04_Wirtschaftlichkeit'!$F$17*(1+$B115)>=Nebenrechnungen!I$55,1,0)","v":1},{"$f":"IF('04_Wirtschaftlichkeit'!$F$17*(1+$B115)>=Nebenrechnungen!J$55,1,0)","v":1},{"$f":"IF('04_Wirtschaftlichkeit'!$F$17*(1+$B115)>=Nebenrechnungen!K$55,1,0)","v":1},{"$f":"IF('04_Wirtschaftlichkeit'!$F$17*(1+$B115)>=Nebenrechnungen!L$55,1,0)","v":1},{"$f":"IF('04_Wirtschaftlichkeit'!$F$17*(1+$B115)>=Nebenrechnungen!M$55,1,0)","v":1},{"$f":"IF('04_Wirtschaftlichkeit'!$F$17*(1+$B115)>=Nebenrechnungen!N$55,1,0)","v":1},{"$f":"IF('04_Wirtschaftlichkeit'!$F$17*(1+$B115)>=Nebenrechnungen!O$55,1,0)","v":1},{"$f":"IF('04_Wirtschaftlichkeit'!$F$17*(1+$B115)>=Nebenrechnungen!P$55,1,0)","v":1},{"$f":"IF('04_Wirtschaftlichkeit'!$F$17*(1+$B115)>=Nebenrechnungen!Q$55,1,0)","v":1},{"$f":"IF('04_Wirtschaftlichkeit'!$F$17*(1+$B115)>=Nebenrechnungen!R$55,1,0)","v":1},{"$f":"IF('04_Wirtschaftlichkeit'!$F$17*(1+$B115)>=Nebenrechnungen!S$55,1,0)","v":1},{"$f":"IF('04_Wirtschaftlichkeit'!$F$17*(1+$B115)>=Nebenrechnungen!T$55,1,0)","v":1},{"$f":"IF('04_Wirtschaftlichkeit'!$F$17*(1+$B115)>=Nebenrechnungen!U$55,1,0)","v":1},{"$f":"IF('04_Wirtschaftlichkeit'!$F$17*(1+$B115)>=Nebenrechnungen!V$55,1,0)","v":1},{"$f":"IF('04_Wirtschaftlichkeit'!$F$17*(1+$B115)>=Nebenrechnungen!W$55,1,0)","v":1},{"$f":"IF('04_Wirtschaftlichkeit'!$F$17*(1+$B115)>=Nebenrechnungen!X$55,1,0)","v":1},{"$f":"IF('04_Wirtschaftlichkeit'!$F$17*(1+$B115)>=Nebenrechnungen!Y$55,1,0)","v":1},{"$f":"IF('04_Wirtschaftlichkeit'!$F$17*(1+$B115)>=Nebenrechnungen!Z$55,1,0)","v":1},{"$f":"IF('04_Wirtschaftlichkeit'!$F$17*(1+$B115)>=Nebenrechnungen!AA$55,1,0)","v":1},{"$f":"IF('04_Wirtschaftlichkeit'!$F$17*(1+$B115)>=Nebenrechnungen!AB$55,1,0)","v":1},{"$f":"IF('04_Wirtschaftlichkeit'!$F$17*(1+$B115)>=Nebenrechnungen!AC$55,1,0)","v":1},{"$f":"IF('04_Wirtschaftlichkeit'!$F$17*(1+$B115)>=Nebenrechnungen!AD$55,1,0)","v":1},{"$f":"IF('04_Wirtschaftlichkeit'!$F$17*(1+$B115)>=Nebenrechnungen!AE$55,1,0)","v":1},{"$f":"IF('04_Wirtschaftlichkeit'!$F$17*(1+$B115)>=Nebenrechnungen!AF$55,1,0)","v":0},{"$f":"IF('04_Wirtschaftlichkeit'!$F$17*(1+$B115)>=Nebenrechnungen!AG$55,1,0)","v":0},{"$f":"IF('04_Wirtschaftlichkeit'!$F$17*(1+$B115)>=Nebenrechnungen!AH$55,1,0)","v":0},{"$f":"IF('04_Wirtschaftlichkeit'!$F$17*(1+$B115)>=Nebenrechnungen!AI$55,1,0)","v":0},{"$f":"IF('04_Wirtschaftlichkeit'!$F$17*(1+$B115)>=Nebenrechnungen!AJ$55,1,0)","v":0},{"$f":"IF('04_Wirtschaftlichkeit'!$F$17*(1+$B115)>=Nebenrechnungen!AK$55,1,0)","v":0},{"$f":"IF('04_Wirtschaftlichkeit'!$F$17*(1+$B115)>=Nebenrechnungen!AL$55,1,0)","v":0},{"$f":"IF('04_Wirtschaftlichkeit'!$F$17*(1+$B115)>=Nebenrechnungen!AM$55,1,0)","v":0},{"$f":"IF('04_Wirtschaftlichkeit'!$F$17*(1+$B115)>=Nebenrechnungen!AN$55,1,0)","v":0},{"$f":"IF('04_Wirtschaftlichkeit'!$F$17*(1+$B115)>=Nebenrechnungen!AO$55,1,0)","v":0},{"$f":"IF('04_Wirtschaftlichkeit'!$F$17*(1+$B115)>=Nebenrechnungen!AP$55,1,0)","v":0},{"$f":"IF('04_Wirtschaftlichkeit'!$F$17*(1+$B115)>=Nebenrechnungen!AQ$55,1,0)","v":0},{"$f":"IF('04_Wirtschaftlichkeit'!$F$17*(1+$B115)>=Nebenrechnungen!AR$55,1,0)","v":0},{"$f":"IF('04_Wirtschaftlichkeit'!$F$17*(1+$B115)>=Nebenrechnungen!AS$55,1,0)","v":0},{"$f":"IF('04_Wirtschaftlichkeit'!$F$17*(1+$B115)>=Nebenrechnungen!AT$55,1,0)","v":0},{"$f":"IF('04_Wirtschaftlichkeit'!$F$17*(1+$B115)>=Nebenrechnungen!AU$55,1,0)","v":0},{"$f":"IF('04_Wirtschaftlichkeit'!$F$17*(1+$B115)>=Nebenrechnungen!AV$55,1,0)","v":0},{"$f":"IF('04_Wirtschaftlichkeit'!$F$17*(1+$B115)>=Nebenrechnungen!AW$55,1,0)","v":0},{"$f":"IF('04_Wirtschaftlichkeit'!$F$17*(1+$B115)>=Nebenrechnungen!AX$55,1,0)","v":0},{"$f":"IF('04_Wirtschaftlichkeit'!$F$17*(1+$B115)>=Nebenrechnungen!AY$55,1,0)","v":0},{"$f":"IF('04_Wirtschaftlichkeit'!$F$17*(1+$B115)>=Nebenrechnungen!AZ$55,1,0)","v":0},{"$f":"IF('04_Wirtschaftlichkeit'!$F$17*(1+$B115)>=Nebenrechnungen!BA$55,1,0)","v":0}]
[null,0.4,{"$f":"-HLOOKUP($B$54,'04_Wirtschaftlichkeit'!$E$44:$L$57,6,FALSE)","v":-1057830.7168757692},{"$f":"D114*(-HLOOKUP($B$54,'04_Wirtschaftlichkeit'!$E$44:$L$57,7,FALSE)-HLOOKUP($B$54,'04_Wirtschaftlichkeit'!$E$44:$L$57,5,FALSE))","v":-84207.9},{"$f":"E114*(-HLOOKUP($B$54,'04_Wirtschaftlichkeit'!$E$44:$L$57,7,FALSE)-HLOOKUP($B$54,'04_Wirtschaftlichkeit'!$E$44:$L$57,5,FALSE))","v":-84207.9},{"$f":"F114*(-HLOOKUP($B$54,'04_Wirtschaftlichkeit'!$E$44:$L$57,7,FALSE)-HLOOKUP($B$54,'04_Wirtschaftlichkeit'!$E$44:$L$57,5,FALSE))","v":-84207.9},{"$f":"G114*(-HLOOKUP($B$54,'04_Wirtschaftlichkeit'!$E$44:$L$57,7,FALSE)-HLOOKUP($B$54,'04_Wirtschaftlichkeit'!$E$44:$L$57,5,FALSE))","v":-84207.9},{"$f":"H114*(-HLOOKUP($B$54,'04_Wirtschaftlichkeit'!$E$44:$L$57,7,FALSE)-HLOOKUP($B$54,'04_Wirtschaftlichkeit'!$E$44:$L$57,5,FALSE))","v":-84207.9},{"$f":"I114*(-HLOOKUP($B$54,'04_Wirtschaftlichkeit'!$E$44:$L$57,7,FALSE)-HLOOKUP($B$54,'04_Wirtschaftlichkeit'!$E$44:$L$57,5,FALSE))","v":-84207.9},{"$f":"J114*(-HLOOKUP($B$54,'04_Wirtschaftlichkeit'!$E$44:$L$57,7,FALSE)-HLOOKUP($B$54,'04_Wirtschaftlichkeit'!$E$44:$L$57,5,FALSE))","v":-84207.9},{"$f":"K114*(-HLOOKUP($B$54,'04_Wirtschaftlichkeit'!$E$44:$L$57,7,FALSE)-HLOOKUP($B$54,'04_Wirtschaftlichkeit'!$E$44:$L$57,5,FALSE))","v":-84207.9},{"$f":"L114*(-HLOOKUP($B$54,'04_Wirtschaftlichkeit'!$E$44:$L$57,7,FALSE)-HLOOKUP($B$54,'04_Wirtschaftlichkeit'!$E$44:$L$57,5,FALSE))","v":-84207.9},{"$f":"M114*(-HLOOKUP($B$54,'04_Wirtschaftlichkeit'!$E$44:$L$57,7,FALSE)-HLOOKUP($B$54,'04_Wirtschaftlichkeit'!$E$44:$L$57,5,FALSE))","v":-84207.9},{"$f":"N114*(-HLOOKUP($B$54,'04_Wirtschaftlichkeit'!$E$44:$L$57,7,FALSE)-HLOOKUP($B$54,'04_Wirtschaftlichkeit'!$E$44:$L$57,5,FALSE))","v":-84207.9},{"$f":"O114*(-HLOOKUP($B$54,'04_Wirtschaftlichkeit'!$E$44:$L$57,7,FALSE)-HLOOKUP($B$54,'04_Wirtschaftlichkeit'!$E$44:$L$57,5,FALSE))","v":-84207.9},{"$f":"P114*(-HLOOKUP($B$54,'04_Wirtschaftlichkeit'!$E$44:$L$57,7,FALSE)-HLOOKUP($B$54,'04_Wirtschaftlichkeit'!$E$44:$L$57,5,FALSE))","v":-84207.9},{"$f":"Q114*(-HLOOKUP($B$54,'04_Wirtschaftlichkeit'!$E$44:$L$57,7,FALSE)-HLOOKUP($B$54,'04_Wirtschaftlichkeit'!$E$44:$L$57,5,FALSE))","v":-84207.9},{"$f":"R114*(-HLOOKUP($B$54,'04_Wirtschaftlichkeit'!$E$44:$L$57,7,FALSE)-HLOOKUP($B$54,'04_Wirtschaftlichkeit'!$E$44:$L$57,5,FALSE))","v":-84207.9},{"$f":"S114*(-HLOOKUP($B$54,'04_Wirtschaftlichkeit'!$E$44:$L$57,7,FALSE)-HLOOKUP($B$54,'04_Wirtschaftlichkeit'!$E$44:$L$57,5,FALSE))","v":-84207.9},{"$f":"T114*(-HLOOKUP($B$54,'04_Wirtschaftlichkeit'!$E$44:$L$57,7,FALSE)-HLOOKUP($B$54,'04_Wirtschaftlichkeit'!$E$44:$L$57,5,FALSE))","v":-84207.9},{"$f":"U114*(-HLOOKUP($B$54,'04_Wirtschaftlichkeit'!$E$44:$L$57,7,FALSE)-HLOOKUP($B$54,'04_Wirtschaftlichkeit'!$E$44:$L$57,5,FALSE))","v":-84207.9},{"$f":"V114*(-HLOOKUP($B$54,'04_Wirtschaftlichkeit'!$E$44:$L$57,7,FALSE)-HLOOKUP($B$54,'04_Wirtschaftlichkeit'!$E$44:$L$57,5,FALSE))","v":-84207.9},{"$f":"W114*(-HLOOKUP($B$54,'04_Wirtschaftlichkeit'!$E$44:$L$57,7,FALSE)-HLOOKUP($B$54,'04_Wirtschaftlichkeit'!$E$44:$L$57,5,FALSE))","v":-84207.9},{"$f":"X114*(-HLOOKUP($B$54,'04_Wirtschaftlichkeit'!$E$44:$L$57,7,FALSE)-HLOOKUP($B$54,'04_Wirtschaftlichkeit'!$E$44:$L$57,5,FALSE))","v":-84207.9},{"$f":"Y114*(-HLOOKUP($B$54,'04_Wirtschaftlichkeit'!$E$44:$L$57,7,FALSE)-HLOOKUP($B$54,'04_Wirtschaftlichkeit'!$E$44:$L$57,5,FALSE))","v":-84207.9},{"$f":"Z114*(-HLOOKUP($B$54,'04_Wirtschaftlichkeit'!$E$44:$L$57,7,FALSE)-HLOOKUP($B$54,'04_Wirtschaftlichkeit'!$E$44:$L$57,5,FALSE))","v":-84207.9},{"$f":"AA114*(-HLOOKUP($B$54,'04_Wirtschaftlichkeit'!$E$44:$L$57,7,FALSE)-HLOOKUP($B$54,'04_Wirtschaftlichkeit'!$E$44:$L$57,5,FALSE))","v":-84207.9},{"$f":"AB114*(-HLOOKUP($B$54,'04_Wirtschaftlichkeit'!$E$44:$L$57,7,FALSE)-HLOOKUP($B$54,'04_Wirtschaftlichkeit'!$E$44:$L$57,5,FALSE))","v":-84207.9},{"$f":"AC114*(-HLOOKUP($B$54,'04_Wirtschaftlichkeit'!$E$44:$L$57,7,FALSE)-HLOOKUP($B$54,'04_Wirtschaftlichkeit'!$E$44:$L$57,5,FALSE))","v":-84207.9},{"$f":"AD114*(-HLOOKUP($B$54,'04_Wirtschaftlichkeit'!$E$44:$L$57,7,FALSE)-HLOOKUP($B$54,'04_Wirtschaftlichkeit'!$E$44:$L$57,5,FALSE))","v":-84207.9},{"$f":"AE114*(-HLOOKUP($B$54,'04_Wirtschaftlichkeit'!$E$44:$L$57,7,FALSE)-HLOOKUP($B$54,'04_Wirtschaftlichkeit'!$E$44:$L$57,5,FALSE))","v":-84207.9},{"$f":"AF114*(-HLOOKUP($B$54,'04_Wirtschaftlichkeit'!$E$44:$L$57,7,FALSE)-HLOOKUP($B$54,'04_Wirtschaftlichkeit'!$E$44:$L$57,5,FALSE))","v":0},{"$f":"AG114*(-HLOOKUP($B$54,'04_Wirtschaftlichkeit'!$E$44:$L$57,7,FALSE)-HLOOKUP($B$54,'04_Wirtschaftlichkeit'!$E$44:$L$57,5,FALSE))","v":0},{"$f":"AH114*(-HLOOKUP($B$54,'04_Wirtschaftlichkeit'!$E$44:$L$57,7,FALSE)-HLOOKUP($B$54,'04_Wirtschaftlichkeit'!$E$44:$L$57,5,FALSE))","v":0},{"$f":"AI114*(-HLOOKUP($B$54,'04_Wirtschaftlichkeit'!$E$44:$L$57,7,FALSE)-HLOOKUP($B$54,'04_Wirtschaftlichkeit'!$E$44:$L$57,5,FALSE))","v":0},{"$f":"AJ114*(-HLOOKUP($B$54,'04_Wirtschaftlichkeit'!$E$44:$L$57,7,FALSE)-HLOOKUP($B$54,'04_Wirtschaftlichkeit'!$E$44:$L$57,5,FALSE))","v":0},{"$f":"AK114*(-HLOOKUP($B$54,'04_Wirtschaftlichkeit'!$E$44:$L$57,7,FALSE)-HLOOKUP($B$54,'04_Wirtschaftlichkeit'!$E$44:$L$57,5,FALSE))","v":0},{"$f":"AL114*(-HLOOKUP($B$54,'04_Wirtschaftlichkeit'!$E$44:$L$57,7,FALSE)-HLOOKUP($B$54,'04_Wirtschaftlichkeit'!$E$44:$L$57,5,FALSE))","v":0},{"$f":"AM114*(-HLOOKUP($B$54,'04_Wirtschaftlichkeit'!$E$44:$L$57,7,FALSE)-HLOOKUP($B$54,'04_Wirtschaftlichkeit'!$E$44:$L$57,5,FALSE))","v":0},{"$f":"AN114*(-HLOOKUP($B$54,'04_Wirtschaftlichkeit'!$E$44:$L$57,7,FALSE)-HLOOKUP($B$54,'04_Wirtschaftlichkeit'!$E$44:$L$57,5,FALSE))","v":0},{"$f":"AO114*(-HLOOKUP($B$54,'04_Wirtschaftlichkeit'!$E$44:$L$57,7,FALSE)-HLOOKUP($B$54,'04_Wirtschaftlichkeit'!$E$44:$L$57,5,FALSE))","v":0},{"$f":"AP114*(-HLOOKUP($B$54,'04_Wirtschaftlichkeit'!$E$44:$L$57,7,FALSE)-HLOOKUP($B$54,'04_Wirtschaftlichkeit'!$E$44:$L$57,5,FALSE))","v":0},{"$f":"AQ114*(-HLOOKUP($B$54,'04_Wirtschaftlichkeit'!$E$44:$L$57,7,FALSE)-HLOOKUP($B$54,'04_Wirtschaftlichkeit'!$E$44:$L$57,5,FALSE))","v":0},{"$f":"AR114*(-HLOOKUP($B$54,'04_Wirtschaftlichkeit'!$E$44:$L$57,7,FALSE)-HLOOKUP($B$54,'04_Wirtschaftlichkeit'!$E$44:$L$57,5,FALSE))","v":0},{"$f":"AS114*(-HLOOKUP($B$54,'04_Wirtschaftlichkeit'!$E$44:$L$57,7,FALSE)-HLOOKUP($B$54,'04_Wirtschaftlichkeit'!$E$44:$L$57,5,FALSE))","v":0},{"$f":"AT114*(-HLOOKUP($B$54,'04_Wirtschaftlichkeit'!$E$44:$L$57,7,FALSE)-HLOOKUP($B$54,'04_Wirtschaftlichkeit'!$E$44:$L$57,5,FALSE))","v":0},{"$f":"AU114*(-HLOOKUP($B$54,'04_Wirtschaftlichkeit'!$E$44:$L$57,7,FALSE)-HLOOKUP($B$54,'04_Wirtschaftlichkeit'!$E$44:$L$57,5,FALSE))","v":0},{"$f":"AV114*(-HLOOKUP($B$54,'04_Wirtschaftlichkeit'!$E$44:$L$57,7,FALSE)-HLOOKUP($B$54,'04_Wirtschaftlichkeit'!$E$44:$L$57,5,FALSE))","v":0},{"$f":"AW114*(-HLOOKUP($B$54,'04_Wirtschaftlichkeit'!$E$44:$L$57,7,FALSE)-HLOOKUP($B$54,'04_Wirtschaftlichkeit'!$E$44:$L$57,5,FALSE))","v":0},{"$f":"AX114*(-HLOOKUP($B$54,'04_Wirtschaftlichkeit'!$E$44:$L$57,7,FALSE)-HLOOKUP($B$54,'04_Wirtschaftlichkeit'!$E$44:$L$57,5,FALSE))","v":0},{"$f":"AY114*(-HLOOKUP($B$54,'04_Wirtschaftlichkeit'!$E$44:$L$57,7,FALSE)-HLOOKUP($B$54,'04_Wirtschaftlichkeit'!$E$44:$L$57,5,FALSE))","v":0},{"$f":"AZ114*(-HLOOKUP($B$54,'04_Wirtschaftlichkeit'!$E$44:$L$57,7,FALSE)-HLOOKUP($B$54,'04_Wirtschaftlichkeit'!$E$44:$L$57,5,FALSE))","v":0},{"$f":"BA114*(-HLOOKUP($B$54,'04_Wirtschaftlichkeit'!$E$44:$L$57,7,FALSE)-HLOOKUP($B$54,'04_Wirtschaftlichkeit'!$E$44:$L$57,5,FALSE))","v":0}]
[null,"Betr.-Dauer",{"$f":"IF('04_Wirtschaftlichkeit'!$F$17*(1+$B117)>=Nebenrechnungen!C$55,1,0)","v":1},{"$f":"IF('04_Wirtschaftlichkeit'!$F$17*(1+$B117)>=Nebenrechnungen!D$55,1,0)","v":1},{"$f":"IF('04_Wirtschaftlichkeit'!$F$17*(1+$B117)>=Nebenrechnungen!E$55,1,0)","v":1},{"$f":"IF('04_Wirtschaftlichkeit'!$F$17*(1+$B117)>=Nebenrechnungen!F$55,1,0)","v":1},{"$f":"IF('04_Wirtschaftlichkeit'!$F$17*(1+$B117)>=Nebenrechnungen!G$55,1,0)","v":1},{"$f":"IF('04_Wirtschaftlichkeit'!$F$17*(1+$B117)>=Nebenrechnungen!H$55,1,0)","v":1},{"$f":"IF('04_Wirtschaftlichkeit'!$F$17*(1+$B117)>=Nebenrechnungen!I$55,1,0)","v":1},{"$f":"IF('04_Wirtschaftlichkeit'!$F$17*(1+$B117)>=Nebenrechnungen!J$55,1,0)","v":1},{"$f":"IF('04_Wirtschaftlichkeit'!$F$17*(1+$B117)>=Nebenrechnungen!K$55,1,0)","v":1},{"$f":"IF('04_Wirtschaftlichkeit'!$F$17*(1+$B117)>=Nebenrechnungen!L$55,1,0)","v":1},{"$f":"IF('04_Wirtschaftlichkeit'!$F$17*(1+$B117)>=Nebenrechnungen!M$55,1,0)","v":1},{"$f":"IF('04_Wirtschaftlichkeit'!$F$17*(1+$B117)>=Nebenrechnungen!N$55,1,0)","v":1},{"$f":"IF('04_Wirtschaftlichkeit'!$F$17*(1+$B117)>=Nebenrechnungen!O$55,1,0)","v":1},{"$f":"IF('04_Wirtschaftlichkeit'!$F$17*(1+$B117)>=Nebenrechnungen!P$55,1,0)","v":1},{"$f":"IF('04_Wirtschaftlichkeit'!$F$17*(1+$B117)>=Nebenrechnungen!Q$55,1,0)","v":1},{"$f":"IF('04_Wirtschaftlichkeit'!$F$17*(1+$B117)>=Nebenrechnungen!R$55,1,0)","v":1},{"$f":"IF('04_Wirtschaftlichkeit'!$F$17*(1+$B117)>=Nebenrechnungen!S$55,1,0)","v":1},{"$f":"IF('04_Wirtschaftlichkeit'!$F$17*(1+$B117)>=Nebenrechnungen!T$55,1,0)","v":1},{"$f":"IF('04_Wirtschaftlichkeit'!$F$17*(1+$B117)>=Nebenrechnungen!U$55,1,0)","v":1},{"$f":"IF('04_Wirtschaftlichkeit'!$F$17*(1+$B117)>=Nebenrechnungen!V$55,1,0)","v":1},{"$f":"IF('04_Wirtschaftlichkeit'!$F$17*(1+$B117)>=Nebenrechnungen!W$55,1,0)","v":1},{"$f":"IF('04_Wirtschaftlichkeit'!$F$17*(1+$B117)>=Nebenrechnungen!X$55,1,0)","v":1},{"$f":"IF('04_Wirtschaftlichkeit'!$F$17*(1+$B117)>=Nebenrechnungen!Y$55,1,0)","v":1},{"$f":"IF('04_Wirtschaftlichkeit'!$F$17*(1+$B117)>=Nebenrechnungen!Z$55,1,0)","v":1},{"$f":"IF('04_Wirtschaftlichkeit'!$F$17*(1+$B117)>=Nebenrechnungen!AA$55,1,0)","v":1},{"$f":"IF('04_Wirtschaftlichkeit'!$F$17*(1+$B117)>=Nebenrechnungen!AB$55,1,0)","v":1},{"$f":"IF('04_Wirtschaftlichkeit'!$F$17*(1+$B117)>=Nebenrechnungen!AC$55,1,0)","v":1},{"$f":"IF('04_Wirtschaftlichkeit'!$F$17*(1+$B117)>=Nebenrechnungen!AD$55,1,0)","v":1},{"$f":"IF('04_Wirtschaftlichkeit'!$F$17*(1+$B117)>=Nebenrechnungen!AE$55,1,0)","v":1},{"$f":"IF('04_Wirtschaftlichkeit'!$F$17*(1+$B117)>=Nebenrechnungen!AF$55,1,0)","v":1},{"$f":"IF('04_Wirtschaftlichkeit'!$F$17*(1+$B117)>=Nebenrechnungen!AG$55,1,0)","v":1},{"$f":"IF('04_Wirtschaftlichkeit'!$F$17*(1+$B117)>=Nebenrechnungen!AH$55,1,0)","v":0},{"$f":"IF('04_Wirtschaftlichkeit'!$F$17*(1+$B117)>=Nebenrechnungen!AI$55,1,0)","v":0},{"$f":"IF('04_Wirtschaftlichkeit'!$F$17*(1+$B117)>=Nebenrechnungen!AJ$55,1,0)","v":0},{"$f":"IF('04_Wirtschaftlichkeit'!$F$17*(1+$B117)>=Nebenrechnungen!AK$55,1,0)","v":0},{"$f":"IF('04_Wirtschaftlichkeit'!$F$17*(1+$B117)>=Nebenrechnungen!AL$55,1,0)","v":0},{"$f":"IF('04_Wirtschaftlichkeit'!$F$17*(1+$B117)>=Nebenrechnungen!AM$55,1,0)","v":0},{"$f":"IF('04_Wirtschaftlichkeit'!$F$17*(1+$B117)>=Nebenrechnungen!AN$55,1,0)","v":0},{"$f":"IF('04_Wirtschaftlichkeit'!$F$17*(1+$B117)>=Nebenrechnungen!AO$55,1,0)","v":0},{"$f":"IF('04_Wirtschaftlichkeit'!$F$17*(1+$B117)>=Nebenrechnungen!AP$55,1,0)","v":0},{"$f":"IF('04_Wirtschaftlichkeit'!$F$17*(1+$B117)>=Nebenrechnungen!AQ$55,1,0)","v":0},{"$f":"IF('04_Wirtschaftlichkeit'!$F$17*(1+$B117)>=Nebenrechnungen!AR$55,1,0)","v":0},{"$f":"IF('04_Wirtschaftlichkeit'!$F$17*(1+$B117)>=Nebenrechnungen!AS$55,1,0)","v":0},{"$f":"IF('04_Wirtschaftlichkeit'!$F$17*(1+$B117)>=Nebenrechnungen!AT$55,1,0)","v":0},{"$f":"IF('04_Wirtschaftlichkeit'!$F$17*(1+$B117)>=Nebenrechnungen!AU$55,1,0)","v":0},{"$f":"IF('04_Wirtschaftlichkeit'!$F$17*(1+$B117)>=Nebenrechnungen!AV$55,1,0)","v":0},{"$f":"IF('04_Wirtschaftlichkeit'!$F$17*(1+$B117)>=Nebenrechnungen!AW$55,1,0)","v":0},{"$f":"IF('04_Wirtschaftlichkeit'!$F$17*(1+$B117)>=Nebenrechnungen!AX$55,1,0)","v":0},{"$f":"IF('04_Wirtschaftlichkeit'!$F$17*(1+$B117)>=Nebenrechnungen!AY$55,1,0)","v":0},{"$f":"IF('04_Wirtschaftlichkeit'!$F$17*(1+$B117)>=Nebenrechnungen!AZ$55,1,0)","v":0},{"$f":"IF('04_Wirtschaftlichkeit'!$F$17*(1+$B117)>=Nebenrechnungen!BA$55,1,0)","v":0}]
[null,0.5,{"$f":"-HLOOKUP($B$54,'04_Wirtschaftlichkeit'!$E$44:$L$57,6,FALSE)","v":-1057830.7168757692},{"$f":"D116*(-HLOOKUP($B$54,'04_Wirtschaftlichkeit'!$E$44:$L$57,7,FALSE)-HLOOKUP($B$54,'04_Wirtschaftlichkeit'!$E$44:$L$57,5,FALSE))","v":-84207.9},{"$f":"E116*(-HLOOKUP($B$54,'04_Wirtschaftlichkeit'!$E$44:$L$57,7,FALSE)-HLOOKUP($B$54,'04_Wirtschaftlichkeit'!$E$44:$L$57,5,FALSE))","v":-84207.9},{"$f":"F116*(-HLOOKUP($B$54,'04_Wirtschaftlichkeit'!$E$44:$L$57,7,FALSE)-HLOOKUP($B$54,'04_Wirtschaftlichkeit'!$E$44:$L$57,5,FALSE))","v":-84207.9},{"$f":"G116*(-HLOOKUP($B$54,'04_Wirtschaftlichkeit'!$E$44:$L$57,7,FALSE)-HLOOKUP($B$54,'04_Wirtschaftlichkeit'!$E$44:$L$57,5,FALSE))","v":-84207.9},{"$f":"H116*(-HLOOKUP($B$54,'04_Wirtschaftlichkeit'!$E$44:$L$57,7,FALSE)-HLOOKUP($B$54,'04_Wirtschaftlichkeit'!$E$44:$L$57,5,FALSE))","v":-84207.9},{"$f":"I116*(-HLOOKUP($B$54,'04_Wirtschaftlichkeit'!$E$44:$L$57,7,FALSE)-HLOOKUP($B$54,'04_Wirtschaftlichkeit'!$E$44:$L$57,5,FALSE))","v":-84207.9},{"$f":"J116*(-HLOOKUP($B$54,'04_Wirtschaftlichkeit'!$E$44:$L$57,7,FALSE)-HLOOKUP($B$54,'04_Wirtschaftlichkeit'!$E$44:$L$57,5,FALSE))","v":-84207.9},{"$f":"K116*(-HLOOKUP($B$54,'04_Wirtschaftlichkeit'!$E$44:$L$57,7,FALSE)-HLOOKUP($B$54,'04_Wirtschaftlichkeit'!$E$44:$L$57,5,FALSE))","v":-84207.9},{"$f":"L116*(-HLOOKUP($B$54,'04_Wirtschaftlichkeit'!$E$44:$L$57,7,FALSE)-HLOOKUP($B$54,'04_Wirtschaftlichkeit'!$E$44:$L$57,5,FALSE))","v":-84207.9},{"$f":"M116*(-HLOOKUP($B$54,'04_Wirtschaftlichkeit'!$E$44:$L$57,7,FALSE)-HLOOKUP($B$54,'04_Wirtschaftlichkeit'!$E$44:$L$57,5,FALSE))","v":-84207.9},{"$f":"N116*(-HLOOKUP($B$54,'04_Wirtschaftlichkeit'!$E$44:$L$57,7,FALSE)-HLOOKUP($B$54,'04_Wirtschaftlichkeit'!$E$44:$L$57,5,FALSE))","v":-84207.9},{"$f":"O116*(-HLOOKUP($B$54,'04_Wirtschaftlichkeit'!$E$44:$L$57,7,FALSE)-HLOOKUP($B$54,'04_Wirtschaftlichkeit'!$E$44:$L$57,5,FALSE))","v":-84207.9},{"$f":"P116*(-HLOOKUP($B$54,'04_Wirtschaftlichkeit'!$E$44:$L$57,7,FALSE)-HLOOKUP($B$54,'04_Wirtschaftlichkeit'!$E$44:$L$57,5,FALSE))","v":-84207.9},{"$f":"Q116*(-HLOOKUP($B$54,'04_Wirtschaftlichkeit'!$E$44:$L$57,7,FALSE)-HLOOKUP($B$54,'04_Wirtschaftlichkeit'!$E$44:$L$57,5,FALSE))","v":-84207.9},{"$f":"R116*(-HLOOKUP($B$54,'04_Wirtschaftlichkeit'!$E$44:$L$57,7,FALSE)-HLOOKUP($B$54,'04_Wirtschaftlichkeit'!$E$44:$L$57,5,FALSE))","v":-84207.9},{"$f":"S116*(-HLOOKUP($B$54,'04_Wirtschaftlichkeit'!$E$44:$L$57,7,FALSE)-HLOOKUP($B$54,'04_Wirtschaftlichkeit'!$E$44:$L$57,5,FALSE))","v":-84207.9},{"$f":"T116*(-HLOOKUP($B$54,'04_Wirtschaftlichkeit'!$E$44:$L$57,7,FALSE)-HLOOKUP($B$54,'04_Wirtschaftlichkeit'!$E$44:$L$57,5,FALSE))","v":-84207.9},{"$f":"U116*(-HLOOKUP($B$54,'04_Wirtschaftlichkeit'!$E$44:$L$57,7,FALSE)-HLOOKUP($B$54,'04_Wirtschaftlichkeit'!$E$44:$L$57,5,FALSE))","v":-84207.9},{"$f":"V116*(-HLOOKUP($B$54,'04_Wirtschaftlichkeit'!$E$44:$L$57,7,FALSE)-HLOOKUP($B$54,'04_Wirtschaftlichkeit'!$E$44:$L$57,5,FALSE))","v":-84207.9},{"$f":"W116*(-HLOOKUP($B$54,'04_Wirtschaftlichkeit'!$E$44:$L$57,7,FALSE)-HLOOKUP($B$54,'04_Wirtschaftlichkeit'!$E$44:$L$57,5,FALSE))","v":-84207.9},{"$f":"X116*(-HLOOKUP($B$54,'04_Wirtschaftlichkeit'!$E$44:$L$57,7,FALSE)-HLOOKUP($B$54,'04_Wirtschaftlichkeit'!$E$44:$L$57,5,FALSE))","v":-84207.9},{"$f":"Y116*(-HLOOKUP($B$54,'04_Wirtschaftlichkeit'!$E$44:$L$57,7,FALSE)-HLOOKUP($B$54,'04_Wirtschaftlichkeit'!$E$44:$L$57,5,FALSE))","v":-84207.9},{"$f":"Z116*(-HLOOKUP($B$54,'04_Wirtschaftlichkeit'!$E$44:$L$57,7,FALSE)-HLOOKUP($B$54,'04_Wirtschaftlichkeit'!$E$44:$L$57,5,FALSE))","v":-84207.9},{"$f":"AA116*(-HLOOKUP($B$54,'04_Wirtschaftlichkeit'!$E$44:$L$57,7,FALSE)-HLOOKUP($B$54,'04_Wirtschaftlichkeit'!$E$44:$L$57,5,FALSE))","v":-84207.9},{"$f":"AB116*(-HLOOKUP($B$54,'04_Wirtschaftlichkeit'!$E$44:$L$57,7,FALSE)-HLOOKUP($B$54,'04_Wirtschaftlichkeit'!$E$44:$L$57,5,FALSE))","v":-84207.9},{"$f":"AC116*(-HLOOKUP($B$54,'04_Wirtschaftlichkeit'!$E$44:$L$57,7,FALSE)-HLOOKUP($B$54,'04_Wirtschaftlichkeit'!$E$44:$L$57,5,FALSE))","v":-84207.9},{"$f":"AD116*(-HLOOKUP($B$54,'04_Wirtschaftlichkeit'!$E$44:$L$57,7,FALSE)-HLOOKUP($B$54,'04_Wirtschaftlichkeit'!$E$44:$L$57,5,FALSE))","v":-84207.9},{"$f":"AE116*(-HLOOKUP($B$54,'04_Wirtschaftlichkeit'!$E$44:$L$57,7,FALSE)-HLOOKUP($B$54,'04_Wirtschaftlichkeit'!$E$44:$L$57,5,FALSE))","v":-84207.9},{"$f":"AF116*(-HLOOKUP($B$54,'04_Wirtschaftlichkeit'!$E$44:$L$57,7,FALSE)-HLOOKUP($B$54,'04_Wirtschaftlichkeit'!$E$44:$L$57,5,FALSE))","v":-84207.9},{"$f":"AG116*(-HLOOKUP($B$54,'04_Wirtschaftlichkeit'!$E$44:$L$57,7,FALSE)-HLOOKUP($B$54,'04_Wirtschaftlichkeit'!$E$44:$L$57,5,FALSE))","v":-84207.9},{"$f":"AH116*(-HLOOKUP($B$54,'04_Wirtschaftlichkeit'!$E$44:$L$57,7,FALSE)-HLOOKUP($B$54,'04_Wirtschaftlichkeit'!$E$44:$L$57,5,FALSE))","v":0},{"$f":"AI116*(-HLOOKUP($B$54,'04_Wirtschaftlichkeit'!$E$44:$L$57,7,FALSE)-HLOOKUP($B$54,'04_Wirtschaftlichkeit'!$E$44:$L$57,5,FALSE))","v":0},{"$f":"AJ116*(-HLOOKUP($B$54,'04_Wirtschaftlichkeit'!$E$44:$L$57,7,FALSE)-HLOOKUP($B$54,'04_Wirtschaftlichkeit'!$E$44:$L$57,5,FALSE))","v":0},{"$f":"AK116*(-HLOOKUP($B$54,'04_Wirtschaftlichkeit'!$E$44:$L$57,7,FALSE)-HLOOKUP($B$54,'04_Wirtschaftlichkeit'!$E$44:$L$57,5,FALSE))","v":0},{"$f":"AL116*(-HLOOKUP($B$54,'04_Wirtschaftlichkeit'!$E$44:$L$57,7,FALSE)-HLOOKUP($B$54,'04_Wirtschaftlichkeit'!$E$44:$L$57,5,FALSE))","v":0},{"$f":"AM116*(-HLOOKUP($B$54,'04_Wirtschaftlichkeit'!$E$44:$L$57,7,FALSE)-HLOOKUP($B$54,'04_Wirtschaftlichkeit'!$E$44:$L$57,5,FALSE))","v":0},{"$f":"AN116*(-HLOOKUP($B$54,'04_Wirtschaftlichkeit'!$E$44:$L$57,7,FALSE)-HLOOKUP($B$54,'04_Wirtschaftlichkeit'!$E$44:$L$57,5,FALSE))","v":0},{"$f":"AO116*(-HLOOKUP($B$54,'04_Wirtschaftlichkeit'!$E$44:$L$57,7,FALSE)-HLOOKUP($B$54,'04_Wirtschaftlichkeit'!$E$44:$L$57,5,FALSE))","v":0},{"$f":"AP116*(-HLOOKUP($B$54,'04_Wirtschaftlichkeit'!$E$44:$L$57,7,FALSE)-HLOOKUP($B$54,'04_Wirtschaftlichkeit'!$E$44:$L$57,5,FALSE))","v":0},{"$f":"AQ116*(-HLOOKUP($B$54,'04_Wirtschaftlichkeit'!$E$44:$L$57,7,FALSE)-HLOOKUP($B$54,'04_Wirtschaftlichkeit'!$E$44:$L$57,5,FALSE))","v":0},{"$f":"AR116*(-HLOOKUP($B$54,'04_Wirtschaftlichkeit'!$E$44:$L$57,7,FALSE)-HLOOKUP($B$54,'04_Wirtschaftlichkeit'!$E$44:$L$57,5,FALSE))","v":0},{"$f":"AS116*(-HLOOKUP($B$54,'04_Wirtschaftlichkeit'!$E$44:$L$57,7,FALSE)-HLOOKUP($B$54,'04_Wirtschaftlichkeit'!$E$44:$L$57,5,FALSE))","v":0},{"$f":"AT116*(-HLOOKUP($B$54,'04_Wirtschaftlichkeit'!$E$44:$L$57,7,FALSE)-HLOOKUP($B$54,'04_Wirtschaftlichkeit'!$E$44:$L$57,5,FALSE))","v":0},{"$f":"AU116*(-HLOOKUP($B$54,'04_Wirtschaftlichkeit'!$E$44:$L$57,7,FALSE)-HLOOKUP($B$54,'04_Wirtschaftlichkeit'!$E$44:$L$57,5,FALSE))","v":0},{"$f":"AV116*(-HLOOKUP($B$54,'04_Wirtschaftlichkeit'!$E$44:$L$57,7,FALSE)-HLOOKUP($B$54,'04_Wirtschaftlichkeit'!$E$44:$L$57,5,FALSE))","v":0},{"$f":"AW116*(-HLOOKUP($B$54,'04_Wirtschaftlichkeit'!$E$44:$L$57,7,FALSE)-HLOOKUP($B$54,'04_Wirtschaftlichkeit'!$E$44:$L$57,5,FALSE))","v":0},{"$f":"AX116*(-HLOOKUP($B$54,'04_Wirtschaftlichkeit'!$E$44:$L$57,7,FALSE)-HLOOKUP($B$54,'04_Wirtschaftlichkeit'!$E$44:$L$57,5,FALSE))","v":0},{"$f":"AY116*(-HLOOKUP($B$54,'04_Wirtschaftlichkeit'!$E$44:$L$57,7,FALSE)-HLOOKUP($B$54,'04_Wirtschaftlichkeit'!$E$44:$L$57,5,FALSE))","v":0},{"$f":"AZ116*(-HLOOKUP($B$54,'04_Wirtschaftlichkeit'!$E$44:$L$57,7,FALSE)-HLOOKUP($B$54,'04_Wirtschaftlichkeit'!$E$44:$L$57,5,FALSE))","v":0},{"$f":"BA116*(-HLOOKUP($B$54,'04_Wirtschaftlichkeit'!$E$44:$L$57,7,FALSE)-HLOOKUP($B$54,'04_Wirtschaftlichkeit'!$E$44:$L$57,5,FALSE))","v":0}]
[]
[]
[]
[]
[null,"Umrechnung der Einheiten aus dem GHG Protokoll",null,null,null,null,null,null,null,"Mit Umrechnung der Einheiten in SI"]
[null,"Fuel Type","Heat Content (HHV)","Unit","CO2 Factor\n(kg CO2 per unit)","CH4 Factor\n(g CH4 per unit)","N2O Factor\n(g N2O per unit)","Biogenic CO2 Factor\n(kg Biogenic CO2 per unit)","IPCC AR5\n(kgCO2e)","CO2 Factor\n(kg CO2 / kWh)","CH4 Factor\n(g CH4 / kWh)","N2O Factor\n(g N2O / kWh)","Biogenic CO2 Factor\n(kg Biogenic CO2 / kWh)","IPCC AR5\n(kgCO2e / kWh)"]
[null,"Antrazit",25.09,"mmBtu",103.69,11,1.6,null,104.42200000000001,{"$f":"E124*0.00341214163312794","v":0.3538049659390361},3.7533557964407341E-2,5.4594266130047042E-3,null,{"$f":"I124*0.00341214163312794","v":0.35630265361448576}]
[null,"Bituminous Coal",24.93,"mmBtu",93.28,11,1.6,null,94.012000000000015,0.31828457153817424,3.7533557964407341E-2,5.4594266130047042E-3,null,0.32078225921362391]
[null,"Braunkohle",14.21,"mmBtu",97.72,11,1.6,null,98.452000000000012,0.33343448038926227,3.7533557964407341E-2,5.4594266130047042E-3,null,0.33593216806471199]
[null,"Steinkohlekoks",24.8,"mmBtu",113.67,11,1.6,null,114.40200000000002,0.3878581394376529,3.7533557964407341E-2,5.4594266130047042E-3,null,0.39035582711310263]
[null,"Feste Siedlungsabfälle",9.9499999999999993,"mmBtu",90.7,32,4.2,null,92.709000000000003,0.30948124612470418,0.10918853226009408,1.4330994859137348E-2,null,0.31633623866565819]
[null,"Landwirtschaftliche Nebenerzeugnisse",8.25,"mmBtu",null,32,4.2,118.17,120.179,null,{"$f":"F129*0.00341214163312794","v":0.10918853226009408},1.4330994859137348E-2,0.40321277678672868,0.41006776932768269]
[null,"Torf",8,"mmBtu",null,32,4.2,111.84,113.849,null,0.10918853226009408,1.4330994859137348E-2,0.38161392024902879,0.38846891278998286]
[null,"Holz und Holzreste",17.48,"mmBtu",null,7.2,3.6,93.8,94.95559999999999,null,2.4567419758521166E-2,1.2283709879260583E-2,0.32005888518740078,0.32400195605864335]
[null,"Heizöl leicht",0.14000000000000001,"mmBtu",72.930000000000007,3,0.6,null,73.173000000000016,{"$f":"E132*0.00341214163312794","v":0.24884748930402067},1.023642489938382E-2,2.0472849798767638E-3,null,0.24967663972087079]
[null,"Heizöl schwer",0.15,"mmBtu",75.099999999999994,3,0.6,null,75.343000000000004,0.25625183664790829,1.023642489938382E-2,2.0472849798767638E-3,null,0.2570809870647584]
[null,"Erdgas",1.026E-3,"mmBtu",53.06,1,0.1,null,53.1145,0.18104823505376849,3.4121416331279399E-3,3.4121416331279401E-4,null,0.18123419677277397]
[null,"Biogas",6.5499999999999998E-4,"mmBtu",null,3.2,0.63,52.07,52.326549999999997,null,{"$f":"F135*0.00341214163312794","v":1.0918853226009408E-2},{"$f":"G135*0.00341214163312794","v":2.1496492288706022E-3},{"$f":"H135*0.00341214163312794","v":0.17767021483697182},0.17854559977295079]
[null,"Gichtgas",9.2E-5,"mmBtu",274.32,2.2000000000000002E-2,0.1,null,274.34711599999997,{"$f":"E136*0.00341214163312794","v":0.93601869279965644},7.5067115928814689E-5,3.4121416331279401E-4,null,0.93611121643218032]
[null,"Flüssiggas",2.516E-3,"mmBtu",61.46,3,0.6,null,61.703000000000003,0.20971022477204318,1.023642489938382E-2,2.0472849798767638E-3,null,0.21053937518889329]
[null,"Deponiegas",4.8500000000000003E-4,"mmBtu",null,3.2,0.63,52.07,52.326549999999997,null,{"$f":"F138*0.00341214163312794","v":1.0918853226009408E-2},2.1496492288706022E-3,0.17767021483697182,0.17854559977295079]
[null,"Pflanzenöl",0.12,"mmBtu",null,1.1000000000000001,0.11,81.55,81.609949999999998,null,3.753355796440734E-3,3.7533557964407338E-4,0.27826015018158351,0.27846470807248952]
[null,"Bagasse (Reststoffe Zuckerrohr)",null,"mmBtu",null,1.9,0.42,95.5,95.664500000000004,null,6.4830691029430856E-3,1.4330994859137348E-3,0.32585952596371826,0.32642082326236782]
[null,"Benzin",null,"gal",8.7799999999999994,3.8925E-4,8.099999999999999E-5,null,8.8123639999999988,{"$f":"E141/3.7854/10","v":0.23194378401225763},1.0282929148834997E-5,2.1398002853067042E-6,0,0.23279875310403125]
[null,"Diesel",null,"gal",10.210000000000001,1.1249999999999999E-5,2.2499999999999998E-5,null,10.216277500000002,0.26972050509853651,2.9719448407037562E-7,5.9438896814075123E-7,0,0.26988633962064779]
[null,"Biodiesel",null,"gal",null,1.1249999999999999E-5,2.2499999999999998E-5,9.4499999999999993,6.2774999999999992E-3,0,2.9719448407037562E-7,5.9438896814075123E-7,0.24964336661911551,1.6583452211126959E-4]
[null,"Strommix",null,"kWh",null,null,null,null,null,0.72869000000000006,null,null,null,0.72869000000000006]
[null,"Ökostrom",null,"kWh",0,0,0,null,0,{"$f":"E145*0.00341214163312794","v":0},{"$f":"F145*0.00341214163312794","v":0},{"$f":"G145*0.00341214163312794","v":0},{"$f":"H145*0.00341214163312794","v":0},{"$f":"I145*0.00341214163312794","v":0}]
[null,"Dampf und Wärme",null,"mmBtu",66.33,1.25E-3,1.25E-4,null,66.398124999999993,{"$f":"E146*0.00341214163312794","v":0.22632735452537625},{"$f":"F146*0.00341214163312794","v":4.2651770414099253E-6},{"$f":"G146*0.00341214163312794","v":4.2651770414099252E-7},null,{"$f":"I146*0.00341214163312794","v":0.22655980667413306}]

{"sheet":"Technologie Berechnung","index":8,"n_rows":111,"n_cols":24,"rows_kept":111,"cut":false,"hidden":false,"merged":[[8,22,8,23],[1,6,1,7],[1,3,1,4],[1,9,1,10],[10,1,10,2],[5,0,5,1],[6,0,6,1]]}
[]
[null,null,null,"Eckdaten",null,null,"Kriterien",null,null,"Gewichtung von Entscheidungsparametern (0 bis 4)",null,null,"Energiebezugspreise","Wert zur Weiterberechnung","Voreingestellter Standardwert","Individuelle Eingabe","Individuelle Eingabe nutzen? (2=Ja)"]
[null,null,null,"Prozessart (1=Wärme; 2=Kälte)",1,null,"Öko-Strom?",true,null,"Investitionssumme",5,null,{"$f":"IF(H3=TRUE,\"Ökostrompreis [€/MWh]\",\"Strompreis [€/MWh]\")","v":"Ökostrompreis [€/MWh]"},{"$f":"IF(Q3=2,P3,O3)","v":210},{"$f":"IF(H3=TRUE,210,190)","v":210},{"$f":"'03_Nutzwertanalyse'!$M22","v":167},1]
[null,null,null,"Benötigte Temperatur [°C]",{"$f":"'03_Nutzwertanalyse'!E23","v":120},null,"Nutzbare Flächen im Gebäud vorhanden?",true,null,"Betriebskosten",5,null,"Wärmepreis [€/MWh]",{"$f":"IF(Q4=2,P4,O4)","v":70},70,{"$f":"'03_Nutzwertanalyse'!$M23","v":38.9},1]
[null,null,null,"Benötigte Leistung [kW]",{"$f":"'03_Nutzwertanalyse'!E24","v":4000},null,"Nutzbare Dachflächen vorhanden?",true,null,"Platzbedarf",0,null,"Biomethanpreis [€/MWh]",65,65,{"$f":"'03_Nutzwertanalyse'!$M24","v":55},1]
["A = Muss Ausgefüllt werden",null,null,"Benötigte Nutzenergiemenge [MWh/a]",{"$f":"'03_Nutzwertanalyse'!E25","v":615},null,"Nutzbare Freiflächen vorhanden?",true,null,"CO2-Emission",5,null,"Holzpelletpreis [€/MWh]",53.163211057947905,{"$f":"((250/990)/4.75)*1000","v":53.163211057947905},{"$f":"'03_Nutzwertanalyse'!$M25","v":50},1]
["r = Errechnet sich gemäß Formel automatisch",null,null,"Kapitalkosten",{"$f":"'03_Nutzwertanalyse'!E26","v":0.05},null,"Marktreife zwingend",true,null,null,null,null,"Holzhackschnitzel [€/MWh]",25,25,{"$f":"'03_Nutzwertanalyse'!$M26","v":35},1]
[null,null,null,"Für Absorptionskälte: CO2-Emission der Wärme",{"$f":"'03_Nutzwertanalyse'!#REF!","v":{"$error":"#REF!"}},null,"Abwärme für Kälte?",true,null,null,null,null,"Erdgaspreis Industrie  [€/MWh]",25.3,{"$f":"2.53*1000/100","v":25.3},{"$f":"'03_Nutzwertanalyse'!$M27","v":50},1]
[null,null,null,null,null,null,null,null,null,null,null,null,null,null,null,null,null,null,null,null,null,null,"REFERENZ Technologien"]
[]
[null,"Technologie",null,"Flachkollektor","Vakuumröhrenkollektor","Konzentrierende Solarthermie","Biogas BW-Kessel","Holzpelletkessel","Holzhackschnitzelkessel","Sole/Wasser-Wärmepumpe","Luft-Wasser-Wärmepumpe","Wasser/Wasser-Wärmepumpe","Hochtemperaturwärmepumpe","Höchsttemperaturwärmepumpe","Mikrowelle","Elektrokessel","Elektrodenkessel","Absorptionskälteanlagen - Wasser","Absorptionskälteanlagen - Ammoniak","Absorptionskälteanlagen - Ammoniak","Adsorptionsanlagen","Kompressionskälte","Erdgas BW-Kessel","Erdgas Dampferzeuger"]
[]
[null,"Kategorie",null,"Solar","Solar","Solar","Biomasse","Biomasse","Biomasse","Wärmepumpe","Wärmepumpe","Wärmepumpe","Wärmepumpe","Wärmepumpe","P2H","P2H","P2H",null,null,null,null,null,"Fossil","Fossil"]
[null,"Technologie in Analyse mit betrachten?",null,"Ja","Ja","Ja","Ja","Ja","Ja","Ja","Ja","Ja","Nein","Nein","Nein","Ja","Ja","Ja","Ja","Ja","Nein","Ja","Nein","Nein"]
[null,"Wenn nicht Betrachtet, Warum?",null,null,null,null,null,null,null,null,null,null,"Noch nicht vollständig","Nicht zu erwerben","Ersetzt Prozess nicht Technologie",null,null,null,null,null,"Nicht für Industrie verfügbar",null,"Referenz","Referenz"]
[null,null,null,null,null,null,null,null,null,null,null,null,null,null,"In Bericht begründen"]
[null,"Daten und Berechungen "]
["A","Prozessart","[]","Wärme","Wärme","Wärme","Wärme","Wärme","Wärme","Wärme","Wärme","Wärme","Wärme","Wärme","Wärme","Wärme","Wärme","Kälte","Kälte","Kälte","Kälte","Kälte","Wärme","Wärme"]
["A","Temperatur Min.","[°C]",20,20,100,20,20,20,20,20,20,80,120,20,20,20,4,-33,-60,-60,-33,20,20]
["A","Temperatur Max.","[°C]",80,120,400,500,500,500,80,80,80,120,160,150,160,240,20,20,-34,20,20,500,250]
[]
["A","Energiequelle","[]","Solarstrahlung","Solarstrahlung","Solarstrahlung","Biomethan","Holzpellets","Holzhackschnitzel","Strom | Geothermie","Strom | Umgebungsluft","Strom | Grundwasser",null,null,"Strom","Strom","Strom","Wärme","Wärme","Wärme","Wärme","Strom","Erdgas","Erdgas"]
["A","Für WP - Wärmequelle","[]",{"$error":"#N/A"},{"$error":"#N/A"},{"$error":"#N/A"},{"$error":"#N/A"},{"$error":"#N/A"},{"$error":"#N/A"},"Geothermie","Umgebungsluft","Grundwasser",null,null,{"$error":"#N/A"},{"$error":"#N/A"},{"$error":"#N/A"},"Abwärme | Fernwärme","Abwärme | Fernwärme","Abwärme | Fernwärme","Abwärme | Fernwärme","Kühlmedium",{"$error":"#N/A"},{"$error":"#N/A"}]
["A","Für WP - Tmperatur Wärmesenke","[°C]",{"$error":"#N/A"},{"$error":"#N/A"},{"$error":"#N/A"},{"$error":"#N/A"},{"$error":"#N/A"},{"$error":"#N/A"},{"$f":"$E$4","v":120},{"$f":"$E$4","v":120},{"$f":"$E$4","v":120},{"$f":"$E$4","v":120},{"$f":"$E$4","v":120},{"$error":"#N/A"},{"$error":"#N/A"},{"$error":"#N/A"},60,60,60,60,{"$f":"15+5","v":20},{"$error":"#N/A"},{"$error":"#N/A"}]
["A","Für WP - Tmperatur Wärmequelle","[°C]",{"$error":"#N/A"},{"$error":"#N/A"},{"$error":"#N/A"},{"$error":"#N/A"},{"$error":"#N/A"},{"$error":"#N/A"},16,10,13.5,15,15,{"$error":"#N/A"},{"$error":"#N/A"},{"$error":"#N/A"},{"$f":"$E$4","v":120},{"$f":"$E$4","v":120},{"$f":"$E$4","v":120},{"$f":"$E$4","v":120},{"$f":"$E$4","v":120},{"$error":"#N/A"},{"$error":"#N/A"}]
["A","Für WP - Gütegrad","[]",{"$error":"#N/A"},{"$error":"#N/A"},{"$error":"#N/A"},{"$error":"#N/A"},{"$error":"#N/A"},{"$error":"#N/A"},0.45,0.45,0.45,0.45,0.45,{"$error":"#N/A"},{"$error":"#N/A"},{"$error":"#N/A"},0.2,0.2,0.2,0.2,0.45,{"$error":"#N/A"},{"$error":"#N/A"}]
["r","Für WP - Rechnerischer COP","[]",{"$error":"#N/A"},{"$error":"#N/A"},{"$error":"#N/A"},{"$error":"#N/A"},{"$error":"#N/A"},{"$error":"#N/A"},{"$f":"J26*((J24+273)/ABS(J24-J25))","v":1.7004807692307693},{"$f":"K26*((K24+273)/ABS(K24-K25))","v":1.6077272727272727},{"$f":"L26*((L24+273)/ABS(L24-L25))","v":1.6605633802816901},{"$f":"M26*((M24+273)/ABS(M24-M25))","v":1.6842857142857144},{"$f":"N26*((N24+273)/ABS(N24-N25))","v":1.6842857142857144},{"$error":"#N/A"},{"$error":"#N/A"},{"$error":"#N/A"},{"$f":"R26*((R25+273)/ABS(R24-R25))","v":1.31},{"$f":"S26*((S25+273)/ABS(S24-S25))","v":1.31},{"$f":"T26*((T25+273)/ABS(T24-T25))","v":1.31},{"$f":"U26*((U25+273)/ABS(U24-U25))","v":1.31},{"$f":"V26*((V25+273)/ABS(V24-V25))","v":1.7685000000000002},{"$error":"#N/A"},{"$error":"#N/A"}]
["A","Wirkungsgrad / COP","[]",0.7,0.8,0.75,0.87,0.85,{"$f":"IF(E5<50,0.7,0.8)","v":0.8},{"$f":"ROUND(J27,2)","v":1.7},{"$f":"ROUND(K27,2)","v":1.61},{"$f":"ROUND(L27,2)","v":1.66},{"$f":"ROUND(M27,2)","v":1.68},{"$f":"ROUND(N27,2)","v":1.68},1,1,1,{"$f":"ROUND(R27,2)","v":1.31},{"$f":"ROUND(S27,2)","v":1.31},{"$f":"ROUND(T27,2)","v":1.31},{"$f":"ROUND(U27,2)","v":1.31},{"$f":"ROUND(V27,2)","v":1.77},0.87,0.95]
["A","Realisierbare Vollbenutzungsstunden","[VBh/a]",1000,1500,1500,8000,7500,7500,7000,7000,7000,7000,7000,null,8000,8000,6000,6000,6000,6000,7000,8000,8000]
[]
["A","Spez. Investition","[€/kW]",{"$f":"2450.4*(IF($E$5<D32,D32,IF($E$5>D33,D33,$E$5)))^-0.134","v":1017.6059604627831},{"$f":"3097.3*(IF($E$5<E32,E32,IF($E$5>E33,E33,$E$5)))^-0.121","v":1383.6932603754976},{"$f":"4186*0.84","v":3516.24},{"$f":"374.09*(IF($E$5<G32,G32,IF($E$5>G33,G33,$E$5)))^-0.307","v":45.179567649151075},{"$f":"1513.7*(IF(E5<H32,H32,IF(E5>H33,H33,E5)))^-0.43","v":132.58702964382397},{"$f":"777.03*(IF(E5<I32,I32,IF(E5>I33,I33,E5)))^-0.295","v":114.9815996604097},{"$f":"2610.2*(IF(E5<J32,J32,IF(E5>J33,J33,E5)))^-0.558","v":142.63499041327324},{"$f":"3468.35*(IF(E5<K32,K32,IF(E5>K33,K33,E5)))^-0.53","v":230.92217008283779},{"$f":"2610.2*(IF(E5<L32,L32,IF(E5>L33,L33,E5)))^-0.558","v":142.63499041327324},null,null,null,{"$f":"231.67*(IF(E5<P32,P32,IF(E5>P33,P33,E5)))^-0.067","v":132.9020803898687},{"$f":"1700.2*(IF(E5<Q32,Q32,IF(E5>Q33,Q33,E5)))^-0.229","v":254.46512739148153},{"$f":"(14740.21*(IF(E5<R32,R32,IF(E5>R33,R33,E5)))^-0.685)+3.29","v":53.53496832647204},{"$f":"850000/1400","v":607.14285714285711},1000,3000,{"$f":"(4991.34*(IF(E5<V32,V32,IF(E5>V33,V33,E5)))^-0.679)+179.63","v":197.51209591622387},{"$f":"374.09*(IF($E$5<W32,W32,IF($E$5>W33,W33,$E$5)))^-0.307","v":45.179567649151075},{"$f":"203.46*$E$5^-0.248","v":26.011665607832981}]
["?","Anwendungsbereich der Regression - Min","[kW]",47,52,{"$error":"#N/A"},49,7,32,6,4.7,6,null,null,null,10,1000,50,null,null,null,10,49]
["?","Anwendungsbereich der Regression - Min","[kW]",705,780,{"$error":"#N/A"},978,288,650,183,166,183,null,null,null,15000,90000,4750,null,null,null,10000,978]
["r","Investition fürs Modul ohne Aufschläge","[€]",{"$f":"$E$5*D31","v":4070423.8418511325},{"$f":"$E$5*E31","v":5534773.0415019905},14064960,180718.2705966043,530348.1185752959,459926.39864163881,{"$f":"$E$5*J31","v":570539.96165309299},923688.68033135124,570539.96165309299,0,0,0,531608.3215594748,1017860.5095659262,214139.87330588815,2428571.4285714286,{"$f":"$E$5*T31","v":4000000},12000000,790048.38366489543,{"$f":"$E$5*W31","v":180718.2705966043},{"$f":"$E$5*X31","v":104046.66243133192}]
[null,"Für WP - zzgl. Bohrung bzw. Brunnen","[€]",{"$error":"#N/A"},{"$error":"#N/A"},{"$error":"#N/A"},{"$error":"#N/A"},{"$error":"#N/A"},{"$error":"#N/A"},{"$f":"E5*1000/40*55","v":5500000},{"$error":"#N/A"},170000,null,null,{"$error":"#N/A"},{"$error":"#N/A"},{"$error":"#N/A"},{"$error":"#N/A"},{"$error":"#N/A"},{"$error":"#N/A"},{"$error":"#N/A"},{"$error":"#N/A"},{"$error":"#N/A"},{"$error":"#N/A"}]
[null,"Investition vor Aufschlag und Peripherie","[€]",{"$f":"D34+IFERROR(D35,0)","v":4070423.8418511325},{"$f":"E34+IFERROR(E35,0)","v":5534773.0415019905},14064960,180718.2705966043,530348.1185752959,459926.39864163881,{"$f":"J34+IFERROR(J35,0)","v":6070539.9616530929},923688.68033135124,740539.96165309299,0,0,0,531608.3215594748,1017860.5095659262,214139.87330588815,2428571.4285714286,{"$f":"T34+IFERROR(T35,0)","v":4000000},12000000,790048.38366489543,{"$f":"W34+IFERROR(W35,0)","v":180718.2705966043},104046.66243133192]
["A","Aufschlag für Peripherie ","[%]",0,0,0,0.5,0.5,0.5,0,0.5,0.5,0.5,0.5,0.5,0.5,0.5,0.5,0.5,0.5,0.5,0.5,0.5,0.5]
[null,"Aufschlag für Ingenieurdienstleistungen ","[%]",0,0,0,0.2,0.2,0.2,0.2,0.2,0.2,0.2,0.2,0.2,0.2,0.2,0.2,0.2,0.2,0.2,0.2,0.2,0.2]
["A","Aufschlag für Unsicherheit ","[%]",0,0,0.5,0.5,0.5,0.5,0.5,0.5,0.5,1,1,null,1,1,1,1,1,1,0.5,0.5,0.5]
["r","Gesamtinvest nach Aufschlägen","[€]",{"$f":"D36+D36*D37+(D36*(1+D37)*D38)+D36*D39","v":4070423.8418511325},{"$f":"E36+E36*E37+(E36*(1+E37)*E38)+E36*E39","v":5534773.0415019905},{"$f":"F36+F36*F37+(F36*(1+F37)*F38)+F36*F39","v":21097440},415652.02237218991,1219800.6727231806,1057830.7168757692,10319917.934810258,2124483.9647621079,1703241.911802114,0,0,0,1488503.3003665295,2850009.4267845931,599591.64525648684,{"$f":"S36+S36*S37+(S36*(1+S37)*S38)+S36*S39","v":6800000},{"$f":"T36+T36*T37+(T36*(1+T37)*T38)+T36*T39","v":11200000},33600000,1817111.2824292595,{"$f":"W36+W36*W37+(W36*(1+W37)*W38)+W36*W39","v":415652.02237218991},239307.32359206342]
["A","Genauigkeit ","[]","1 - Regression Umgesetzter Projekte","1 - Regression Umgesetzter Projekte","2 - Aus einer Studie basierend auf umgesetzten Projekten","2 - Aus einer Studie basierend auf umgesetzten Projekten","2 - Aus einer Studie basierend auf umgesetzten Projekten","2 - Aus einer Studie basierend auf umgesetzten Projekten","2 - Aus einer Studie basierend auf umgesetzten Projekten","2 - Aus einer Studie basierend auf umgesetzten Projekten","2 - Aus einer Studie basierend auf umgesetzten Projekten",null,null,null,"3 - Basierend auf Richtwerten aus der Literatur","3 - Basierend auf Richtwerten aus der Literatur",null,null,null,null,"2 - Aus einer Studie basierend auf umgesetzten Projekten","2 - Aus einer Studie basierend auf umgesetzten Projekten","2 - Aus einer Studie basierend auf umgesetzten Projekten"]
[]
["r","Energiebezugskosten","[€/a]",0,0,0,{"$f":"G68*N5","v":45948.275862068964},{"$f":"H68*N6","v":38465.146824279953},{"$f":"I68*N7","v":19218.75},{"$f":"J68*$N$3","v":75970.588235294112},80217.391304347824,{"$f":"L68*$N$3","v":77801.204819277104},76875.000000000015,76875.000000000015,0,129150,129150,{"$f":"R68*$N$4","v":32862.595419847326},{"$f":"S68*$N$4","v":32862.595419847326},{"$f":"T68*$N$4","v":32862.595419847326},32862.595419847326,{"$f":"V68*$N$3","v":72966.101694915254},{"$f":"W68*$N$8","v":17884.482758620688},{"$f":"X68*$N$8","v":16378.421052631578}]
[null,"Instandhaltungskosten (VDI 2067)","[€/a]",{"$f":"0.005*D40","v":20352.119209255663},{"$f":"0.005*E40","v":27673.865207509953},{"$f":"0.005*F40","v":105487.2},{"$f":"0.01*G40","v":4156.5202237218991},{"$f":"0.03*H40","v":36594.020181695414},{"$f":"0.03*I40","v":31734.921506273076},{"$f":"0.01*J40","v":103199.17934810258},{"$f":"0.01*K40","v":21244.83964762108},{"$f":"0.01*L40","v":17032.419118021142},{"$f":"0.01*M40","v":0},{"$f":"0.01*N40","v":0},null,{"$f":"0.01*P40","v":14885.033003665296},{"$f":"0.01*Q40","v":28500.094267845932},{"$f":"0.015*R40","v":8993.8746788473018},{"$f":"0.015*S40","v":102000},{"$f":"0.015*T40","v":168000},null,{"$f":"0.02*V40","v":36342.22564858519},{"$f":"0.01*W40","v":4156.5202237218991},{"$f":"0.01*X40","v":2393.073235920634}]
["A","Wartungs & Inspektionskosten (VDI 2067)","[€/a]",{"$f":"0.01*D40","v":40704.238418511326},{"$f":"0.01*E40","v":55347.730415019905},{"$f":"0.01*F40","v":210974.4},{"$f":"0.02*G40","v":8313.0404474437983},{"$f":"0.03*H40","v":36594.020181695414},{"$f":"0.03*I40","v":31734.921506273076},{"$f":"0.015*J40","v":154798.76902215387},{"$f":"0.015*K40","v":31867.259471431618},{"$f":"0.015*L40","v":25548.628677031709},{"$f":"0.015*M40","v":0},{"$f":"0.015*N40","v":0},null,{"$f":"0.02*P40","v":29770.066007330592},{"$f":"0.02*Q40","v":57000.188535691865},{"$f":"0.015*R40","v":8993.8746788473018},{"$f":"0.015*S40","v":102000},{"$f":"0.015*T40","v":168000},null,{"$f":"0.015*V40","v":27256.669236438891},{"$f":"0.02*W40","v":8313.0404474437983},{"$f":"0.02*X40","v":4786.1464718412681}]
["A","Sonstige Betriebskosten - Wert (VDI 2067)","[€/a]",{"$f":"5*50","v":250},{"$f":"5*50","v":250},{"$f":"5*50","v":250},{"$f":"20*50","v":1000},{"$f":"15*50","v":750},{"$f":"20*50","v":1000},{"$f":"5*50","v":250},{"$f":"5*50","v":250},{"$f":"5*50","v":250},{"$f":"5*50","v":250},{"$f":"5*50","v":250},null,{"$f":"5*50","v":250},{"$f":"5*50","v":250},0,0,0,null,{"$f":"1*50","v":50},{"$f":"20*50","v":1000},{"$f":"80*50","v":4000}]
["A","Sonstige Betriebskosten - Erklärung","[]","Bedienen und Reinigen","Bedienen und Reinigen","Bedienen und Reinigen","Bedienen und Reinigen","Bedienen und Reinigen","Bedienen und Reinigen","Bedienen und Reinigen","Bedienen und Reinigen","Bedienen und Reinigen","Bedienen und Reinigen","Bedienen und Reinigen",null,"Bedienen und Reinigen","Bedienen und Reinigen","Bedienen und Reinigen","Bedienen und Reinigen","Bedienen und Reinigen",null,"Bedienen und Reinigen","Bedienen und Reinigen","Bedienen und Reinigen"]
["r","Summe Betriebskosten","[€/a]",{"$f":"SUM(D43:D46)","v":61306.357627766993},{"$f":"SUM(E43:E46)","v":83271.595622529858},{"$f":"SUM(F43:F46)","v":316711.59999999998},{"$f":"SUM(G43:G46)","v":59417.836533234658},112403.18718767079,83688.59301254616,{"$f":"SUM(J43:J46)","v":334218.53660555056},133579.49042340051,120632.25261432996,77125.000000000015,77125.000000000015,0,174055.09901099588,214900.28280353779,50850.344777541926,236862.59541984732,368862.59541984729,32862.595419847326,{"$f":"SUM(V43:V46)","v":136614.99657993935},{"$f":"SUM(W43:W46)","v":31354.043429786383},{"$f":"SUM(X43:X46)","v":27557.640760393479}]
[null,"Spez. Betriebskosten","[€/MWh]",{"$f":"D48/D67","v":99.685134354092668},{"$f":"E48/E67","v":135.40096849191846},514.97821138211373,96.614368346723026,182.76941006125332,136.07901302853034,543.44477496837487,217.20242345268375,196.15000425094303,125.40650406504068,125.40650406504068,0,283.01642115609087,349.43135415209395,82.683487443157603,385.14243157698752,{"$f":"T48/T67","v":599.77657791845093},53.435114503816791,222.13820582103961,{"$f":"W48/W67","v":50.982184438677045},{"$f":"X48/X67","v":44.809171968119479}]
["A","Genauigkeit ","[]","3 - Energiekosten zzgl. Mittelwerte aus VDI 2067","3 - Energiekosten zzgl. Mittelwerte aus VDI 2067","3 - Energiekosten zzgl. Mittelwerte aus VDI 2067","3 - Energiekosten zzgl. Mittelwerte aus VDI 2067","3 - Energiekosten zzgl. Mittelwerte aus VDI 2067","3 - Energiekosten zzgl. Mittelwerte aus VDI 2067","3 - Energiekosten zzgl. Mittelwerte aus VDI 2067","3 - Energiekosten zzgl. Mittelwerte aus VDI 2067","3 - Energiekosten zzgl. Mittelwerte aus VDI 2067","3 - Energiekosten zzgl. Mittelwerte aus VDI 2067","3 - Energiekosten zzgl. Mittelwerte aus VDI 2067",null,"3 - Energiekosten zzgl. Mittelwerte aus VDI 2067","3 - Energiekosten zzgl. Mittelwerte aus VDI 2067","3 - Energiekosten zzgl. Mittelwerte aus VDI 2067","3 - Energiekosten zzgl. Mittelwerte aus VDI 2067","3 - Energiekosten zzgl. Mittelwerte aus VDI 2067",null,"3 - Energiekosten zzgl. Mittelwerte aus VDI 2067","3 - Energiekosten zzgl. Mittelwerte aus VDI 2067","3 - Energiekosten zzgl. Mittelwerte aus VDI 2067"]
[]
[null,"Nutzungsdauer (VDI 2067)","[a]",20,18,18,20,15,15,20,18,20,20,20,20,20,20,15,15,15,15,15,20,25]
[null,"Annuität","[€/a]",{"$f":"PMT($E$7,D52,D40)*-1","v":326621.34003280825},{"$f":"PMT($E$7,E52,E40)*-1","v":473478.9250976108},1804806.2926172917,{"$f":"PMT($E$7,G52,G40)*-1","v":33352.993646187628},117518.38723744644,101913.83116713852,828096.91468479123,181741.57756425353,136672.5376146209,0,0,0,119441.35586329304,228692.12992305492,57766.030735400476,{"$f":"PMT($E$7,S52,S40)*-1","v":655127.5557428617},{"$f":"PMT($E$7,T52,T40)*-1","v":1079033.621223537},3237100.8636706108,175064.65778980262,{"$f":"PMT($E$7,W52,W40)*-1","v":33352.993646187628},{"$f":"PMT($E$7,X52,X40)*-1","v":16979.442658558804}]
[null,"Wärmegestehungskosten","[€/MWh]",{"$f":"(D53+D48)/D67","v":630.77674416353705},{"$f":"(E53+E48)/E67","v":905.2853995449442},3449.6225896216129,{"$f":"(G53+G48)/G67","v":150.84687834052403},373.85621857742638,301.79255964176366,1889.9438232363282,512.7171837197626,418.38177273000139,{"$f":"(M53+M48)/M67","v":125.40650406504068},125.40650406504068,0,{"$f":"(P53+P48)/P67","v":477.23000792567308},721.28847597819959,176.6119927039714,{"$f":"(S53+S48)/S67","v":1450.3904896954618},{"$f":"(T53+T48)/T67","v":2354.3027912900557},5317.0137546186315,506.79618596706013,{"$f":"(W53+W48)/W67","v":105.21469443247807},{"$f":"(X53+X48)/X67","v":72.418021819434614}]
[]
["A","Spez. Platzbedarf","[m²/kW]",1.43,1.43,1.4,{"$error":"#N/A"},{"$error":"#N/A"},{"$error":"#N/A"},{"$error":"#N/A"},{"$error":"#N/A"},{"$error":"#N/A"},{"$error":"#N/A"},{"$error":"#N/A"},{"$error":"#N/A"},{"$error":"#N/A"},{"$error":"#N/A"},{"$error":"#N/A"},{"$error":"#N/A"},{"$error":"#N/A"},{"$error":"#N/A"},{"$error":"#N/A"},{"$error":"#N/A"},{"$error":"#N/A"}]
["r","Platzbedarf - Wert","[m²]",{"$f":"ROUND(E5*D56,1)","v":5720},{"$f":"ROUND(E5*E56,1)","v":5720},{"$f":"ROUND(E5*F56,1)","v":5600},{"$f":"ROUND(6.06*2.44,1)","v":14.8},{"$f":"ROUND(6.06*2.44,1)+ROUND(((H68*1000/8760)*7*24)/(4.75*650*4),1)","v":15.9},{"$f":"ROUND(6.06*2.44,1)+ROUND(((I68*1000/8760)*7*24)/(1000*4),1)","v":18.5},{"$f":"ROUND(6.06*2.44,1)","v":14.8},14.8,14.8,14.8,14.8,14.8,14.8,14.8,{"$f":"ROUND(6.06*2.44,1)","v":14.8},14.8,14.8,14.8,14.8,14.8,14.8]
["A","Platzbedarf - Beschreibung (kurz)","[]","Kolektoren","Kolektoren","Parabolrinnen","Kessel","Kessel + Pelletlager","Kessel + Hachschnitzellager","ohne Bohrungen bzw. Brunnen",null,"ohne Bohrungen bzw. Brunnen","ohne Bohrungen bzw. Brunnen","ohne Bohrungen bzw. Brunnen",null,null,null,null,null,null,null,null,"Kessel","Kessel"]
["A","Installation im Gebäude möglich?","[]","Nein","Nein","Nein","Ja","Ja","Ja","Ja","Ja","Ja","Ja","Ja","Ja","Ja","Ja","Ja","Ja","Ja","Ja","Ja","Ja","Ja"]
["A","Installation auf dem Dachfläche möglich?","[]","Ja","Ja","Nein","Nein","Nein","Nein","Nein","Ja","Nein","Nein","Nein","Nein","Nein","Nein","Nein","Nein","Nein","Nein","Nein","Nein","Nein"]
["A","Installation auf Freiflächen möglich?","[]","Ja","Ja","Ja","Ja","Ja","Ja","Ja","Ja","Ja","Ja","Ja","Nein","Nein","Nein","Ja","Ja","Ja","Ja","Ja","Ja","Ja"]
["A","Genauigkeit ","[]","1 - Spez. Flächenbedarf gemäß Erfahrungswerten","1 - Spez. Flächenbedarf gemäß Erfahrungswerten","2 - Aus einer Studie basierend auf umgesetzten Projekten","3 - Vergleich mit 20 Fuß Containerlösung","3 - Vergleich 20 Fuß Containerlösung zzgl. Wochenvorrat","3 - Vergleich 20 Fuß Containerlösung zzgl. Wochenvorrat","3 - Vergleich mit 20 Fuß Containerlösung","3 - Vergleich mit 20 Fuß Containerlösung","3 - Vergleich mit 20 Fuß Containerlösung","3 - Vergleich mit 20 Fuß Containerlösung","3 - Vergleich mit 20 Fuß Containerlösung","3 - Vergleich mit 20 Fuß Containerlösung","3 - Vergleich mit 20 Fuß Containerlösung","3 - Vergleich mit 20 Fuß Containerlösung","3 - Vergleich mit 20 Fuß Containerlösung","3 - Vergleich mit 20 Fuß Containerlösung","3 - Vergleich mit 20 Fuß Containerlösung","3 - Vergleich mit 20 Fuß Containerlösung","3 - Vergleich mit 20 Fuß Containerlösung","3 - Vergleich mit 20 Fuß Containerlösung","3 - Vergleich mit 20 Fuß Containerlösung"]
[]
["A","Technologie Reifegrad (TRL 1 bis 9)","[]",9,9,9,9,9,9,9,9,9,7,6,7,9,9,9,9,9,7,9,9,9]
[]
["r","Max. Bereitstellbare Nutzenergie","[MWh/a]",{"$f":"(1000*D57*D28)/1000","v":4003.9999999999995},{"$f":"(1000*E57*E28)/1000","v":4576},{"$f":"(1000*F57*F28)/1000","v":4200},{"$f":"$E$5*G29/1000","v":32000},{"$f":"$E$5*H29/1000","v":30000},30000,28000,28000,28000,28000,28000,0,32000,32000,24000,{"$f":"$E$5*S29/1000","v":24000},{"$f":"$E$5*T29/1000","v":24000},24000,28000,{"$f":"$E$5*W29/1000","v":32000},{"$f":"$E$5*X29/1000","v":32000}]
["r","Benötigte Nutzenergie (Wärme/\"Kälte\")","[MWh/a]",{"$f":"$E$6","v":615},{"$f":"$E$6","v":615},{"$f":"$E$6","v":615},{"$f":"$E$6","v":615},{"$f":"$E$6","v":615},{"$f":"$E$6","v":615},615,615,615,615,615,615,615,615,615,615,615,615,615,{"$f":"$E$6","v":615},{"$f":"$E$6","v":615}]
["r","Strom- / Brennstroff Inputmenge","[MWh/a]",0,0,0,{"$f":"MIN(G66,G67)/G28","v":706.89655172413791},{"$f":"MIN(H66,H67)/H28","v":723.52941176470586},{"$f":"MIN(I66,I67)/I28","v":768.75},{"$f":"MIN(J66,J67)/J28","v":361.76470588235293},381.98757763975152,{"$f":"MIN(L66,L67)/L28","v":370.48192771084337},{"$f":"MIN(M66,M67)/M28","v":366.07142857142861},{"$f":"MIN(N66,N67)/N28","v":366.07142857142861},0,{"$f":"MIN(P66,P67)/P28","v":615},{"$f":"MIN(Q66,Q67)/Q28","v":615},{"$f":"MIN(R66,R67)/R28","v":469.46564885496178},{"$f":"MIN(S66,S67)/S28","v":469.46564885496178},{"$f":"MIN(T66,T67)/T28","v":469.46564885496178},{"$f":"MIN(U66,U67)/U28","v":469.46564885496178},347.45762711864404,{"$f":"MIN(W66,W67)/W28","v":706.89655172413791},{"$f":"MIN(X66,X67)/X28","v":647.36842105263156}]
["A","Spez. CO2-Emission","[t/MWh]",0,0,0,{"$f":"'01_THG-Bilanz'!J55","v":0.152},{"$f":"'01_THG-Bilanz'!J56","v":2.7E-2},{"$f":"'01_THG-Bilanz'!J56","v":2.7E-2},{"$f":"IF($H$3=TRUE,0,'01_THG-Bilanz'!$J$63)","v":0},{"$f":"IF($H$3=TRUE,0,'01_THG-Bilanz'!$J$63)","v":0},{"$f":"IF($H$3=TRUE,0,'01_THG-Bilanz'!$J$63)","v":0},{"$f":"IF($H$3=TRUE,0,'01_THG-Bilanz'!$J$63)","v":0},{"$f":"IF($H$3=TRUE,0,'01_THG-Bilanz'!$J$63)","v":0},{"$f":"IF($H$3=TRUE,0,'01_THG-Bilanz'!$J$63)","v":0},{"$f":"IF($H$3=TRUE,0,'01_THG-Bilanz'!$J$63)","v":0},{"$f":"IF($H$3=TRUE,0,'01_THG-Bilanz'!$J$63)","v":0},{"$f":"IF($H$8=TRUE,0,'01_THG-Bilanz'!$J$65)","v":0},{"$f":"IF($H$8=TRUE,0,'01_THG-Bilanz'!$J$65)","v":0},{"$f":"IF($H$8=TRUE,0,'01_THG-Bilanz'!$J$65)","v":0},{"$f":"IF($H$8=TRUE,0,'01_THG-Bilanz'!$J$65)","v":0},{"$f":"IF($H$3=TRUE,0,'01_THG-Bilanz'!$J$63)","v":0},{"$f":"'01_THG-Bilanz'!$J$51","v":0.20100000000000001},{"$f":"'01_THG-Bilanz'!$J$51","v":0.20100000000000001}]
["r","CO2-Emission","[t/a]",{"$f":"D68*D69","v":0},{"$f":"E68*E69","v":0},0,{"$f":"G68*G69","v":107.44827586206895},19.535294117647059,20.756250000000001,0,0,0,0,0,0,0,0,0,0,{"$f":"T68*T69","v":0},0,{"$f":"V68*V69","v":0},{"$f":"W68*W69","v":142.08620689655172},{"$f":"X68*X69","v":130.12105263157895}]
[]
[null,"Bewertung"]
[null,"Hilfszeile: Technologie kommt in Frage","[]",{"$f":"D74*D75*D76*D77*D78*D79","v":0},{"$f":"E74*E75*E76*E77*E78*E79","v":1},1,1,1,1,0,0,0,0,0,0,1,1,0,0,{"$f":"T74*T75*T76*T77*T78*T79","v":0},0,0,{"$f":"W74*W75*W76*W77*W78*W79","v":0},0]
[null,"Kriterienerfüllung - Tech. Betrachten?","[]",{"$f":"IF(D14=\"Ja\",1,0)","v":1},{"$f":"IF(E14=\"Ja\",1,0)","v":1},1,1,1,1,1,1,1,0,{"$f":"IF(N14=\"Ja\",1,0)","v":0},0,1,{"$f":"IF(Q14=\"Ja\",1,0)","v":1},1,1,{"$f":"IF(T14=\"Ja\",1,0)","v":1},0,1,{"$f":"IF(W14=\"Ja\",1,0)","v":0},0]
[null,"Kriterienerfüllung - Prozessart","[]",{"$f":"IF(AND($E$3=1,D18=\"Wärme\"),1,IF(AND($E$3=2,D18=\"Kälte\"),1,0))","v":1},1,1,1,1,1,1,1,1,1,1,1,1,1,0,0,{"$f":"IF(AND($E$3=1,T18=\"Wärme\"),1,IF(AND($E$3=2,T18=\"Kälte\"),1,0))","v":0},0,0,{"$f":"IF(AND($E$3=1,W18=\"Wärme\"),1,IF(AND($E$3=2,W18=\"Kälte\"),1,0))","v":1},1]
[null,"Kriterienerfüllung - Temperaturniveau","[]",{"$f":"IF(AND($E$4>=D19,$E$4<=D20),1,0)","v":0},1,1,1,1,1,0,0,0,1,1,1,1,1,0,0,{"$f":"IF(AND($E$4>=T19,$E$4<=T20),1,0)","v":0},0,0,{"$f":"IF(AND($E$4>=W19,$E$4<=W20),1,0)","v":1},1]
[null,"Kriterienerfüllung - Platz vorhanden","[]",{"$f":"IF(OR(AND(D59=\"Ja\",$H$4=TRUE),AND(D60=\"Ja\",$H$5=TRUE),AND(D61=\"Ja\",$H$6=TRUE)),1,0)","v":1},1,1,1,1,1,1,1,1,1,1,1,1,1,1,1,{"$f":"IF(OR(AND(T59=\"Ja\",$H$4=TRUE),AND(T60=\"Ja\",$H$5=TRUE),AND(T61=\"Ja\",$H$6=TRUE)),1,0)","v":1},1,1,{"$f":"IF(OR(AND(W59=\"Ja\",$H$4=TRUE),AND(W60=\"Ja\",$H$5=TRUE),AND(W61=\"Ja\",$H$6=TRUE)),1,0)","v":1},1]
[null,"Kriterienerfüllung - Marktreife","[]",{"$f":"IF(AND($H$7=TRUE,D64<9),0,1)","v":1},{"$f":"IF(AND($H$7=TRUE,E64<9),0,1)","v":1},1,1,1,1,1,1,1,0,0,0,1,1,1,1,{"$f":"IF(AND($H$7=TRUE,T64<9),0,1)","v":1},0,1,{"$f":"IF(AND($H$7=TRUE,W64<9),0,1)","v":1},1]
[null,"Kriterienerfüllung - Kapazität (Bereitstellung)","[]",{"$f":"IF(D66<D67,0,1)","v":1},{"$f":"IF(E66<E67,0,1)","v":1},1,1,1,1,1,1,1,1,{"$f":"IF(N66<N67,0,1)","v":1},0,1,1,1,1,{"$f":"IF(T66<T67,0,1)","v":1},1,1,{"$f":"IF(W66<W67,0,1)","v":1},1]
[]
[null,"Gewichtungsrelation - Investition","[]",{"$f":"IF(D73=0,0,1-(D40/MAX(IF($D$73:$V$73=1,$D$40:$V$40,0))))","v":0},{"$f":"IF(E73=0,0,1-(E40/MAX(IF($D$73:$V$73=1,$D$40:$V$40,0))))","v":0.73765665211030385},{"$f":"IF(F73=0,0,1-(F40/MAX(IF($D$73:$V$73=1,$D$40:$V$40,0))))","v":0},{"$f":"IF(G73=0,0,1-(G40/MAX(IF($D$73:$V$73=1,$D$40:$V$40,0))))","v":0.98029846169145685},{"$f":"IF(H73=0,0,1-(H40/MAX(IF($D$73:$V$73=1,$D$40:$V$40,0))))","v":0.94218252675570213},{"$f":"IF(I73=0,0,1-(I40/MAX(IF($D$73:$V$73=1,$D$40:$V$40,0))))","v":0.94985975943641654},{"$f":"IF(J73=0,0,1-(J40/MAX(IF($D$73:$V$73=1,$D$40:$V$40,0))))","v":0},{"$f":"IF(K73=0,0,1-(K40/MAX(IF($D$73:$V$73=1,$D$40:$V$40,0))))","v":0},{"$f":"IF(L73=0,0,1-(L40/MAX(IF($D$73:$V$73=1,$D$40:$V$40,0))))","v":0},{"$f":"IF(M73=0,0,1-(M40/MAX(IF($D$73:$V$73=1,$D$40:$V$40,0))))","v":0},{"$f":"IF(N73=0,0,1-(N40/MAX(IF($D$73:$V$73=1,$D$40:$V$40,0))))","v":0},{"$f":"IF(O73=0,0,1-(O40/MAX(IF($D$73:$V$73=1,$D$40:$V$40,0))))","v":0},{"$f":"IF(P73=0,0,1-(P40/MAX(IF($D$73:$V$73=1,$D$40:$V$40,0))))","v":0.92944625981320339},{"$f":"IF(Q73=0,0,1-(Q40/MAX(IF($D$73:$V$73=1,$D$40:$V$40,0))))","v":0.86491207337076947},{"$f":"IF(R73=0,0,1-(R40/MAX(IF($D$73:$V$73=1,$D$40:$V$40,0))))","v":0},{"$f":"IF(S73=0,0,1-(S40/MAX(IF($D$73:$V$73=1,$D$40:$V$40,0))))","v":0},{"$f":"IF(T73=0,0,1-(T40/MAX(IF($D$73:$V$73=1,$D$40:$V$40,0))))","v":0},{"$f":"IF(U73=0,0,1-(U40/MAX(IF($D$73:$V$73=1,$D$40:$V$40,0))))","v":0},{"$f":"IF(V73=0,0,1-(V40/MAX(IF($D$73:$V$73=1,$D$40:$V$40,0))))","v":0},{"$f":"IF(W73=0,0,1-(W40/MAX(IF($D$73:$V$73=1,$D$40:$V$40,0))))","v":0},{"$f":"IF(X73=0,0,1-(X40/MAX(IF($D$73:$V$73=1,$D$40:$V$40,0))))","v":0}]
[null,"Gewichtungsrelation - Betriebskosten","[]",{"$f":"IF(D73=0,0,1-(D48/MAX(IF($D$73:$V$73=1,$D$48:$V$48,0))))","v":0},{"$f":"IF(E73=0,0,1-(E48/MAX(IF($D$73:$V$73=1,$D$48:$V$48,0))))","v":0.73707437421764821},{"$f":"IF(F73=0,0,1-(F48/MAX(IF($D$73:$V$73=1,$D$48:$V$48,0))))","v":0},{"$f":"IF(G73=0,0,1-(G48/MAX(IF($D$73:$V$73=1,$D$48:$V$48,0))))","v":0.81239134741754115},{"$f":"IF(H73=0,0,1-(H48/MAX(IF($D$73:$V$73=1,$D$48:$V$48,0))))","v":0.64509292622161363},{"$f":"IF(I73=0,0,1-(I48/MAX(IF($D$73:$V$73=1,$D$48:$V$48,0))))","v":0.73575772717972387},{"$f":"IF(J73=0,0,1-(J48/MAX(IF($D$73:$V$73=1,$D$48:$V$48,0))))","v":0},{"$f":"IF(K73=0,0,1-(K48/MAX(IF($D$73:$V$73=1,$D$48:$V$48,0))))","v":0},{"$f":"IF(L73=0,0,1-(L48/MAX(IF($D$73:$V$73=1,$D$48:$V$48,0))))","v":0},{"$f":"IF(M73=0,0,1-(M48/MAX(IF($D$73:$V$73=1,$D$48:$V$48,0))))","v":0},{"$f":"IF(N73=0,0,1-(N48/MAX(IF($D$73:$V$73=1,$D$48:$V$48,0))))","v":0},{"$f":"IF(O73=0,0,1-(O48/MAX(IF($D$73:$V$73=1,$D$48:$V$48,0))))","v":0},{"$f":"IF(P73=0,0,1-(P48/MAX(IF($D$73:$V$73=1,$D$48:$V$48,0))))","v":0.45043029996060802},{"$f":"IF(Q73=0,0,1-(Q48/MAX(IF($D$73:$V$73=1,$D$48:$V$48,0))))","v":0.32146380870312985},{"$f":"IF(R73=0,0,1-(R48/MAX(IF($D$73:$V$73=1,$D$48:$V$48,0))))","v":0},{"$f":"IF(S73=0,0,1-(S48/MAX(IF($D$73:$V$73=1,$D$48:$V$48,0))))","v":0},{"$f":"IF(T73=0,0,1-(T48/MAX(IF($D$73:$V$73=1,$D$48:$V$48,0))))","v":0},{"$f":"IF(U73=0,0,1-(U48/MAX(IF($D$73:$V$73=1,$D$48:$V$48,0))))","v":0},{"$f":"IF(V73=0,0,1-(V48/MAX(IF($D$73:$V$73=1,$D$48:$V$48,0))))","v":0},{"$f":"IF(W73=0,0,1-(W48/MAX(IF($D$73:$V$73=1,$D$48:$V$48,0))))","v":0},{"$f":"IF(X73=0,0,1-(X48/MAX(IF($D$73:$V$73=1,$D$48:$V$48,0))))","v":0}]
[null,"Gewichtungsrelation - Platzbedarf","[]",{"$f":"IF(D73=0,0,1-(D57/MAX(IF($D$73:$V$73=1,$D$57:$V$57,0))))","v":0},{"$f":"IF(E73=0,0,1-(E57/MAX(IF($D$73:$V$73=1,$D$57:$V$57,0))))","v":0},{"$f":"IF(F73=0,0,1-(F57/MAX(IF($D$73:$V$73=1,$D$57:$V$57,0))))","v":2.0979020979020935E-2},{"$f":"IF(G73=0,0,1-(G57/MAX(IF($D$73:$V$73=1,$D$57:$V$57,0))))","v":0.99741258741258743},{"$f":"IF(H73=0,0,1-(H57/MAX(IF($D$73:$V$73=1,$D$57:$V$57,0))))","v":0.99722027972027971},{"$f":"IF(I73=0,0,1-(I57/MAX(IF($D$73:$V$73=1,$D$57:$V$57,0))))","v":0.99676573426573423},{"$f":"IF(J73=0,0,1-(J57/MAX(IF($D$73:$V$73=1,$D$57:$V$57,0))))","v":0},{"$f":"IF(K73=0,0,1-(K57/MAX(IF($D$73:$V$73=1,$D$57:$V$57,0))))","v":0},{"$f":"IF(L73=0,0,1-(L57/MAX(IF($D$73:$V$73=1,$D$57:$V$57,0))))","v":0},{"$f":"IF(M73=0,0,1-(M57/MAX(IF($D$73:$V$73=1,$D$57:$V$57,0))))","v":0},{"$f":"IF(N73=0,0,1-(N57/MAX(IF($D$73:$V$73=1,$D$57:$V$57,0))))","v":0},{"$f":"IF(O73=0,0,1-(O57/MAX(IF($D$73:$V$73=1,$D$57:$V$57,0))))","v":0},{"$f":"IF(P73=0,0,1-(P57/MAX(IF($D$73:$V$73=1,$D$57:$V$57,0))))","v":0.99741258741258743},{"$f":"IF(Q73=0,0,1-(Q57/MAX(IF($D$73:$V$73=1,$D$57:$V$57,0))))","v":0.99741258741258743},{"$f":"IF(R73=0,0,1-(R57/MAX(IF($D$73:$V$73=1,$D$57:$V$57,0))))","v":0},{"$f":"IF(S73=0,0,1-(S57/MAX(IF($D$73:$V$73=1,$D$57:$V$57,0))))","v":0},{"$f":"IF(T73=0,0,1-(T57/MAX(IF($D$73:$V$73=1,$D$57:$V$57,0))))","v":0},{"$f":"IF(U73=0,0,1-(U57/MAX(IF($D$73:$V$73=1,$D$57:$V$57,0))))","v":0},{"$f":"IF(V73=0,0,1-(V57/MAX(IF($D$73:$V$73=1,$D$57:$V$57,0))))","v":0},{"$f":"IF(W73=0,0,1-(W57/MAX(IF($D$73:$V$73=1,$D$57:$V$57,0))))","v":0},{"$f":"IF(X73=0,0,1-(X57/MAX(IF($D$73:$V$73=1,$D$57:$V$57,0))))","v":0}]
[null,"Gewichtungsrelation - CO2-Emission","[]",{"$f":"IFERROR(IF(D73=0,0,1-(D70/MAX(IF($D$73:$V$73=1,$D$70:$V$70,0)))),0)","v":0},{"$f":"IFERROR(IF(E73=0,0,1-(E70/MAX(IF($D$73:$V$73=1,$D$70:$V$70,0)))),0)","v":1},{"$f":"IFERROR(IF(F73=0,0,1-(F70/MAX(IF($D$73:$V$73=1,$D$70:$V$70,0)))),0)","v":1},{"$f":"IFERROR(IF(G73=0,0,1-(G70/MAX(IF($D$73:$V$73=1,$D$70:$V$70,0)))),0)","v":0},{"$f":"IFERROR(IF(H73=0,0,1-(H70/MAX(IF($D$73:$V$73=1,$D$70:$V$70,0)))),0)","v":0.81818885448916401},{"$f":"IFERROR(IF(I73=0,0,1-(I70/MAX(IF($D$73:$V$73=1,$D$70:$V$70,0)))),0)","v":0.80682565789473681},{"$f":"IFERROR(IF(J73=0,0,1-(J70/MAX(IF($D$73:$V$73=1,$D$70:$V$70,0)))),0)","v":0},{"$f":"IFERROR(IF(K73=0,0,1-(K70/MAX(IF($D$73:$V$73=1,$D$70:$V$70,0)))),0)","v":0},{"$f":"IFERROR(IF(L73=0,0,1-(L70/MAX(IF($D$73:$V$73=1,$D$70:$V$70,0)))),0)","v":0},{"$f":"IFERROR(IF(M73=0,0,1-(M70/MAX(IF($D$73:$V$73=1,$D$70:$V$70,0)))),0)","v":0},{"$f":"IFERROR(IF(N73=0,0,1-(N70/MAX(IF($D$73:$V$73=1,$D$70:$V$70,0)))),0)","v":0},{"$f":"IFERROR(IF(O73=0,0,1-(O70/MAX(IF($D$73:$V$73=1,$D$70:$V$70,0)))),0)","v":0},{"$f":"IFERROR(IF(P73=0,0,1-(P70/MAX(IF($D$73:$V$73=1,$D$70:$V$70,0)))),0)","v":1},{"$f":"IFERROR(IF(Q73=0,0,1-(Q70/MAX(IF($D$73:$V$73=1,$D$70:$V$70,0)))),0)","v":1},{"$f":"IFERROR(IF(R73=0,0,1-(R70/MAX(IF($D$73:$V$73=1,$D$70:$V$70,0)))),0)","v":0},{"$f":"IFERROR(IF(S73=0,0,1-(S70/MAX(IF($D$73:$V$73=1,$D$70:$V$70,0)))),0)","v":0},{"$f":"IFERROR(IF(T73=0,0,1-(T70/MAX(IF($D$73:$V$73=1,$D$70:$V$70,0)))),0)","v":0},{"$f":"IFERROR(IF(U73=0,0,1-(U70/MAX(IF($D$73:$V$73=1,$D$70:$V$70,0)))),0)","v":0},{"$f":"IFERROR(IF(V73=0,0,1-(V70/MAX(IF($D$73:$V$73=1,$D$70:$V$70,0)))),0)","v":0},{"$f":"IFERROR(IF(W73=0,0,1-(W70/MAX(IF($D$73:$V$73=1,$D$70:$V$70,0)))),0)","v":0},{"$f":"IFERROR(IF(X73=0,0,1-(X70/MAX(IF($D$73:$V$73=1,$D$70:$V$70,0)))),0)","v":0}]
[]
[null,"Gewichtungsscore","[]",{"$f":"IFERROR((D81*$K$3+D82*$K$4+D83*$K$5+D84*$K$6+((1/(10^10))*SUM($K$3:$K$6)))*D73,0)","v":0},{"$f":"(E81*$K$3+E82*$K$4+E83*$K$5+E84*$K$6+((2/(10^10))*SUM($K$3:$K$6)))*E73","v":12.37365513463976},{"$f":"(F81*$K$3+F82*$K$4+F83*$K$5+F84*$K$6+((3/(10^10))*SUM($K$3:$K$6)))*F73","v":5.0000000045000004},{"$f":"(G81*$K$3+G82*$K$4+G83*$K$5+G84*$K$6+((4/(10^10))*SUM($K$3:$K$6)))*G73","v":8.9634490515449912},{"$f":"(H81*$K$3+H82*$K$4+H83*$K$5+H84*$K$6+((5/(10^10))*SUM($K$3:$K$6)))*H73","v":12.027321544832398},{"$f":"(I81*$K$3+I82*$K$4+I83*$K$5+I84*$K$6+((6/(10^10))*SUM($K$3:$K$6)))*I73","v":12.462215731554387},{"$f":"(J81*$K$3+J82*$K$4+J83*$K$5+J84*$K$6+((7/(10^10))*SUM($K$3:$K$6)))*J73","v":0},{"$f":"(K81*$K$3+K82*$K$4+K83*$K$5+K84*$K$6+((8/(10^10))*SUM($K$3:$K$6)))*K73","v":0},{"$f":"(L81*$K$3+L82*$K$4+L83*$K$5+L84*$K$6+((9/(10^10))*SUM($K$3:$K$6)))*L73","v":0},{"$f":"(M81*$K$3+M82*$K$4+M83*$K$5+M84*$K$6+((10/(10^10))*SUM($K$3:$K$6)))*M73","v":0},{"$f":"(N81*$K$3+N82*$K$4+N83*$K$5+N84*$K$6+((11/(10^10))*SUM($K$3:$K$6)))*N73","v":0},{"$f":"(O81*$K$3+O82*$K$4+O83*$K$5+O84*$K$6+((12/(10^10))*SUM($K$3:$K$6)))*O73","v":0},{"$f":"(P81*$K$3+P82*$K$4+P83*$K$5+P84*$K$6+((13/(10^10))*SUM($K$3:$K$6)))*P73","v":11.899382818369057},{"$f":"(Q81*$K$3+Q82*$K$4+Q83*$K$5+Q84*$K$6+((14/(10^10))*SUM($K$3:$K$6)))*Q73","v":10.931879431369497},{"$f":"IFERROR((R81*$K$3+R82*$K$4+R83*$K$5+R84*$K$6+((15/(10^10))*SUM($K$3:$K$6)))*R73,0)","v":0},{"$f":"IFERROR((S81*$K$3+S82*$K$4+S83*$K$5+S84*$K$6+((16/(10^10))*SUM($K$3:$K$6)))*S73,0)","v":0},{"$f":"IFERROR((T81*$K$3+T82*$K$4+T83*$K$5+T84*$K$6+((17/(10^10))*SUM($K$3:$K$6)))*T73,0)","v":0},{"$f":"IFERROR((U81*$K$3+U82*$K$4+U83*$K$5+U84*$K$6+((18/(10^10))*SUM($K$3:$K$6)))*U73,0)","v":0},{"$f":"IFERROR((V81*$K$3+V82*$K$4+V83*$K$5+V84*$K$6+((19/(10^10))*SUM($K$3:$K$6)))*V73,0)","v":0},{"$f":"(W81*$K$3+W82*$K$4+W83*$K$5+W84*$K$6+((4/(10^10))*SUM($K$3:$K$6)))*W73","v":0},{"$f":"(X81*$K$3+X82*$K$4+X83*$K$5+X84*$K$6+((4/(10^10))*SUM($K$3:$K$6)))*X73","v":0}]
[]
[null,"Zusammenfassung"]
[null,"Technologie",null,{"$f":"D11","v":"Flachkollektor"},"Vakuumröhrenkollektor","Konzentrierende Solarthermie","Biogas BW-Kessel","Holzpelletkessel","Holzhackschnitzelkessel","Sole/Wasser-Wärmepumpe","Luft-Wasser-Wärmepumpe","Wasser/Wasser-Wärmepumpe","Hochtemperaturwärmepumpe","Höchsttemperaturwärmepumpe","Mikrowelle","Elektrokessel","Elektrodenkessel","Absorptionskälteanlagen - Wasser","Absorptionskälteanlagen - Ammoniak",{"$f":"T11","v":"Absorptionskälteanlagen - Ammoniak"},"Adsorptionsanlagen","Kompressionskälte",{"$f":"W11","v":"Erdgas BW-Kessel"},"Erdgas Dampferzeuger"]
[null,"Einsatzbereich ",null,{"$f":"CONCATENATE(D18,\" | \",D19,\"°C bis \",D20,\"°C\")","v":"Wärme | 20°C bis 80°C"},{"$f":"CONCATENATE(E18,\" | \",E19,\"°C bis \",E20,\"°C\")","v":"Wärme | 20°C bis 120°C"},"Wärme | 100°C bis 400°C","Wärme | 20°C bis 500°C","Wärme | 20°C bis 500°C","Wärme | 20°C bis 500°C","Wärme | 20°C bis 80°C","Wärme | 20°C bis 80°C","Wärme | 20°C bis 80°C","Wärme | 80°C bis 120°C","Wärme | 120°C bis 160°C","Wärme | 20°C bis 150°C","Wärme | 20°C bis 160°C","Wärme | 20°C bis 240°C","Kälte | 4°C bis 20°C","Kälte | -33°C bis 20°C",{"$f":"CONCATENATE(T18,\" | \",T19,\"°C bis \",T20,\"°C\")","v":"Kälte | -60°C bis -34°C"},"Kälte | -60°C bis 20°C","Kälte | -33°C bis 20°C",{"$f":"CONCATENATE(W18,\" | \",W19,\"°C bis \",W20,\"°C\")","v":"Wärme | 20°C bis 500°C"},"Wärme | 20°C bis 250°C"]
[null,"Energiequelle",null,{"$f":"D22","v":"Solarstrahlung"},"Solarstrahlung","Solarstrahlung","Biomethan","Holzpellets","Holzhackschnitzel","Strom | Geothermie","Strom | Umgebungsluft","Strom | Grundwasser",0,0,"Strom","Strom","Strom",{"$f":"R22","v":"Wärme"},"Wärme",{"$f":"T22","v":"Wärme"},"Wärme","Strom",{"$f":"W22","v":"Erdgas"},"Erdgas"]
[null,"Realisierbare VBh/a",null,{"$f":"D29","v":1000},{"$f":"E29","v":1500},1500,8000,7500,7500,7000,7000,7000,7000,7000,0,8000,8000,6000,6000,6000,6000,7000,{"$f":"W29","v":8000},8000]
[null,"Nutzungsdauer",null,{"$f":"CONCATENATE(D52,\" Jahre\")","v":"20 Jahre"},{"$f":"CONCATENATE(E52,\" Jahre\")","v":"18 Jahre"},"18 Jahre","20 Jahre","15 Jahre","15 Jahre","20 Jahre","18 Jahre","20 Jahre","20 Jahre","20 Jahre","20 Jahre","20 Jahre","20 Jahre","15 Jahre","15 Jahre",{"$f":"CONCATENATE(T52,\" Jahre\")","v":"15 Jahre"},"15 Jahre","15 Jahre",{"$f":"CONCATENATE(W52,\" Jahre\")","v":"20 Jahre"},"25 Jahre"]
[]
[null,"Spez. Investiton",null,{"$f":"ROUND(D40/$E$5,0)","v":1018},{"$f":"ROUND(E40/$E$5,0)","v":1384},5274,104,305,264,2580,531,426,0,0,0,372,713,150,1700,2800,8400,454,{"$f":"ROUND(W40/$E$5,0)","v":104},60]
[null,"Gesamtinvestition",null,{"$f":"D40","v":4070423.8418511325},5534773.0415019905,21097440,415652.02237218991,1219800.6727231806,1057830.7168757692,10319917.934810258,2124483.9647621079,1703241.911802114,0,0,0,1488503.3003665295,2850009.4267845931,599591.64525648684,6800000,{"$f":"T40","v":11200000},33600000,1817111.2824292595,{"$f":"W40","v":415652.02237218991},239307.32359206342]
[null,"Genauigkeit",null,{"$f":"D41","v":"1 - Regression Umgesetzter Projekte"},"1 - Regression Umgesetzter Projekte","2 - Aus einer Studie basierend auf umgesetzten Projekten","2 - Aus einer Studie basierend auf umgesetzten Projekten","2 - Aus einer Studie basierend auf umgesetzten Projekten","2 - Aus einer Studie basierend auf umgesetzten Projekten","2 - Aus einer Studie basierend auf umgesetzten Projekten","2 - Aus einer Studie basierend auf umgesetzten Projekten","2 - Aus einer Studie basierend auf umgesetzten Projekten",0,0,0,"3 - Basierend auf Richtwerten aus der Literatur","3 - Basierend auf Richtwerten aus der Literatur",0,0,{"$f":"T41","v":0},0,"2 - Aus einer Studie basierend auf umgesetzten Projekten",{"$f":"W41","v":"2 - Aus einer Studie basierend auf umgesetzten Projekten"},"2 - Aus einer Studie basierend auf umgesetzten Projekten"]
[]
[null,"Wirkungsgrad / COP",null,{"$f":"D28","v":0.7},0.8,0.75,0.87,0.85,0.8,1.7,1.61,1.66,1.68,1.68,1,1,1,1.31,1.31,{"$f":"T28","v":1.31},1.31,1.77,{"$f":"W28","v":0.87},0.95]
[null,"Endenergiebezug [MWh/a]",null,{"$f":"ROUND(D68,1)","v":0},{"$f":"ROUND(E68,1)","v":0},0,706.9,723.5,768.8,361.8,382,370.5,366.1,366.1,0,615,615,469.5,469.5,469.5,469.5,347.5,{"$f":"ROUND(W68,1)","v":706.9},647.4]
[null,"Betriebs- und Warungskosten [€/a]",null,{"$f":"ROUND(D48,0)","v":61306},{"$f":"ROUND(E48,0)","v":83272},316712,59418,112403,83689,334219,133579,120632,77125,77125,0,174055,214900,50850,236863,368863,32863,136615,{"$f":"ROUND(W48,0)","v":31354},27558]
[null,"Spez. Betriebskosten [ct/kWh]",null,{"$f":"ROUND(D49/10,3)","v":9.9689999999999994},{"$f":"ROUND(E49/10,3)","v":13.54},51.497999999999998,9.6609999999999996,18.277000000000001,13.608000000000001,54.344000000000001,21.72,19.614999999999998,12.541,12.541,0,28.302,34.942999999999998,8.2680000000000007,38.514000000000003,59.978000000000002,5.3440000000000003,22.213999999999999,{"$f":"ROUND(W49/10,3)","v":5.0979999999999999},4.4809999999999999]
[null,"Genauigkeit",null,{"$f":"D50","v":"3 - Energiekosten zzgl. Mittelwerte aus VDI 2067"},"3 - Energiekosten zzgl. Mittelwerte aus VDI 2067","3 - Energiekosten zzgl. Mittelwerte aus VDI 2067","3 - Energiekosten zzgl. Mittelwerte aus VDI 2067","3 - Energiekosten zzgl. Mittelwerte aus VDI 2067","3 - Energiekosten zzgl. Mittelwerte aus VDI 2067","3 - Energiekosten zzgl. Mittelwerte aus VDI 2067","3 - Energiekosten zzgl. Mittelwerte aus VDI 2067","3 - Energiekosten zzgl. Mittelwerte aus VDI 2067","3 - Energiekosten zzgl. Mittelwerte aus VDI 2067","3 - Energiekosten zzgl. Mittelwerte aus VDI 2067",0,"3 - Energiekosten zzgl. Mittelwerte aus VDI 2067","3 - Energiekosten zzgl. Mittelwerte aus VDI 2067","3 - Energiekosten zzgl. Mittelwerte aus VDI 2067","3 - Energiekosten zzgl. Mittelwerte aus VDI 2067",{"$f":"T50","v":"3 - Energiekosten zzgl. Mittelwerte aus VDI 2067"},0,"3 - Energiekosten zzgl. Mittelwerte aus VDI 2067",{"$f":"W50","v":"3 - Energiekosten zzgl. Mittelwerte aus VDI 2067"},"3 - Energiekosten zzgl. Mittelwerte aus VDI 2067"]
[]
[null,"Wärmegestehungskosten [ct/kWh]",null,{"$f":"ROUND(D54/10,3)","v":63.078000000000003},{"$f":"ROUND(E54/10,3)","v":90.528999999999996},344.96199999999999,15.085000000000001,37.386000000000003,30.178999999999998,188.994,51.271999999999998,41.838000000000001,12.541,12.541,0,47.722999999999999,72.129000000000005,17.661000000000001,145.03899999999999,235.43,531.70100000000002,50.68,{"$f":"ROUND(W54/10,3)","v":10.521000000000001},7.242]
[]
[null,"CO2-Emission",null,{"$f":"ROUND(D70,3)","v":0},{"$f":"ROUND(E70,3)","v":0},0,107.44799999999999,19.535,20.756,0,0,0,0,0,0,0,0,0,0,0,0,0,{"$f":"ROUND(W70,3)","v":142.08600000000001},130.12100000000001]
[]
[null,"Platzbedarf",null,{"$f":"CONCATENATE(D57,\" m²\",\" | \",D58)","v":"5720 m² | Kolektoren"},{"$f":"CONCATENATE(E57,\" m²\",\" | \",E58)","v":"5720 m² | Kolektoren"},"5600 m² | Parabolrinnen","14,8 m² | Kessel",{"$f":"CONCATENATE(H57,\" m²\",IF(H58=\"\",\"\",\" | \"),H58)","v":"15,9 m² | Kessel + Pelletlager"},"18,5 m² | Kessel + Hachschnitzellager","14,8 m² | ohne Bohrungen bzw. Brunnen",{"$f":"CONCATENATE(K57,\" m²\",IF(K58=\"\",\"\",\" | \"),K58)","v":"14,8 m²"},{"$f":"CONCATENATE(L57,\" m²\",IF(L58=\"\",\"\",\" | \"),L58)","v":"14,8 m² | ohne Bohrungen bzw. Brunnen"},"14,8 m² | ohne Bohrungen bzw. Brunnen","14,8 m² | ohne Bohrungen bzw. Brunnen","14,8 m²","14,8 m²","14,8 m²","14,8 m²","14,8 m²",{"$f":"CONCATENATE(T57,\" m²\",IF(T58=\"\",\"\",\" | \"),T58)","v":"14,8 m²"},"14,8 m²","14,8 m²",{"$f":"CONCATENATE(W57,\" m²\",\" | \",W58)","v":"14,8 m² | Kessel"},"14,8 m² | Kessel"]
[null,"Flächenart",null,{"$f":"CONCATENATE(IF(D59=\"Ja\",\"Im Gebäude\",\"\"),IF(AND(D59=\"Ja\",D60=\"Ja\"),\" | \",\"\"),IF(D60=\"Ja\",\"Dachfläche\",\"\"),IF(OR(AND(D59=\"Ja\",D61=\"Ja\"),AND(D60=\"Ja\",D61=\"Ja\")),\" | \",\"\"),IF(D61=\"Ja\",\"Freifläche\",\"\"))","v":"Dachfläche | Freifläche"},"Dachfläche | Freifläche","Freifläche","Im Gebäude | Freifläche","Im Gebäude | Freifläche","Im Gebäude | Freifläche","Im Gebäude | Freifläche","Im Gebäude | Dachfläche | Freifläche","Im Gebäude | Freifläche","Im Gebäude | Freifläche","Im Gebäude | Freifläche","Im Gebäude","Im Gebäude","Im Gebäude","Im Gebäude | Freifläche","Im Gebäude | Freifläche",{"$f":"CONCATENATE(IF(T59=\"Ja\",\"Im Gebäude\",\"\"),IF(AND(T59=\"Ja\",T60=\"Ja\"),\" | \",\"\"),IF(T60=\"Ja\",\"Dachfläche\",\"\"),IF(OR(AND(T59=\"Ja\",T61=\"Ja\"),AND(T60=\"Ja\",T61=\"Ja\")),\" | \",\"\"),IF(T61=\"Ja\",\"Freifläche\",\"\"))","v":"Im Gebäude | Freifläche"},"Im Gebäude | Freifläche","Im Gebäude | Freifläche",{"$f":"CONCATENATE(IF(W59=\"Ja\",\"Im Gebäude\",\"\"),IF(AND(W59=\"Ja\",W60=\"Ja\"),\" | \",\"\"),IF(W60=\"Ja\",\"Dachfläche\",\"\"),IF(OR(AND(W59=\"Ja\",W61=\"Ja\"),AND(W60=\"Ja\",W61=\"Ja\")),\" | \",\"\"),IF(W61=\"Ja\",\"Freifläche\",\"\"))","v":"Im Gebäude | Freifläche"},"Im Gebäude | Freifläche"]
[null,"Genauigkeit",null,{"$f":"D62","v":"1 - Spez. Flächenbedarf gemäß Erfahrungswerten"},{"$f":"E62","v":"1 - Spez. Flächenbedarf gemäß Erfahrungswerten"},"2 - Aus einer Studie basierend auf umgesetzten Projekten","3 - Vergleich mit 20 Fuß Containerlösung","3 - Vergleich 20 Fuß Containerlösung zzgl. Wochenvorrat","3 - Vergleich 20 Fuß Containerlösung zzgl. Wochenvorrat","3 - Vergleich mit 20 Fuß Containerlösung","3 - Vergleich mit 20 Fuß Containerlösung","3 - Vergleich mit 20 Fuß Containerlösung",{"$f":"M62","v":"3 - Vergleich mit 20 Fuß Containerlösung"},"3 - Vergleich mit 20 Fuß Containerlösung","3 - Vergleich mit 20 Fuß Containerlösung","3 - Vergleich mit 20 Fuß Containerlösung","3 - Vergleich mit 20 Fuß Containerlösung","3 - Vergleich mit 20 Fuß Containerlösung","3 - Vergleich mit 20 Fuß Containerlösung",{"$f":"T62","v":"3 - Vergleich mit 20 Fuß Containerlösung"},"3 - Vergleich mit 20 Fuß Containerlösung","3 - Vergleich mit 20 Fuß Containerlösung",{"$f":"W62","v":"3 - Vergleich mit 20 Fuß Containerlösung"},"3 - Vergleich mit 20 Fuß Containerlösung"]